{"text_format":"1","workbook":"xlsx","n_sheets":13,"sheets":["Start","Nutzungsbed._terms of use","Basismaterial","Einbauten","Basis","WT","Sprache","Einbauten_Installations","Information","Wandtypen_Walltypes","Preise_Prices","Übersicht_Summary","Bestellung_Order"],"not_rendered":{"charts":0,"images":25,"macros":1,"external_links":0,"defined_names":165,"comments":5,"pivot_tables":0},"unopened":[],"bounds":{"document_bytes":16777216,"sheet_cells":100000,"rows_first":2000,"rows_last":500,"rows_between":2000,"halvings":0,"cell_chars":16384,"cell_head_chars":4096},"cells_cut":0,"cells_raw":0,"read":"whole","date_system":"1900"}

{"sheet":"Start","index":0,"n_rows":43,"n_cols":11,"rows_kept":43,"cut":false,"hidden":false,"merged":[]}
[]
[]
[null,null,null,null,null,null,null,null,"Bitte die Sprache auswählen"]
[null,null,null,null,null,null,null,null,"Please Choose language"]
[]
[]
[]
[null,null,null,null,null,null,null,null,{"$f":"gettext(\"A5\",Sprache!$D$1)","v":"Weiter mit Tabellenblatt \"Nutzungsbed._terms of use\" (siehe unten)"}]
[]
[]
[]
[]
[]
[]
[]
[]
[null,null,null,null,null,null,null,null,null,null,{"$f":"gettext(\"A6\",Sprache!$D$1)","v":"Kurzanleitung :"}]
[]
[null,null,null,null,null,null,null,null,null,null,{"$f":"gettext(\"A7\",Sprache!$D$1)","v":"Grundsätzlich gilt : In allen gelb hinterlegten Felder können oder müssen Sie Eingaben machen."}]
[]
[null,null,null,null,null,null,null,null,null,null,{"$f":"gettext(\"A8\",Sprache!$D$1)","v":"1. Im Tabellenblatt \"Wandtypen_Walltypes\" den gewünschten Wandtyp durch Klick auf die Schaltfläche"}]
[null,null,null,null,null,null,null,null,null,null,{"$f":"gettext(\"A9\",Sprache!$D$1)","v":"des Wandtyps wählen und im erscheinenden Tabellenblatt die Abmessungen der Wand und die"}]
[null,null,null,null,null,null,null,null,null,null,{"$f":"gettext(\"A10\",Sprache!$D$1)","v":"gewünschten Einbauten angeben."}]
[]
[null,null,null,null,null,null,null,null,null,null,{"$f":"gettext(\"A11\",Sprache!$D$1)","v":"   Beachten Sie dabei bitte die angezeigten Fehlermeldungen!"}]
[]
[null,null,null,null,null,null,null,null,null,null,{"$f":"gettext(\"A12\",Sprache!$D$1)","v":"2. Schritt 1 für alle zu kalkulierenden Wände wiederholen."}]
[]
[null,null,null,null,null,null,null,null,null,null,{"$f":"gettext(\"A13\",Sprache!$D$1)","v":"3. Im Tabellenblatt \"Preise_Prices\" auswählen, welche Preise Ihrer Kalkulation zugrunde liegen sollen."}]
[null,null,null,null,null,null,null,null,null,null,{"$f":"gettext(\"A14\",Sprache!$D$1)","v":"4. Im Tabellenblatt \"Übersicht_Summary\" werden die Ergebnisse ihrer Kalkulation angezeigt."}]
[null,null,null,null,null,null,null,null,null,null,{"$f":"gettext(\"A15\",Sprache!$D$1)","v":"5. Das Tabellenblatt \"Bestellung_Order\" enthält die notwendigen Bestellmengen und dient als Vorlage."}]
[]
[]
[]
[]
[]
[]
[]
[null,null,null,null,null,null,{"$f":"gettext(\"A1\",Sprache!$D$1)","v":"Materialbedarfsermittlung"}]
[null,null,null,null,null,null,{"$f":"gettext(\"A2\",Sprache!$D$1)","v":"und Montagezeiten für"}]
[null,null,null,null,null,null,{"$f":"gettext(\"A3\",Sprache!$D$1)","v":"SANIT Schienensystem 996 für Trockenbau"}]
[]
[null,null,null,null,null,null,{"$f":"gettext(\"A4\",Sprache!$D$1)","v":"Version: 03/2023"}]

{"sheet":"Nutzungsbed._terms of use","index":1,"n_rows":82,"n_cols":13,"rows_kept":82,"cut":false,"hidden":false,"merged":[]}
[null,true]
[]
[{"$f":"gettext(\"B1\",Sprache!$D$1)","v":"Endbenutzer Lizenzvereinbarung für \"SANIT Schienensystem 996 für Trockenbau\""}]
[]
[{"$f":"gettext(\"B2\",Sprache!$D$1)","v":"Stand : 31.03.2023"},null,null,null,null,null,null,null,null,null,null,null,{"$f":"gettext(\"B49\",Sprache!$D$1)","v":"Hinweis ( ! ) : "}]
[null,null,null,null,null,null,null,null,null,null,null,null,{"$f":"gettext(\"B50\",Sprache!$D$1)","v":"Bitte Bestätigen Sie die Kenntnisnahme der"}]
[null,null,null,null,null,null,null,null,null,null,null,null,{"$f":"gettext(\"B51\",Sprache!$D$1)","v":"Nutzungsbedingungen am Ende des Textes."}]
[{"$f":"gettext(\"B3\",Sprache!$D$1)","v":"Bitte lesen Sie diese Vereinbarung sorgfältig durch bevor Sie die Software nutzen."}]
[]
[{"$f":"gettext(\"B4\",Sprache!$D$1)","v":"Eine Nutzung der Software in jeglicher Form setzt die Zustimmung zu folgender Vereinbarung voraus."},null,null,null,null,null,null,null,null,null,null,null,"© Sanitärtechnik Eisenberg GmbH (D.Krug, G.Müller, M.Höbbel)"]
[{"$f":"gettext(\"B5\",Sprache!$D$1)","v":"Bei Nichtzustimmung wird die Nutzung untersagt und die Software muss von all Ihren Speichermedien entfernt werden."}]
[]
[]
[{"$f":"gettext(\"B6\",Sprache!$D$1)","v":"Rechte :"}]
[]
["(1)",{"$f":"gettext(\"B7\",Sprache!$D$1)","v":"Alle Rechte an dieser Software unterliegen dem Urheberrecht und sind Eigentum der :"}]
[]
[]
[null,"Sanitärtechnik Eisenberg GmbH",null,null,null,{"$f":"gettext(\"B8\",Sprache!$D$1)","v":"Telefon:"},"+0049 36691 598-0 "]
[null,"In der Wiesen 8",null,null,null,{"$f":"gettext(\"B9\",Sprache!$D$1)","v":"Fax:"},"+0049 36691 598-88000"]
[null,"D-07607 Eisenberg",null,null,null,{"$f":"gettext(\"B10\",Sprache!$D$1)","v":"E-Mail:"},"info@sanit.com"]
[null,null,null,null,null,{"$f":"gettext(\"B11\",Sprache!$D$1)","v":"Handelsregister :"},"Jena, HRB 200237"]
[]
[]
[null,{"$f":"gettext(\"B12\",Sprache!$D$1)","v":"Rechte, welche nachfolgend nicht ausdrücklich freigegeben werden, verbleiben bei der SANITÄRTECHNIK"}]
[null,{"$f":"gettext(\"B13\",Sprache!$D$1)","v":"EISENBERG GMBH."}]
[]
["(2)",{"$f":"gettext(\"B14\",Sprache!$D$1)","v":"Die Nutzung der Software unterliegt deutschem Recht. Für Nutzungen ausserhalb der"}]
[null,{"$f":"gettext(\"B15\",Sprache!$D$1)","v":"Bundesrepublik wird anerkannt, dass dies ausschliesslich nach deutschem Recht geschieht."}]
[]
["(3)",{"$f":"gettext(\"B16\",Sprache!$D$1)","v":"Für den Fall der Weitergabe dieser Software durch den jeweiligen Nutzer an nachfolgende Nutzer tritt dieser mit"}]
[null,{"$f":"gettext(\"B17\",Sprache!$D$1)","v":"allen Rechten und Pflichten an die Stelle der SANITÄRTECHNIK EISENBERG GMBH."}]
[]
[]
[]
[{"$f":"gettext(\"B18\",Sprache!$D$1)","v":"Gewährleistung auf die Nutzung des Programms :"}]
[]
["(4)",{"$f":"gettext(\"B19\",Sprache!$D$1)","v":"Die SANITÄRTECHNIK EISENBERG GMBH gewährleistet, dass die Software auf einem geprüften Datenträger"}]
[null,{"$f":"gettext(\"B20\",Sprache!$D$1)","v":"ordnungsgemäß aufgezeichnet ist."}]
[]
["(5)",{"$f":"gettext(\"B21\",Sprache!$D$1)","v":"Die SANITÄRTECHNIK EISENBERG GMBH weist darauf hin, dass es nicht möglich ist, eine Software so zu"}]
[null,{"$f":"gettext(\"B22\",Sprache!$D$1)","v":"konzipieren, dass sie für alle Anwendungen fehlerfrei nutzbar ist."}]
[null,{"$f":"gettext(\"B23\",Sprache!$D$1)","v":"Es wird keine Gewährleistung dafür übernommen, dass die Software die individuellen Anforderungen des Nutzers"}]
[null,{"$f":"gettext(\"B24\",Sprache!$D$1)","v":"erfüllt."}]
[]
["(6)",{"$f":"gettext(\"B25\",Sprache!$D$1)","v":"Der Nutzer ist selbst für die Installation und anschließende Nutzung des Programms verantwortlich."}]
[]
["(7)",{"$f":"gettext(\"B26\",Sprache!$D$1)","v":"Die SANITÄRTECHNIK EISENBERG GMBH übernimmt keinerlei Gewährleistung für Bearbeitungen und Ver-"}]
[null,{"$f":"gettext(\"B27\",Sprache!$D$1)","v":"änderungen der Software, welche mit Hilfe von Funktionen erfolgen, die zum Zeitpunkt der Auslieferung nicht"}]
[null,{"$f":"gettext(\"B28\",Sprache!$D$1)","v":"Bestandteil der Software sind."}]
[]
["(8)",{"$f":"gettext(\"B29\",Sprache!$D$1)","v":"Die Ergebnisse, welche die Software liefert, sind nur als unverbindlich und richtungsweisend aufzufassen."}]
[null,{"$f":"gettext(\"B30\",Sprache!$D$1)","v":"Der Nutzer hat diese Ergebnisse vor der Nutzung im Geschäftsverkehr eigenverantwortlich auf ihre Richtigkeit zu"}]
[null,{"$f":"gettext(\"B31\",Sprache!$D$1)","v":"überprüfen."}]
[]
["(9)",{"$f":"gettext(\"B32\",Sprache!$D$1)","v":"Die SANITÄRTECHNIK EISENBERG GMBH übernimmt keinerlei Haftung für den Verlust von Daten, entgangene"}]
[null,{"$f":"gettext(\"B33\",Sprache!$D$1)","v":"Gewinne oder sonstige Schäden, die durch die Nutzung des Programms entstehen."}]
[null,{"$f":"gettext(\"B34\",Sprache!$D$1)","v":"Der vorstehende Haftungsausschluss gilt nicht bei nachweisbarem Vorsatz oder grober Fahrlässigkeit seitens"}]
[null,{"$f":"gettext(\"B35\",Sprache!$D$1)","v":"der SANITÄRTECHNIK EISENBERG GMBH."}]
[]
["(10)",{"$f":"gettext(\"B36\",Sprache!$D$1)","v":"Sollte eine oder mehrere Bestimmungen dieser Vereinbarung unwirksam sein, so sind die übrigen Bestimmungen"}]
[null,{"$f":"gettext(\"B37\",Sprache!$D$1)","v":"davon unberührt."}]
[]
["(11)",{"$f":"gettext(\"B38\",Sprache!$D$1)","v":"Im Übrigen gelten die AGB der SANITÄRTECHNIK EISENBERG GMBH."}]
[]
["(12)",{"$f":"gettext(\"B39\",Sprache!$D$1)","v":"Mit dem Vorliegen dieser Version der Software verlieren alle früheren Versionen ihre Gültigkeit."}]
[]
[]
[{"$f":"gettext(\"B40\",Sprache!$D$1)","v":"Allgemeine Gewährleistung :"}]
[]
["(13)",{"$f":"gettext(\"B41\",Sprache!$D$1)","v":"Die Software ermittelt im Rahmen des SANIT Schienensystem 996 für Trockenbau den Materialbedarf"}]
[null,{"$f":"gettext(\"B42\",Sprache!$D$1)","v":"für Installationswände."}]
[null,{"$f":"gettext(\"B43\",Sprache!$D$1)","v":"Es besteht die Wahlmöglichkeit, auf die Verwendung der Originalbeplankung des Systems zu verzichten."}]
[null,{"$f":"gettext(\"B44\",Sprache!$D$1)","v":"Für diesen Fall gilt :"}]
[]
[null,{"$f":"gettext(\"B45\",Sprache!$D$1)","v":"Bei Verwendung einer anderen Beplankung als der vom SANIT Schienensystem 996 für Trockenbau wird vom"}]
[null,{"$f":"gettext(\"B46\",Sprache!$D$1)","v":"Hersteller keine Gewährleistung für die Installationswände übernommen, da durch das Weglassen der Original-"}]
[null,{"$f":"gettext(\"B47\",Sprache!$D$1)","v":"Beplankung eine wichtige Systemkomponente, die Einfluss auf die Statik der Installationswände hat, verloren geht."}]
[]
[]
[]
[null,{"$f":"gettext(\"B48\",Sprache!$D$1)","v":"Ja, ich akzeptiere die Nutzungs- und Gewährleistungsbedingungen"}]

{"sheet":"Basismaterial","index":2,"n_rows":15,"n_cols":4,"rows_kept":15,"cut":false,"hidden":true,"merged":[]}
["Artikel-Nr.","Mengeneinheit","Verpackeinheit","Einbauzeit (min)"]
[]
["02.208.00..0000",{"$f":"gettext(\"G2\",Sprache!$D$1)","v":"m"},{"$f":"gettext(\"G2\",Sprache!$D$1)","v":"m"},3]
["02.596.00..0000",{"$f":"gettext(\"G3\",Sprache!$D$1)","v":"Kg"},{"$f":"gettext(\"G3\",Sprache!$D$1)","v":"Kg"},6]
["02.597.00..0000",{"$f":"gettext(\"G1\",Sprache!$D$1)","v":"Stück"},{"$f":"gettext(\"G1\",Sprache!$D$1)","v":"Stück"},0.15]
["03.332.00..0000",{"$f":"gettext(\"G1\",Sprache!$D$1)","v":"Stück"},{"$f":"gettext(\"G1\",Sprache!$D$1)","v":"Stück"},0.5]
["03.333.00..0000",{"$f":"gettext(\"G1\",Sprache!$D$1)","v":"Stück"},{"$f":"gettext(\"G1\",Sprache!$D$1)","v":"Stück"},1]
["03.346.00..0000",{"$f":"gettext(\"G2\",Sprache!$D$1)","v":"m"},{"$f":"gettext(\"G2\",Sprache!$D$1)","v":"m"},0.5]
["03.545.00..0000",{"$f":"gettext(\"G1\",Sprache!$D$1)","v":"Stück"},{"$f":"gettext(\"G1\",Sprache!$D$1)","v":"Stück"},3]
["03.723.00..0000",{"$f":"gettext(\"G1\",Sprache!$D$1)","v":"Stück"},{"$f":"gettext(\"G1\",Sprache!$D$1)","v":"Stück"},2]
["03.723.00..S000",{"$f":"gettext(\"G1\",Sprache!$D$1)","v":"Stück"},{"$f":"gettext(\"G1\",Sprache!$D$1)","v":"Stück"},2]
["03.754.00..0000",{"$f":"gettext(\"G1\",Sprache!$D$1)","v":"Stück"},{"$f":"gettext(\"G1\",Sprache!$D$1)","v":"Stück"},4]
["04.070.00..0000",{"$f":"gettext(\"G1\",Sprache!$D$1)","v":"Stück"},{"$f":"gettext(\"G1\",Sprache!$D$1)","v":"Stück"},3]
["16.032.00..0000",{"$f":"gettext(\"G1\",Sprache!$D$1)","v":"Stück"},{"$f":"gettext(\"G1\",Sprache!$D$1)","v":"Stück"},0.5]
["17.115.00..S000",{"$f":"gettext(\"G1\",Sprache!$D$1)","v":"Stück"},{"$f":"gettext(\"G1\",Sprache!$D$1)","v":"Stück"},6]

{"sheet":"Einbauten","index":3,"n_rows":51,"n_cols":12,"rows_kept":51,"cut":false,"hidden":true,"merged":[[0,7,0,10]]}
["Artikel-Nr.","Mengeneinheit","Verpack.einheit","Bauhöhe","Baubreite","Mindest-","Element/ Modul","Bedarf an notwendigem Zubehör je Stück",null,null,null,"Reduzierung Stab Wand"]
[null,null,null,"Element","Element/Modul","Einbautiefe","Einbauzeit","02.208.00..0000","03.332.00..0000","03.333.00..0000","03.754.00..0000","02.208.00..0000"]
[{"$f":"gettext(\"G4\",Sprache!$D$1)","v":"WC-Elemente"}]
["90.745.00..T000",{"$f":"gettext(\"G1\",Sprache!$D$1)","v":"Stück"},{"$f":"gettext(\"G1\",Sprache!$D$1)","v":"Stück"},{"$f":"820+35","v":855},{"$f":"525+100","v":625},155,19,0,4,0,1,-0.52]
["90.738.00..T000",{"$f":"gettext(\"G1\",Sprache!$D$1)","v":"Stück"},{"$f":"gettext(\"G1\",Sprache!$D$1)","v":"Stück"},{"$f":"985+35","v":1020},625,155,19,0,4,0,1,-0.52]
["90.743.00..T000",{"$f":"gettext(\"G1\",Sprache!$D$1)","v":"Stück"},{"$f":"gettext(\"G1\",Sprache!$D$1)","v":"Stück"},{"$f":"1120+35","v":1155},{"$f":"450+100","v":550},135,19,0,4,0,1,-0.52]
["90.735.00..T000",{"$f":"gettext(\"G1\",Sprache!$D$1)","v":"Stück"},{"$f":"gettext(\"G1\",Sprache!$D$1)","v":"Stück"},{"$f":"1120+35","v":1155},625,135,21,0,4,0,1,-0.52]
[{"$f":"gettext(\"G5\",Sprache!$D$1)","v":"Waschtisch- und Ausgussbecken-Elemente"}]
["90.672.00..T000",{"$f":"gettext(\"G1\",Sprache!$D$1)","v":"Stück"},{"$f":"gettext(\"G1\",Sprache!$D$1)","v":"Stück"},{"$f":"820+35","v":855},{"$f":"525+100","v":625},null,16,0,4,0,1,-0.52]
["90.669.00..T000",{"$f":"gettext(\"G1\",Sprache!$D$1)","v":"Stück"},{"$f":"gettext(\"G1\",Sprache!$D$1)","v":"Stück"},{"$f":"985+35","v":1020},625,null,16,0,4,0,1,-0.52]
["90.696.00..T000",{"$f":"gettext(\"G1\",Sprache!$D$1)","v":"Stück"},{"$f":"gettext(\"G1\",Sprache!$D$1)","v":"Stück"},{"$f":"1120+35","v":1155},625,null,16,0,4,0,1,-0.52]
["90.671.00..T000",{"$f":"gettext(\"G1\",Sprache!$D$1)","v":"Stück"},{"$f":"gettext(\"G1\",Sprache!$D$1)","v":"Stück"},{"$f":"1120+35","v":1155},625,null,16,0,4,0,1,-0.52]
["90.677.00..T000",{"$f":"gettext(\"G1\",Sprache!$D$1)","v":"Stück"},{"$f":"gettext(\"G1\",Sprache!$D$1)","v":"Stück"},{"$f":"1120+35","v":1155},625,null,17,0,4,0,1,-0.52]
["90.691.00..T000",{"$f":"gettext(\"G1\",Sprache!$D$1)","v":"Stück"},{"$f":"gettext(\"G1\",Sprache!$D$1)","v":"Stück"},{"$f":"985+35","v":1020},625,null,19,0,4,0,1,-0.52]
["90.687.00..T000",{"$f":"gettext(\"G1\",Sprache!$D$1)","v":"Stück"},{"$f":"gettext(\"G1\",Sprache!$D$1)","v":"Stück"},{"$f":"1120+35","v":1155},625,null,19,0,4,0,1,-0.52]
["90.689.00..T000",{"$f":"gettext(\"G1\",Sprache!$D$1)","v":"Stück"},{"$f":"gettext(\"G1\",Sprache!$D$1)","v":"Stück"},1155,625,null,19,0,4,0,1,-0.52]
["90.688.00..T000",{"$f":"gettext(\"G1\",Sprache!$D$1)","v":"Stück"},{"$f":"gettext(\"G1\",Sprache!$D$1)","v":"Stück"},1155,625,null,4,0,4,0,1,-0.52]
["90.659.00..0000",{"$f":"gettext(\"G1\",Sprache!$D$1)","v":"Stück"},{"$f":"gettext(\"G1\",Sprache!$D$1)","v":"Stück"},{"$f":"1530+35","v":1565},625,155,19,0,4,0,1,-0.52]
[{"$f":"gettext(\"G6\",Sprache!$D$1)","v":"Bidet- und Urinal-Elemente"}]
["90.663.00..T000",{"$f":"gettext(\"G1\",Sprache!$D$1)","v":"Stück"},{"$f":"gettext(\"G1\",Sprache!$D$1)","v":"Stück"},{"$f":"820+35","v":855},{"$f":"525+100","v":625},135,17,0,4,0,1,-0.52]
["90.662.00..T000",{"$f":"gettext(\"G1\",Sprache!$D$1)","v":"Stück"},{"$f":"gettext(\"G1\",Sprache!$D$1)","v":"Stück"},{"$f":"985+35","v":1020},{"$f":"525+100","v":625},135,17,0,4,0,1,-0.52]
["90.676.00..T000",{"$f":"gettext(\"G1\",Sprache!$D$1)","v":"Stück"},{"$f":"gettext(\"G1\",Sprache!$D$1)","v":"Stück"},{"$f":"1120+35","v":1155},{"$f":"525+100","v":625},135,17,0,4,0,1,-0.52]
["90.668.00..T000",{"$f":"gettext(\"G1\",Sprache!$D$1)","v":"Stück"},{"$f":"gettext(\"G1\",Sprache!$D$1)","v":"Stück"},{"$f":"1120+35","v":1155},{"$f":"525+100","v":625},null,34,0,4,0,1,-0.52]
["90.675.00..T000",{"$f":"gettext(\"G1\",Sprache!$D$1)","v":"Stück"},{"$f":"gettext(\"G1\",Sprache!$D$1)","v":"Stück"},{"$f":"1120+35","v":1155},{"$f":"525+100","v":625},null,20,0,4,0,1,-0.52]
[{"$f":"gettext(\"G7\",Sprache!$D$1)","v":"Bade-und Brausewannen"}]
["90.681.00..T000",{"$f":"gettext(\"G1\",Sprache!$D$1)","v":"Stück"},{"$f":"gettext(\"G1\",Sprache!$D$1)","v":"Stück"},{"$f":"1120+35","v":1155},{"$f":"525+100","v":625},null,9,0,4,0,1,-0.52]
["90.682.00..T000",{"$f":"gettext(\"G1\",Sprache!$D$1)","v":"Stück"},{"$f":"gettext(\"G1\",Sprache!$D$1)","v":"Stück"},{"$f":"1120+35","v":1155},{"$f":"525+100","v":625},null,9,0,4,0,1,-0.52]
[{"$f":"gettext(\"G8\",Sprache!$D$1)","v":"Waschtisch- und Urinal-Module (Sanitärfunktion ohne Trockenbaurahmen)"}]
["17.276.00..0000",{"$f":"gettext(\"G1\",Sprache!$D$1)","v":"Stück"},{"$f":"gettext(\"G1\",Sprache!$D$1)","v":"Stück"},null,{"$f":"444+51+70","v":565},null,0,2.4,8,4,0,0]
["17.286.00..0000",{"$f":"gettext(\"G1\",Sprache!$D$1)","v":"Stück"},{"$f":"gettext(\"G1\",Sprache!$D$1)","v":"Stück"},null,{"$f":"350+51+70","v":471},null,0,2.4,8,0,0,0]
["03.877.00..0000",{"$f":"gettext(\"G1\",Sprache!$D$1)","v":"Stück"},{"$f":"gettext(\"G1\",Sprache!$D$1)","v":"Stück"},null,{"$f":"444+51+70","v":565},null,0,2.4,8,8,0,0]
[{"$f":"gettext(\"G9\",Sprache!$D$1)","v":"Weitere Module (Sanitärfunktion ohne Trockenbaurahmen) & Zubehör"}]
["17.268.00..0000",{"$f":"gettext(\"G1\",Sprache!$D$1)","v":"Stück"},{"$f":"gettext(\"G1\",Sprache!$D$1)","v":"Stück"},null,{"$f":"444+51+70","v":565},null,0,2.4,8,2,0,0]
["17.287.00..0000",{"$f":"gettext(\"G1\",Sprache!$D$1)","v":"Stück"},{"$f":"gettext(\"G1\",Sprache!$D$1)","v":"Stück"},null,{"$f":"505+51+70","v":626},null,0,2.4,8,0,0,0]
["17.275.00..0000",{"$f":"gettext(\"G1\",Sprache!$D$1)","v":"Stück"},{"$f":"gettext(\"G1\",Sprache!$D$1)","v":"Stück"},null,565,null,0,2.4,8,2,0,0]
["17.282.00..0000",{"$f":"gettext(\"G1\",Sprache!$D$1)","v":"Stück"},{"$f":"gettext(\"G1\",Sprache!$D$1)","v":"Stück"},null,{"$f":"121+26+35","v":182},null,0,1.2,4,0,0,0]
["17.216.00..0000",{"$f":"gettext(\"G1\",Sprache!$D$1)","v":"Stück"},{"$f":"gettext(\"G1\",Sprache!$D$1)","v":"Stück"},null,565,null,0,2.4,8,4,0,0]
["17.280.00..0000",{"$f":"gettext(\"G1\",Sprache!$D$1)","v":"Stück"},{"$f":"gettext(\"G1\",Sprache!$D$1)","v":"Stück"},null,565,null,0,2.4,8,2,0,0]
["17.239.00..0000",{"$f":"gettext(\"G1\",Sprache!$D$1)","v":"Stück"},{"$f":"gettext(\"G1\",Sprache!$D$1)","v":"Stück"},null,565,null,0,2.4,8,4,0,0]
["17.281.00..0000",{"$f":"gettext(\"G1\",Sprache!$D$1)","v":"Stück"},{"$f":"gettext(\"G1\",Sprache!$D$1)","v":"Stück"},null,{"$f":"121+51+70","v":242},null,0,1.2,4,0,0,0]
["05.132.00..0000",{"$f":"gettext(\"G1\",Sprache!$D$1)","v":"Stück"},{"$f":"gettext(\"G1\",Sprache!$D$1)","v":"Stück"},null,0,null,0,2,0,0,0,0]
["05.201.00..0000",{"$f":"gettext(\"G1\",Sprache!$D$1)","v":"Stück"},{"$f":"gettext(\"G1\",Sprache!$D$1)","v":"Stück"},null,0,null,5,0,0,0,0,0]
[{"$f":"gettext(\"G10\",Sprache!$D$1)","v":"barrierefreie Elemente und Module"}]
["90.685.00..T000",{"$f":"gettext(\"G1\",Sprache!$D$1)","v":"Stück"},{"$f":"gettext(\"G1\",Sprache!$D$1)","v":"Stück"},{"$f":"820+35","v":855},{"$f":"525+100","v":625},null,19,0,4,0,1,-0.52]
["90.673.00..T000",{"$f":"gettext(\"G1\",Sprache!$D$1)","v":"Stück"},{"$f":"gettext(\"G1\",Sprache!$D$1)","v":"Stück"},{"$f":"1120+35","v":1155},{"$f":"525+100","v":625},null,19,0,4,0,1,-0.52]
["90.744.00..T000",{"$f":"gettext(\"G1\",Sprache!$D$1)","v":"Stück"},{"$f":"gettext(\"G1\",Sprache!$D$1)","v":"Stück"},{"$f":"1120+35","v":1155},{"$f":"450+100","v":550},135,19,0,4,0,1,-0.52]
["90.680.00..TR00",{"$f":"gettext(\"G1\",Sprache!$D$1)","v":"Stück"},{"$f":"gettext(\"G1\",Sprache!$D$1)","v":"Stück"},{"$f":"1120+35","v":1155},{"$f":"294+50","v":344},null,1,0,2,0,1,-0.52]
["90.680.00..TL00",{"$f":"gettext(\"G1\",Sprache!$D$1)","v":"Stück"},{"$f":"gettext(\"G1\",Sprache!$D$1)","v":"Stück"},{"$f":"1120+35","v":1155},{"$f":"294+50","v":344},null,1,0,2,0,1,-0.52]
["17.288.00..0000",{"$f":"gettext(\"G1\",Sprache!$D$1)","v":"Stück"},{"$f":"gettext(\"G1\",Sprache!$D$1)","v":"Stück"},null,{"$f":"505+51+70","v":626},null,0,2.4,8,0,0,0]
["17.279.00..0000",{"$f":"gettext(\"G1\",Sprache!$D$1)","v":"Stück"},{"$f":"gettext(\"G1\",Sprache!$D$1)","v":"Stück"},null,{"$f":"254+51+70","v":375},null,0,2.4,8,4,0,0]
["17.289.00..0000",{"$f":"gettext(\"G1\",Sprache!$D$1)","v":"Stück"},{"$f":"gettext(\"G1\",Sprache!$D$1)","v":"Stück"},null,{"$f":"320+51+70","v":441},null,0,2.4,8,0,0,0]

{"sheet":"Basis","index":4,"n_rows":1796,"n_cols":96,"rows_kept":1796,"cut":false,"hidden":true,"merged":[[1746,0,1770,0],[1771,0,1795,0],[1521,0,1545,0],[1546,0,1570,0],[1571,0,1595,0],[1596,0,1620,0],[1696,0,1720,0],[1721,0,1745,0],[1671,0,1695,0],[1621,0,1645,0],[1646,0,1670,0],[1260,0,1270,0],[1346,0,1370,0],[1371,0,1395,0],[1249,0,1259,0],[1271,0,1295,0],[1296,0,1320,0],[1155,0,1179,0],[1205,0,1215,0],[1216,0,1226,0],[1238,0,1248,0],[955,0,979,0],[980,0,1004,0],[1030,0,1054,0],[1227,0,1237,0],[1130,0,1154,0],[1055,0,1079,0],[1080,0,1104,0],[1105,0,1129,0],[1180,0,1204,0],[1496,0,1520,0],[1446,0,1470,0],[1321,0,1345,0],[1396,0,1420,0],[1421,0,1445,0],[1471,0,1495,0],[4,93,4,95],[5,0,29,0],[6,15,12,15],[180,0,204,0],[1005,0,1029,0],[930,0,954,0],[830,0,854,0],[855,0,879,0],[880,0,904,0],[905,0,929,0],[30,0,54,0],[55,0,79,0],[205,0,229,0],[230,0,254,0],[4,18,4,92],[555,0,579,0],[430,0,454,0],[505,0,529,0],[530,0,554,0],[455,0,479,0],[480,0,504,0],[80,0,104,0],[105,0,129,0],[130,0,154,0],[155,0,179,0],[405,0,429,0],[255,0,279,0],[280,0,304,0],[380,0,404,0],[305,0,329,0],[330,0,354,0],[355,0,379,0],[780,0,804,0],[805,0,829,0],[580,0,604,0],[605,0,629,0],[630,0,654,0],[655,0,679,0],[755,0,779,0],[680,0,704,0],[705,0,729,0],[730,0,754,0]]}
[]
[]
[]
[null,"Artikelnummer",{"$f":"Basismaterial!$A3","v":"02.208.00..0000"},{"$f":"Basismaterial!$A4","v":"02.596.00..0000"},{"$f":"Basismaterial!$A5","v":"02.597.00..0000"},{"$f":"Basismaterial!$A6","v":"03.332.00..0000"},{"$f":"Basismaterial!$A8","v":"03.346.00..0000"},{"$f":"Basismaterial!$A9","v":"03.545.00..0000"},{"$f":"Basismaterial!$A10","v":"03.723.00..0000"},{"$f":"Basismaterial!$A11","v":"03.723.00..S000"},{"$f":"Basismaterial!$A13","v":"04.070.00..0000"},{"$f":"Basismaterial!$A14","v":"16.032.00..0000"},{"$f":"Basismaterial!$A15","v":"17.115.00..S000"},"Nutzbare"]
[null,"Wandbreite (mm)",null,null,null,null,null,null,null,null,null,null,null,"Wandbreite",null,null,null,null,"Wandtypen",null,null,null,null,null,null,null,null,null,null,null,null,null,null,null,null,null,null,null,null,null,null,null,null,null,null,null,null,null,null,null,null,null,null,null,null,null,null,null,null,null,null,null,null,null,null,null,null,null,null,null,null,null,null,null,null,null,null,null,null,null,null,null,null,null,null,null,null,null,null,null,null,null,null,"Fehlermeldungen"]
["Wandtyp 1.1.1",5000,21.77,1.4000000000000001,165,7,11.71,7,4,null,null,2.75,7.1,{"$f":"B6-170","v":4830},null,null,null,null,"1.1.1","1.1.2","1.1.3","1.1.4","1.1.5","1.1.6","1.1.7","1.1.8","1.1.9","1.1.10","1.1.11","1.1.12","1.1.13","1.1.14","1.1.15","1.2.1","1.2.2","1.2.3","1.2.4","1.2.5","1.2.6","1.2.7","1.2.8","1.2.9","1.2.10","1.2.11","1.2.12","1.2.13","1.2.14","1.2.15","1.3.1","1.3.2","1.3.3","1.3.4","1.3.5","1.3.6","1.3.7","1.3.8","1.3.9","1.3.10","1.3.11","1.3.12","1.3.13","1.3.14","1.3.15","2.1","2.2","2.3","3.1.1","3.1.2","3.1.3","3.2.1","3.2.2","3.2.3","4.1.1","4.1.2","4.1.3","4.1.4","4.1.5","4.1.6","4.1.7","4.2.1","4.2.2","4.2.3","4.2.4","4.2.5","4.2.6","4.2.7","4.3.1","4.3.2","4.3.3","4.3.4","4.3.5","4.3.6","4.3.7"]
[null,4800,20.97,1.4000000000000001,159,7,11.309999999999999,7,4,null,null,2.75,6.8,{"$f":"B7-170","v":4630},null,"Bedingung","Mindestanzahl Wände","Stk",1,1,1,1,1,1,1,1,1,1,1,1,1,1,1,1,1,1,1,1,1,1,1,1,1,1,1,1,1,1,1,1,1,1,1,1,1,1,1,1,1,1,1,1,1,1,1,1,1,1,1,1,1,1,1,1,1,1,1,1,1,1,1,1,1,1,1,1,1,1,1,1,1,1,1,{"$f":"gettext(\"D1\",Sprache!$D$1)","v":"Die Anzahl der zu berechnenden Wände muss mindestens "},null,{"$f":"gettext(\"D2\",Sprache!$D$1)","v":" betragen ! Bitte Eingabe prüfen."}]
[null,4600,20.169999999999998,1.3,152,7,10.91,7,4,null,null,2.75,6.5,4430,null,null,"Minimale Wandbreite","mm",200,200,200,200,200,200,200,200,200,200,200,200,200,200,200,200,200,200,200,200,200,200,200,200,200,200,200,200,200,200,200,200,200,200,200,200,200,200,200,200,200,200,200,200,200,200,200,200,600,600,600,600,600,600,200,200,200,200,200,200,200,200,200,200,200,200,200,200,200,200,200,200,200,200,200,{"$f":"gettext(\"D3\",Sprache!$D$1)","v":"Es können nur Wandbreiten zwischen "},{"$f":"gettext(\"D6\",Sprache!$D$1)","v":" mm und "},{"$f":"gettext(\"D7\",Sprache!$D$1)","v":" mm berechnet werden ! Bitte Eingabe prüfen."}]
[null,4400,19.37,1.3,146,7,10.510000000000002,7,4,null,null,2.75,6.3,4230,null,null,"Maximale Wandbreite","mm",5000,5000,5000,5000,5000,5000,5000,5000,5000,5000,5000,5000,5000,5000,5000,5000,5000,5000,5000,5000,5000,5000,5000,5000,5000,5000,5000,5000,5000,5000,5000,5000,5000,5000,5000,5000,5000,5000,5000,5000,5000,5000,5000,5000,5000,5000,5000,5000,2600,2600,2600,2600,2600,2600,5000,5000,5000,5000,5000,5000,5000,5000,5000,5000,5000,5000,5000,5000,5000,5000,5000,5000,5000,5000,5000,{"$f":"gettext(\"D3\",Sprache!$D$1)","v":"Es können nur Wandbreiten zwischen "},{"$f":"gettext(\"D6\",Sprache!$D$1)","v":" mm und "},{"$f":"gettext(\"D7\",Sprache!$D$1)","v":" mm berechnet werden ! Bitte Eingabe prüfen."}]
[null,4200,18.57,1.2000000000000002,139,7,10.11,7,4,null,null,2.75,6,4030,null,null,"Minimale Wandtiefe","mm",155,255,120,155,255,120,155,255,120,155,255,120,155,255,120,155,255,120,155,255,120,155,255,120,155,255,120,155,255,120,155,255,120,155,255,120,155,255,120,155,255,120,155,255,120,120,120,120,200,255,316,200,255,316,120,155,255,120,155,255,120,120,155,255,120,155,255,120,120,155,255,120,155,255,120,{"$f":"gettext(\"D4\",Sprache!$D$1)","v":"Es können nur Wandtiefen zwischen "},{"$f":"gettext(\"D6\",Sprache!$D$1)","v":" mm und "},{"$f":"gettext(\"D7\",Sprache!$D$1)","v":" mm berechnet werden ! Bitte Eingabe prüfen."}]
[null,4000,17.77,1.1000000000000001,132,7,9.7100000000000009,7,4,null,null,2.75,5.6999999999999993,3830,null,null,"Maximale Wandtiefe","mm",215,315,600,215,315,600,215,315,600,215,315,600,215,315,600,215,315,600,215,315,600,215,315,600,215,315,600,215,315,600,215,315,600,215,315,600,215,315,600,215,315,600,215,315,600,600,600,600,215,315,600,215,315,600,600,215,315,600,215,315,600,600,215,315,600,215,315,600,600,215,315,600,215,315,600,{"$f":"gettext(\"D4\",Sprache!$D$1)","v":"Es können nur Wandtiefen zwischen "},{"$f":"gettext(\"D6\",Sprache!$D$1)","v":" mm und "},{"$f":"gettext(\"D7\",Sprache!$D$1)","v":" mm berechnet werden ! Bitte Eingabe prüfen."}]
[null,3800,16.97,1.1000000000000001,126,7,9.3099999999999987,7,4,null,null,2.75,5.3999999999999995,3630,null,null,"Minimale Bauhöhe OKFFB","mm",null,null,null,856,856,856,1156,1156,1156,2601,2601,2601,3301,3301,3301,null,null,null,856,856,856,1156,1156,1156,2601,2601,2601,3301,3301,3301,null,null,null,856,856,856,1156,1156,1156,2601,2601,2601,3301,3301,3301,null,2601,3301,855,855,855,855,855,855,0,0,0,601,1446,1446,1446,0,0,0,601,1446,1446,1446,0,0,0,601,1446,1446,1446,{"$f":"gettext(\"D5\",Sprache!$D$1)","v":"Dieser Wandtyp umfasst nur Bauhöhen ab OKFFB zwischen "},{"$f":"gettext(\"D6\",Sprache!$D$1)","v":" mm und "},{"$f":"gettext(\"D8\",Sprache!$D$1)","v":" mm ! Bitte Eingabe prüfen."}]
[null,3600,16.170000000000002,1,119,7,8.91,7,4,null,null,2.75,5.0999999999999996,3430,null,null,"Maximale Bauhöhe OKFFB","mm",855,855,855,1155,1155,1155,2600,2600,2600,3300,3300,3300,3900,3900,3900,855,855,855,1155,1155,1155,2600,2600,2600,3300,3300,3300,3900,3900,3900,855,855,855,1155,1155,1155,2600,2600,2600,3300,3300,3300,3900,3900,3900,2600,3300,3900,1155,1155,1155,1155,1155,1155,600,1445,1445,1445,2745,2745,2745,600,1445,1445,1445,2745,2745,2745,600,1445,1445,1445,2745,2745,2245,{"$f":"gettext(\"D5\",Sprache!$D$1)","v":"Dieser Wandtyp umfasst nur Bauhöhen ab OKFFB zwischen "},{"$f":"gettext(\"D6\",Sprache!$D$1)","v":" mm und "},{"$f":"gettext(\"D8\",Sprache!$D$1)","v":" mm ! Bitte Eingabe prüfen."}]
[null,3400,15.37,1,113,7,8.51,7,4,null,null,2.75,4.8,3230]
[null,3200,14.57,0.9,106,7,8.11,7,4,null,null,2.75,4.5999999999999996,3030]
[null,3000,13.77,0.9,99,7,7.71,7,4,null,null,2.75,4.3,2830]
[null,2800,12.969999999999999,0.79999999999999993,93,7,7.31,6,3,null,null,2.25,4,2630]
[null,2600,12.17,0.79999999999999993,86,7,6.91,6,3,null,null,2.25,3.7,2430]
[null,2400,11.17,0.7,80,6,6.51,5,3,null,null,2,3.4,2230]
[null,2200,10.370000000000001,0.7,73,6,6.11,5,3,null,null,2,3.2,2030]
[null,2000,9.57,0.6,66,6,5.71,5,3,null,null,2,2.9,1830]
[null,1800,8.77,0.5,60,6,5.3100000000000005,5,3,null,null,2,2.6,1630]
[null,1600,7.9700000000000006,0.5,53,6,4.91,4,2,null,null,1.5,2.3000000000000003,1430]
[null,1400,7.17,0.4,47,6,4.51,4,2,null,null,1.5,2,1230]
[null,1200,6.37,0.4,40,6,4.1099999999999994,4,2,null,null,1.5,1.7000000000000002,1030]
[null,1000,5.57,0.30000000000000004,33,6,3.71,4,2,null,null,1.5,1.5,830]
[null,800,4.7700000000000005,0.30000000000000004,27,6,3.31,4,2,null,null,1.5,1.2000000000000002,630]
[null,600,3.9699999999999998,0.2,20,6,2.91,4,2,null,null,1.5,0.9,0]
[null,400,3.17,0.2,14,6,2.5099999999999998,4,2,null,null,1.5,0.6,0]
[null,200,2.37,0.1,7,6,2.11,4,2,null,null,1.5,0.30000000000000004,0]
["Wandtyp 1.1.2",5000,21.77,1.4000000000000001,165,7,11.71,7,null,4,null,2.75,7.1,4830]
[null,4800,20.97,1.4000000000000001,159,7,11.309999999999999,7,null,4,null,2.75,6.8,4630]
[null,4600,20.169999999999998,1.3,152,7,10.91,7,null,4,null,2.75,6.5,4430]
[null,4400,19.37,1.3,146,7,10.510000000000002,7,null,4,null,2.75,6.3,4230]
[null,4200,18.57,1.2000000000000002,139,7,10.11,7,null,4,null,2.75,6,4030]
[null,4000,17.77,1.1000000000000001,132,7,9.7100000000000009,7,null,4,null,2.75,5.6999999999999993,3830]
[null,3800,16.97,1.1000000000000001,126,7,9.3099999999999987,7,null,4,null,2.75,5.3999999999999995,3630]
[null,3600,16.170000000000002,1,119,7,8.91,7,null,4,null,2.75,5.0999999999999996,3430]
[null,3400,15.37,1,113,7,8.51,7,null,4,null,2.75,4.8,3230]
[null,3200,14.57,0.9,106,7,8.11,7,null,4,null,2.75,4.5999999999999996,3030]
[null,3000,13.77,0.9,99,7,7.71,7,null,4,null,2.75,4.3,2830]
[null,2800,12.969999999999999,0.79999999999999993,93,7,7.31,6,null,3,null,2.25,4,2630]
[null,2600,12.17,0.79999999999999993,86,7,6.91,6,null,3,null,2.25,3.7,2430]
[null,2400,11.17,0.7,80,6,6.51,5,null,3,null,2,3.4,2230]
[null,2200,10.370000000000001,0.7,73,6,6.11,5,null,3,null,2,3.2,2030]
[null,2000,9.57,0.6,66,6,5.71,5,null,3,null,2,2.9,1830]
[null,1800,8.77,0.5,60,6,5.3100000000000005,5,null,3,null,2,2.6,1630]
[null,1600,7.9700000000000006,0.5,53,6,4.91,4,null,2,null,1.5,2.3000000000000003,1430]
[null,1400,7.17,0.4,47,6,4.51,4,null,2,null,1.5,2,1230]
[null,1200,6.37,0.4,40,6,4.1099999999999994,4,null,2,null,1.5,1.7000000000000002,1030]
[null,1000,5.57,0.30000000000000004,33,6,3.71,4,null,2,null,1.5,1.5,830]
[null,800,4.7700000000000005,0.30000000000000004,27,6,3.31,4,null,2,null,1.5,1.2000000000000002,630]
[null,600,3.9699999999999998,0.2,20,6,2.91,4,null,2,null,1.5,0.9,0]
[null,400,3.17,0.2,14,6,2.5099999999999998,4,null,2,null,1.5,0.6,0]
[null,200,2.37,0.1,7,6,2.11,4,null,2,null,1.5,0.30000000000000004,0]
["Wandtyp 1.1.3",5000,23.28,1.9000000000000001,218,15,11.71,11,null,null,null,2.75,9.2999999999999989,4830]
[null,4800,22.48,1.8,209,15,11.309999999999999,11,null,null,null,2.75,9,4630]
[null,4600,21.68,1.7000000000000002,201,15,10.91,11,null,null,null,2.75,8.6,4430]
[null,4400,20.880000000000003,1.6,192,15,10.510000000000002,11,null,null,null,2.75,8.1999999999999993,4230]
[null,4200,20.080000000000002,1.6,183,15,10.11,11,null,null,null,2.75,7.8999999999999995,4030]
[null,4000,19.28,1.5,174,15,9.7100000000000009,11,null,null,null,2.75,7.5,3830]
[null,3800,18.48,1.4000000000000001,166,15,9.3099999999999987,11,null,null,null,2.75,7.1,3630]
[null,3600,17.68,1.4000000000000001,157,15,8.91,11,null,null,null,2.75,6.6999999999999993,3430]
[null,3400,16.88,1.3,148,15,8.51,11,null,null,null,2.75,6.3999999999999995,3230]
[null,3200,16.080000000000002,1.2000000000000002,140,15,8.11,11,null,null,null,2.75,6,3030]
[null,3000,15.280000000000001,1.1000000000000001,131,15,7.71,11,null,null,null,2.75,5.6,2830]
[null,2800,14.48,1.1000000000000001,122,13,7.31,9,null,null,null,2.25,5.3,2630]
[null,2600,13.68,1,114,13,6.91,9,null,null,null,2.25,4.8999999999999995,2430]
[null,2400,12.31,0.9,105,12,6.51,8,null,null,null,2,4.5,2230]
[null,2200,11.510000000000002,0.79999999999999993,96,12,6.11,8,null,null,null,2,4.0999999999999996,2030]
[null,2000,10.71,0.79999999999999993,87,12,5.71,8,null,null,null,2,3.8000000000000003,{"$f":"B71-170","v":1830}]
[null,1800,9.91,0.7,79,12,5.3100000000000005,8,null,null,null,2,3.4,1630]
[null,1600,9.1100000000000012,0.6,70,10,4.91,6,null,null,null,1.5,3,1430]
[null,1400,8.31,0.6,61,10,4.51,6,null,null,null,1.5,2.7,1230]
[null,1200,7.51,0.5,53,10,4.1099999999999994,6,null,null,null,1.5,2.3000000000000003,1030]
[null,1000,6.71,0.4,44,10,3.71,6,null,null,null,1.5,1.9000000000000001,830]
[null,800,5.91,0.30000000000000004,35,10,3.31,6,null,null,null,1.5,1.5,630]
[null,600,5.1099999999999994,0.30000000000000004,27,10,2.91,6,null,null,null,1.5,1.2000000000000002,0]
[null,400,4.3099999999999996,0.2,18,10,2.5099999999999998,6,null,null,null,1.5,0.79999999999999993,0]
[null,200,3.51,0.1,9,10,2.11,6,null,null,null,1.5,0.4,0]
["Wandtyp 1.1.4",5000,22.35,1.7000000000000002,203,7,12.17,7,4,null,null,2.75,8.6999999999999993,4830]
[null,4800,21.55,1.7000000000000002,195,7,11.77,7,4,null,null,2.75,8.4,4630]
[null,4600,20.75,1.6,187,7,11.37,7,4,null,null,2.75,8,4430]
[null,4400,19.950000000000003,1.5,179,7,10.97,7,4,null,null,2.75,7.6999999999999993,4230]
[null,4200,19.150000000000002,1.5,171,7,10.57,7,4,null,null,2.75,7.3,4030]
[null,4000,18.350000000000001,1.4000000000000001,162,7,10.17,7,4,null,null,2.75,7,3830]
[null,3800,17.55,1.3,154,7,9.77,7,4,null,null,2.75,6.6,3630]
[null,3600,16.75,1.3,146,7,9.370000000000001,7,4,null,null,2.75,6.3,3430]
[null,3400,15.95,1.2000000000000002,138,7,8.9699999999999989,7,4,null,null,2.75,5.8999999999999995,3230]
[null,3200,15.15,1.1000000000000001,130,7,8.57,7,4,null,null,2.75,5.6,3030]
[null,3000,14.35,1.1000000000000001,122,7,8.17,7,4,null,null,2.75,5.1999999999999993,2830]
[null,2800,13.549999999999999,1,114,7,7.77,6,3,null,null,2.25,4.8999999999999995,2630]
[null,2600,12.75,0.9,106,7,7.37,6,3,null,null,2.25,4.5,2430]
[null,2400,11.95,0.9,98,6,6.97,5,3,null,null,2,4.1999999999999993,2230]
[null,2200,10.97,0.79999999999999993,90,6,6.57,5,3,null,null,2,3.9,2030]
[null,2000,10.17,0.7,81,6,6.17,5,3,null,null,2,3.5,1830]
[null,1800,9.370000000000001,0.7,73,6,5.77,5,3,null,null,2,3.2,1630]
[null,1600,8.57,0.6,65,6,5.37,4,2,null,null,1.5,2.8000000000000003,1430]
[null,1400,7.77,0.5,57,6,4.97,4,2,null,null,1.5,2.5,1230]
[null,1200,6.97,0.5,49,6,4.57,4,2,null,null,1.5,2.1,1030]
[null,1000,6.17,0.4,41,6,4.17,4,2,null,null,1.5,1.8,830]
[null,800,5.37,0.30000000000000004,33,6,3.77,4,2,null,null,1.5,1.4000000000000001,630]
[null,600,4.57,0.30000000000000004,25,6,3.37,4,2,null,null,1.5,1.1000000000000001,0]
[null,400,3.77,0.2,17,6,2.9699999999999998,4,2,null,null,1.5,0.7,0]
[null,200,2.9699999999999998,0.1,9,6,2.57,4,2,null,null,1.5,0.4,0]
["Wandtyp 1.1.5",5000,22.35,1.7000000000000002,203,7,12.17,7,null,4,null,2.75,8.6999999999999993,4830]
[null,4800,21.55,1.7000000000000002,195,7,11.77,7,null,4,null,2.75,8.4,4630]
[null,4600,20.75,1.6,187,7,11.37,7,null,4,null,2.75,8,4430]
[null,4400,19.950000000000003,1.5,179,7,10.97,7,null,4,null,2.75,7.6999999999999993,4230]
[null,4200,19.150000000000002,1.5,171,7,10.57,7,null,4,null,2.75,7.3,4030]
[null,4000,18.350000000000001,1.4000000000000001,162,7,10.17,7,null,4,null,2.75,7,3830]
[null,3800,17.55,1.3,154,7,9.77,7,null,4,null,2.75,6.6,3630]
[null,3600,16.75,1.3,146,7,9.370000000000001,7,null,4,null,2.75,6.3,3430]
[null,3400,15.95,1.2000000000000002,138,7,8.9699999999999989,7,null,4,null,2.75,5.8999999999999995,3230]
[null,3200,15.15,1.1000000000000001,130,7,8.57,7,null,4,null,2.75,5.6,3030]
[null,3000,14.35,1.1000000000000001,122,7,8.17,7,null,4,null,2.75,5.1999999999999993,2830]
[null,2800,13.549999999999999,1,114,7,7.77,6,null,3,null,2.25,4.8999999999999995,2630]
[null,2600,12.75,0.9,106,7,7.37,6,null,3,null,2.25,4.5,2430]
[null,2400,11.95,0.9,98,6,6.97,5,null,3,null,2,4.1999999999999993,2230]
[null,2200,10.97,0.79999999999999993,90,6,6.57,5,null,3,null,2,3.9,2030]
[null,2000,10.17,0.7,81,6,6.17,5,null,3,null,2,3.5,1830]
[null,1800,9.370000000000001,0.7,73,6,5.77,5,null,3,null,2,3.2,1630]
[null,1600,8.57,0.6,65,6,5.37,4,null,2,null,1.5,2.8000000000000003,1430]
[null,1400,7.77,0.5,57,6,4.97,4,null,2,null,1.5,2.5,1230]
[null,1200,6.97,0.5,49,6,4.57,4,null,2,null,1.5,2.1,1030]
[null,1000,6.17,0.4,41,6,4.17,4,null,2,null,1.5,1.8,830]
[null,800,5.37,0.30000000000000004,33,6,3.77,4,null,2,null,1.5,1.4000000000000001,630]
[null,600,4.57,0.30000000000000004,25,6,3.37,4,null,2,null,1.5,1.1000000000000001,0]
[null,400,3.77,0.2,17,6,2.9699999999999998,4,null,2,null,1.5,0.7,0]
[null,200,2.9699999999999998,0.1,9,6,2.57,4,null,2,null,1.5,0.4,0]
["Wandtyp 1.1.6",5000,23.880000000000003,2.2000000000000002,263,15,12.17,11,null,null,null,2.75,11.299999999999999,4830]
[null,4800,23.08,2.1,252,15,11.77,11,null,null,null,2.75,10.799999999999999,4630]
[null,4600,22.28,2.1,242,15,11.37,11,null,null,null,2.75,10.4,4430]
[null,4400,21.480000000000004,2,231,15,10.97,11,null,null,null,2.75,9.9,4230]
[null,4200,20.68,1.9000000000000001,221,15,10.57,11,null,null,null,2.75,9.5,{"$f":"B135-170","v":4030}]
[null,4000,19.880000000000003,1.8,210,15,10.17,11,null,null,null,2.75,9,3830]
[null,3800,19.079999999999998,1.7000000000000002,200,15,9.77,11,null,null,null,2.75,8.6,3630]
[null,3600,18.28,1.6,189,15,9.370000000000001,11,null,null,null,2.75,8.1,3430]
[null,3400,17.48,1.5,179,15,8.9699999999999989,11,null,null,null,2.75,7.6999999999999993,3230]
[null,3200,16.68,1.4,168,15,8.57,11,null,null,null,2.75,7.1999999999999993,3030]
[null,3000,15.879999999999999,1.4000000000000001,158,15,8.17,11,null,null,null,2.75,6.8,2830]
[null,2800,15.079999999999998,1.3,147,13,7.77,9,null,null,null,2.25,6.3,2630]
[null,2600,14.280000000000001,1.2000000000000002,137,13,7.37,9,null,null,null,2.25,5.8999999999999995,2430]
[null,2400,12.91,1.1000000000000001,126,12,6.97,8,null,null,null,2,5.3999999999999995,2230]
[null,2200,12.110000000000001,1,116,12,6.57,8,null,null,null,2,5,2030]
[null,2000,11.31,0.9,105,12,6.17,8,null,null,null,2,4.5,1830]
[null,1800,10.510000000000002,0.79999999999999993,95,12,5.77,8,null,null,null,2,4.0999999999999996,1630]
[null,1600,9.7100000000000009,0.7,84,10,5.37,6,null,null,null,1.5,3.6,1430]
[null,1400,8.91,0.7,74,10,4.97,6,null,null,null,1.5,3.2,1230]
[null,1200,8.11,0.6,63,10,4.57,6,null,null,null,1.5,2.7,1030]
[null,1000,7.31,0.5,53,10,4.17,6,null,null,null,1.5,2.3000000000000003,830]
[null,800,6.51,0.4,42,10,3.77,6,null,null,null,1.5,1.8,630]
[null,600,5.71,0.30000000000000004,32,10,3.37,6,null,null,null,1.5,1.4000000000000001,0]
[null,400,4.91,0.2,21,10,2.9699999999999998,6,null,null,null,1.5,0.9,0]
[null,200,4.1099999999999994,0.1,11,10,2.57,6,null,null,null,1.5,0.5,0]
["Wandtyp 1.1.7",5000,34.78,3.3000000000000003,390,12,15.2,14,8,null,null,5.5,16.700000000000003,4830]
[null,4800,33.58,3.2,375,12,14.8,14,8,null,null,5.5,16,4630]
[null,4600,32.379999999999995,3,359,12,14.399999999999999,14,8,null,null,5.5,15.4,4430]
[null,4400,31.18,2.9,344,12,14,14,8,null,null,5.5,14.7,4230]
[null,4200,29.98,2.8000000000000003,328,12,13.600000000000001,14,8,null,null,5.5,14,4030]
[null,4000,28.78,2.6,312,12,13.2,12,8,null,null,5,13.4,3830]
[null,3800,27.58,2.5,297,12,12.8,12,8,null,null,5,12.7,3630]
[null,3600,26.38,2.4,281,12,12.4,12,6,null,null,4.5,12,3430]
[null,3400,25.18,2.3000000000000003,266,12,12,12,6,null,null,4.5,11.4,3230]
[null,3200,23.98,2.1,250,12,11.600000000000001,12,6,null,null,4.5,10.7,3030]
[null,3000,22.78,2,234,12,11.2,12,6,null,null,4.5,10,2830]
[null,2800,21.58,1.9000000000000001,219,12,10.8,10,6,null,null,4,9.4,2630]
[null,2600,20.380000000000003,1.7000000000000002,203,12,10.4,10,6,null,null,4,8.6999999999999993,2430]
[null,2400,19.18,1.6,188,12,10,10,2,null,null,3,8,2230]
[null,2200,17.98,1.5,172,12,9.6000000000000014,10,2,null,null,3,7.3999999999999995,2030]
[null,2000,16.78,1.3,156,12,9.1999999999999993,10,2,null,null,3,6.6999999999999993,1830]
[null,1800,15.579999999999998,1.2000000000000002,141,12,8.8000000000000007,10,2,null,null,3,6,1630]
[null,1600,14.379999999999999,1.1000000000000001,125,12,8.4,8,2,null,null,2.5,5.3999999999999995,1430]
[null,1400,13.18,1,110,12,8,8,2,null,null,2.5,4.6999999999999993,1230]
[null,1200,11.98,0.79999999999999993,94,12,7.6,6,0,null,null,1.5,4,1030]
[null,1000,10.780000000000001,0.7,78,12,7.2,6,0,null,null,1.5,3.4,830]
[null,800,9.58,0.6,63,12,6.8000000000000007,6,0,null,null,1.5,2.7,630]
[null,600,8.3800000000000008,0.4,47,12,6.4,6,0,null,null,1.5,2,0]
[null,400,7.18,0.30000000000000004,32,12,6,6,0,null,null,1.5,1.4000000000000001,0]
[null,200,5.98,0.2,16,12,5.6000000000000005,4,0,null,null,1,0.7,0]
["Wandtyp 1.1.8",5000,34.78,3.3000000000000003,390,12,15.2,14,null,8,null,5.5,16.700000000000003,4830]
[null,4800,33.58,3.2,375,12,14.8,14,null,8,null,5.5,16,4630]
[null,4600,32.379999999999995,3,359,12,14.399999999999999,14,null,8,null,5.5,15.4,4430]
[null,4400,31.18,2.9,344,12,14,14,null,8,null,5.5,14.7,4230]
[null,4200,29.98,2.8000000000000003,328,12,13.600000000000001,14,null,8,null,5.5,14,4030]
[null,4000,28.78,2.6,312,12,13.2,12,null,8,null,5,13.4,3830]
[null,3800,27.58,2.5,297,12,12.8,12,null,8,null,5,12.7,3630]
[null,3600,26.38,2.4,281,12,12.4,12,null,6,null,4.5,12,3430]
[null,3400,25.18,2.3000000000000003,266,12,12,12,null,6,null,4.5,11.4,3230]
[null,3200,23.98,2.1,250,12,11.600000000000001,12,null,6,null,4.5,10.7,3030]
[null,3000,22.78,2,234,12,11.2,12,null,6,null,4.5,10,2830]
[null,2800,21.58,1.9000000000000001,219,12,10.8,10,null,6,null,4,9.4,2630]
[null,2600,20.380000000000003,1.7000000000000002,203,12,10.4,10,null,6,null,4,8.6999999999999993,2430]
[null,2400,19.18,1.6,188,12,10,10,null,2,null,3,8,2230]
[null,2200,17.98,1.5,172,12,9.6000000000000014,10,null,2,null,3,7.3999999999999995,2030]
[null,2000,16.78,1.3,156,12,9.1999999999999993,10,null,2,null,3,6.6999999999999993,1830]
[null,1800,15.579999999999998,1.2000000000000002,141,12,8.8000000000000007,10,null,2,null,3,6,1630]
[null,1600,14.379999999999999,1.1000000000000001,125,12,8.4,8,null,2,null,2.5,5.3999999999999995,1430]
[null,1400,13.18,1,110,12,8,8,null,2,null,2.5,4.6999999999999993,{"$f":"B199-170","v":1230}]
[null,1200,11.98,0.79999999999999993,94,12,7.6,6,null,0,null,1.5,4,{"$f":"B200-170","v":1030}]
[null,1000,10.780000000000001,0.7,78,12,7.2,6,null,0,null,1.5,3.4,{"$f":"B201-170","v":830}]
[null,800,9.58,0.6,63,12,6.8000000000000007,6,null,0,null,1.5,2.7,{"$f":"B202-170","v":630}]
[null,600,8.3800000000000008,0.4,47,12,6.4,6,null,0,null,1.5,2,0]
[null,400,7.18,0.30000000000000004,32,12,6,6,null,0,null,1.5,1.4000000000000001,0]
[null,200,5.98,0.2,16,12,5.6000000000000005,4,null,0,null,1,0.7,0]
["Wandtyp 1.1.9",5000,37.06,3.3000000000000003,390,17,16.399999999999999,19,null,null,null,4.75,16.700000000000003,{"$f":"B206-170","v":4830}]
[null,4800,35.86,3.2,375,17,16,19,null,null,null,4.75,16,4630]
[null,4600,34.659999999999997,3,359,17,15.599999999999998,19,null,null,null,4.75,15.4,4430]
[null,4400,33.46,2.9,344,17,15.2,19,null,null,null,4.75,14.7,4230]
[null,4200,32.260000000000005,2.8000000000000003,328,17,14.8,19,null,null,null,4.75,14,4030]
[null,4000,31.060000000000002,2.6,312,17,14.399999999999999,19,null,null,null,4.75,13.4,3830]
[null,3800,29.86,2.5,297,17,14,19,null,null,null,4.75,12.7,3630]
[null,3600,28.66,2.4,281,17,13.6,14,null,null,null,3.5,12,3430]
[null,3400,27.46,2.3000000000000003,266,17,13.2,14,null,null,null,3.5,11.4,3230]
[null,3200,26.26,2.1,250,17,12.8,14,null,null,null,3.5,10.7,3030]
[null,3000,25.060000000000002,2,234,17,12.399999999999999,14,null,null,null,3.5,10,2830]
[null,2800,23.86,1.9000000000000001,219,17,12,14,null,null,null,3.5,9.4,2630]
[null,2600,22.660000000000004,1.7000000000000002,203,17,11.6,14,null,null,null,3.5,8.6999999999999993,2430]
[null,2400,19.18,1.6,188,13,11.2,11,null,null,null,2.75,8,2230]
[null,2200,17.98,1.5,172,13,10.8,11,null,null,null,2.75,7.3999999999999995,2030]
[null,2000,16.78,1.3,156,13,10.399999999999999,11,null,null,null,2.75,6.6999999999999993,1830]
[null,1800,15.579999999999998,1.2000000000000002,141,13,10,11,null,null,null,2.75,6,1630]
[null,1600,14.379999999999999,1.1000000000000001,125,13,9.6,9,null,null,null,2.25,5.3999999999999995,1430]
[null,1400,13.18,1,110,13,9.1999999999999993,9,null,null,null,2.25,4.6999999999999993,1230]
[null,1200,11.98,0.79999999999999993,94,12,8.7999999999999989,6,null,null,null,1.5,4,1030]
[null,1000,10.780000000000001,0.7,78,12,8.4,6,null,null,null,1.5,3.4,830]
[null,800,9.58,0.6,63,12,8,6,null,null,null,1.5,2.7,630]
[null,600,8.3800000000000008,0.4,47,12,7.6000000000000005,6,null,null,null,1.5,2,0]
[null,400,7.18,0.30000000000000004,32,12,7.2,6,null,null,null,1.5,1.4000000000000001,0]
[null,200,5.98,0.2,16,12,6.8000000000000007,4,null,null,null,1,0.7,0]
["Wandtyp 1.1.10",5000,50.97,4.1999999999999993,495,18,16.600000000000001,14,14,null,null,7,21.200000000000003,{"$f":"B231-170","v":4830}]
[null,4800,49.169999999999995,4,476,18,16.2,14,14,null,null,7,20.400000000000002,4630]
[null,4600,47.37,3.8000000000000003,456,18,15.799999999999999,14,14,null,null,7,19.5,4430]
[null,4400,45.57,3.7,436,18,15.4,14,14,null,null,7,18.700000000000003,4230]
[null,4200,43.77,3.5,416,18,15,14,14,null,null,7,17.8,4030]
[null,4000,41.970000000000006,3.3,396,18,14.6,12,14,null,null,6.5,17,3830]
[null,3800,40.17,3.2,377,18,14.2,12,14,null,null,6.5,16.100000000000001,3630]
[null,3600,38.370000000000005,3,357,18,13.8,12,10,null,null,5.5,15.299999999999999,3430]
[null,3400,36.57,2.9,337,18,13.399999999999999,12,10,null,null,5.5,14.4,3230]
[null,3200,34.770000000000003,2.7,317,18,13,12,10,null,null,5.5,13.6,3030]
[null,3000,32.97,2.5,297,18,12.6,12,10,null,null,5.5,12.7,2830]
[null,2800,31.17,2.4,278,18,12.2,10,10,null,null,5,11.9,2630]
[null,2600,29.370000000000005,2.2000000000000002,258,18,11.8,10,10,null,null,5,11,2430]
[null,2400,27.57,2,238,18,11.399999999999999,10,4,null,null,3.5,10.199999999999999,2230]
[null,2200,25.770000000000003,1.9000000000000001,218,18,11,10,4,null,null,3.5,9.4,2030]
[null,2000,23.97,1.7000000000000002,198,18,10.6,10,4,null,null,3.5,8.5,1830]
[null,1800,22.17,1.5,179,18,10.199999999999999,10,4,null,null,3.5,7.6999999999999993,1630]
[null,1600,20.369999999999997,1.4000000000000001,159,18,9.8000000000000007,8,4,null,null,3,6.8,1430]
[null,1400,18.57,1.2000000000000002,139,18,9.3999999999999986,8,4,null,null,3,6,1230]
[null,1200,16.769999999999996,1,119,18,9,6,0,null,null,1.5,5.0999999999999996,1030]
[null,1000,14.969999999999999,0.9,99,18,8.6,6,0,null,null,1.5,4.3,830]
[null,800,13.17,0.7,80,18,8.1999999999999993,6,0,null,null,1.5,3.4,630]
[null,600,11.370000000000001,0.5,60,18,7.8,6,0,null,null,1.5,2.6,0]
[null,400,9.57,0.4,40,18,7.3999999999999995,6,0,null,null,1.5,1.7000000000000002,0]
[null,200,7.77,0.2,20,18,7,4,0,null,null,1,0.9,0]
["Wandtyp 1.1.11",5000,50.97,4.1999999999999993,495,18,16.600000000000001,14,null,14,null,7,21.200000000000003,{"$f":"B256-170","v":4830}]
[null,4800,49.169999999999995,4,476,18,16.2,14,null,14,null,7,20.400000000000002,4630]
[null,4600,47.37,3.8000000000000003,456,18,15.799999999999999,14,null,14,null,7,19.5,4430]
[null,4400,45.57,3.7,436,18,15.4,14,null,14,null,7,18.700000000000003,4230]
[null,4200,43.77,3.5,416,18,15,14,null,14,null,7,17.8,4030]
[null,4000,41.970000000000006,3.3,396,18,14.6,12,null,14,null,6.5,17,3830]
[null,3800,40.17,3.2,377,18,14.2,12,null,14,null,6.5,16.100000000000001,3630]
[null,3600,38.370000000000005,3,357,18,13.8,12,null,10,null,5.5,15.299999999999999,3430]
[null,3400,36.57,2.9,337,18,13.399999999999999,12,null,10,null,5.5,14.4,3230]
[null,3200,34.770000000000003,2.7,317,18,13,12,null,10,null,5.5,13.6,3030]
[null,3000,32.97,2.5,297,18,12.6,12,null,10,null,5.5,12.7,2830]
[null,2800,31.17,2.4,278,18,12.2,10,null,10,null,5,11.9,2630]
[null,2600,29.370000000000005,2.2000000000000002,258,18,11.8,10,null,10,null,5,11,2430]
[null,2400,27.57,2,238,18,11.399999999999999,10,null,4,null,3.5,10.199999999999999,2230]
[null,2200,25.770000000000003,1.9000000000000001,218,18,11,10,null,4,null,3.5,9.4,2030]
[null,2000,23.97,1.7000000000000002,198,18,10.6,10,null,4,null,3.5,8.5,1830]
[null,1800,22.17,1.5,179,18,10.199999999999999,10,null,4,null,3.5,7.6999999999999993,1630]
[null,1600,20.369999999999997,1.4000000000000001,159,18,9.8000000000000007,8,null,4,null,3,6.8,1430]
[null,1400,18.57,1.2000000000000002,139,18,9.3999999999999986,8,null,4,null,3,6,1230]
[null,1200,16.769999999999996,1,119,18,9,6,null,0,null,1.5,5.0999999999999996,1030]
[null,1000,14.969999999999999,0.9,99,18,8.6,6,null,0,null,1.5,4.3,830]
[null,800,13.17,0.7,80,18,8.1999999999999993,6,null,0,null,1.5,3.4,630]
[null,600,11.370000000000001,0.5,60,18,7.8,6,null,0,null,1.5,2.6,0]
[null,400,9.57,0.4,40,18,7.3999999999999995,6,null,0,null,1.5,1.7000000000000002,0]
[null,200,7.77,0.2,20,18,7,4,null,0,null,1,0.9,0]
["Wandtyp 1.1.12",5000,50.97,4.1999999999999993,495,25,17.8,19,null,null,null,4.75,21.200000000000003,{"$f":"B281-170","v":4830}]
[null,4800,49.169999999999995,4,476,25,17.399999999999999,19,null,null,null,4.75,20.400000000000002,4630]
[null,4600,47.37,3.8000000000000003,456,25,17,19,null,null,null,4.75,19.5,4430]
[null,4400,45.57,3.7,436,25,16.600000000000001,19,null,null,null,4.75,18.700000000000003,4230]
[null,4200,43.77,3.5,416,25,16.2,19,null,null,null,4.75,17.8,4030]
[null,4000,41.970000000000006,3.3,396,25,15.799999999999999,19,null,null,null,4.75,17,3830]
[null,3800,40.17,3.2,377,25,15.399999999999999,19,null,null,null,4.75,16.100000000000001,3630]
[null,3600,38.370000000000005,3,357,25,15,19,null,null,null,4.75,15.299999999999999,3430]
[null,3400,36.57,2.9,337,25,14.599999999999998,19,null,null,null,4.75,14.4,3230]
[null,3200,34.770000000000003,2.7,317,25,14.2,19,null,null,null,4.75,13.6,3030]
[null,3000,32.97,2.5,297,25,13.799999999999999,19,null,null,null,4.75,12.7,2830]
[null,2800,31.17,2.4,278,25,13.399999999999999,19,null,null,null,4.75,11.9,2630]
[null,2600,29.370000000000005,2.2000000000000002,258,25,13,19,null,null,null,4.75,11,2430]
[null,2400,27.57,2,238,18,12.599999999999998,12,null,null,null,3,10.199999999999999,2230]
[null,2200,25.770000000000003,1.9000000000000001,218,18,12.2,12,null,null,null,3,9.4,2030]
[null,2000,23.97,1.7000000000000002,198,18,11.799999999999999,12,null,null,null,3,8.5,1830]
[null,1800,22.17,1.5,179,18,11.399999999999999,12,null,null,null,3,7.6999999999999993,1630]
[null,1600,20.369999999999997,1.4000000000000001,159,18,11,10,null,null,null,2.5,6.8,1430]
[null,1400,18.57,1.2000000000000002,139,18,10.599999999999998,10,null,null,null,2.5,6,1230]
[null,1200,16.769999999999996,1,119,18,10.199999999999999,6,null,null,null,1.5,5.0999999999999996,1030]
[null,1000,14.969999999999999,0.9,99,18,9.7999999999999989,6,null,null,null,1.5,4.3,830]
[null,800,13.17,0.7,80,18,9.3999999999999986,6,null,null,null,1.5,3.4,630]
[null,600,11.370000000000001,0.5,60,18,9,6,null,null,null,1.5,2.6,0]
[null,400,9.57,0.4,40,18,8.6,6,null,null,null,1.5,1.7000000000000002,0]
[null,200,7.77,0.2,20,18,8.1999999999999993,4,null,null,null,1,0.9,0]
["Wandtyp 1.1.13",5000,52.169999999999995,4.8999999999999995,585,18,17.8,14,14,null,null,7,25,{"$f":"B306-170","v":4830}]
[null,4800,50.36999999999999,4.6999999999999993,562,18,17.399999999999999,14,14,null,null,7,24,4630]
[null,4600,48.569999999999993,4.5,539,18,17,14,14,null,null,7,23,4430]
[null,4400,46.769999999999996,4.3,515,18,16.600000000000001,14,14,null,null,7,22,4230]
[null,4200,44.97,4.0999999999999996,492,18,16.2,14,14,null,null,7,21,4030]
[null,4000,43.17,3.9,468,18,15.8,12,14,null,null,6.5,20,3830]
[null,3800,41.37,3.8000000000000003,445,18,15.399999999999999,12,14,null,null,6.5,19,3630]
[null,3600,39.57,3.6,422,18,15,12,10,null,null,5.5,18,3430]
[null,3400,37.769999999999996,3.4,398,18,14.6,12,10,null,null,5.5,17,3230]
[null,3200,35.97,3.2,375,18,14.2,12,10,null,null,5.5,16,3030]
[null,3000,34.17,3,351,18,13.8,12,10,null,null,5.5,15,2830]
[null,2800,32.369999999999997,2.8000000000000003,328,18,13.399999999999999,10,10,null,null,5,14,2630]
[null,2600,30.570000000000004,2.6,305,18,13,10,10,null,null,5,13,2430]
[null,2400,28.77,2.4,281,18,12.6,10,4,null,null,3.5,12,2230]
[null,2200,26.970000000000002,2.2000000000000002,258,18,12.2,10,4,null,null,3.5,11,2030]
[null,2000,25.17,2,234,18,11.8,10,4,null,null,3.5,10,1830]
[null,1800,23.37,1.8,211,18,11.4,10,4,null,null,3.5,9,1630]
[null,1600,21.57,1.6,188,18,11,8,4,null,null,3,8,1430]
[null,1400,19.77,1.4000000000000001,164,18,10.6,8,4,null,null,3,7,1230]
[null,1200,17.97,1.2000000000000002,141,18,10.199999999999999,6,0,null,null,1.5,6,1030]
[null,1000,16.169999999999998,1,117,18,9.8000000000000007,6,0,null,null,1.5,5,830]
[null,800,14.370000000000001,0.79999999999999993,94,18,9.4,6,0,null,null,1.5,4,630]
[null,600,12.57,0.6,71,18,9,6,0,null,null,1.5,3,0]
[null,400,10.77,0.4,47,18,8.6,6,0,null,null,1.5,2,0]
[null,200,8.9699999999999989,0.2,24,18,8.1999999999999993,4,0,null,null,1,1,0]
["Wandtyp 1.1.14",5000,52.169999999999995,4.8999999999999995,585,18,17.8,14,null,14,null,7,25,{"$f":"B331-170","v":4830}]
[null,4800,50.36999999999999,4.6999999999999993,562,18,17.399999999999999,14,null,14,null,7,24,4630]
[null,4600,48.569999999999993,4.5,539,18,17,14,null,14,null,7,23,4430]
[null,4400,46.769999999999996,4.3,515,18,16.600000000000001,14,null,14,null,7,22,4230]
[null,4200,44.97,4.0999999999999996,492,18,16.2,14,null,14,null,7,21,4030]
[null,4000,43.17,3.9,468,18,15.8,12,null,14,null,6.5,20,3830]
[null,3800,41.37,3.8000000000000003,445,18,15.399999999999999,12,null,14,null,6.5,19,3630]
[null,3600,39.57,3.6,422,18,15,12,null,10,null,5.5,18,3430]
[null,3400,37.769999999999996,3.4,398,18,14.6,12,null,10,null,5.5,17,3230]
[null,3200,35.97,3.2,375,18,14.2,12,null,10,null,5.5,16,3030]
[null,3000,34.17,3,351,18,13.8,12,null,10,null,5.5,15,2830]
[null,2800,32.369999999999997,2.8000000000000003,328,18,13.399999999999999,10,null,10,null,5,14,2630]
[null,2600,30.570000000000004,2.6,305,18,13,10,null,10,null,5,13,2430]
[null,2400,28.77,2.4,281,18,12.6,10,null,4,null,3.5,12,2230]
[null,2200,26.970000000000002,2.2000000000000002,258,18,12.2,10,null,4,null,3.5,11,2030]
[null,2000,25.17,2,234,18,11.8,10,null,4,null,3.5,10,1830]
[null,1800,23.37,1.8,211,18,11.4,10,null,4,null,3.5,9,1630]
[null,1600,21.57,1.6,188,18,11,8,null,4,null,3,8,1430]
[null,1400,19.77,1.4000000000000001,164,18,10.6,8,null,4,null,3,7,1230]
[null,1200,17.97,1.2000000000000002,141,18,10.199999999999999,6,null,0,null,1.5,6,1030]
[null,1000,16.169999999999998,1,117,18,9.8000000000000007,6,null,0,null,1.5,5,830]
[null,800,14.370000000000001,0.79999999999999993,94,18,9.4,6,null,0,null,1.5,4,630]
[null,600,12.57,0.6,71,18,9,6,null,0,null,1.5,3,0]
[null,400,10.77,0.4,47,18,8.6,6,null,0,null,1.5,2,0]
[null,200,8.9699999999999989,0.2,24,18,8.1999999999999993,4,null,0,null,1,1,0]
["Wandtyp 1.1.15",5000,56.17,4.8999999999999995,585,25,19,19,null,null,null,4.75,25,{"$f":"B356-170","v":4830}]
[null,4800,54.36999999999999,4.6999999999999993,562,25,18.599999999999998,19,null,null,null,4.75,24,4630]
[null,4600,52.569999999999993,4.5,539,25,18.2,19,null,null,null,4.75,23,4430]
[null,4400,50.769999999999996,4.3,515,25,17.8,19,null,null,null,4.75,22,4230]
[null,4200,48.97,4.0999999999999996,492,25,17.399999999999999,19,null,null,null,4.75,21,4030]
[null,4000,47.17,3.9,468,25,17,19,null,null,null,4.75,20,3830]
[null,3800,45.370000000000005,3.8000000000000003,445,25,16.599999999999998,19,null,null,null,4.75,19,3630]
[null,3600,43.570000000000007,3.6,422,25,16.2,19,null,null,null,4.75,18,3430]
[null,3400,41.769999999999996,3.4,398,25,15.799999999999999,19,null,null,null,4.75,17,3230]
[null,3200,39.97,3.2,375,25,15.399999999999999,19,null,null,null,4.75,16,3030]
[null,3000,38.17,3,351,25,15,19,null,null,null,4.75,15,2830]
[null,2800,36.370000000000005,2.8000000000000003,328,25,14.599999999999998,19,null,null,null,4.75,14,2630]
[null,2600,34.570000000000007,2.6,305,25,14.2,19,null,null,null,4.75,13,2430]
[null,2400,28.77,2.4,281,18,13.799999999999999,12,null,null,null,3,12,2230]
[null,2200,26.970000000000002,2.2000000000000002,258,18,13.399999999999999,12,null,null,null,3,11,2030]
[null,2000,25.17,2,234,18,13,12,null,null,null,3,10,1830]
[null,1800,23.37,1.8,211,18,12.6,12,null,null,null,3,9,1630]
[null,1600,21.57,1.6,188,18,12.2,10,null,null,null,2.5,8,1430]
[null,1400,19.77,1.4000000000000001,164,18,11.799999999999999,10,null,null,null,2.5,7,1230]
[null,1200,17.97,1.2000000000000002,141,18,11.399999999999999,6,null,null,null,1.5,6,1030]
[null,1000,16.169999999999998,1,117,18,11,6,null,null,null,1.5,5,830]
[null,800,14.370000000000001,0.79999999999999993,94,18,10.6,6,null,null,null,1.5,4,630]
[null,600,12.57,0.6,71,18,10.199999999999999,6,null,null,null,1.5,3,0]
[null,400,10.77,0.4,47,18,9.7999999999999989,6,null,null,null,1.5,2,0]
[null,200,8.9699999999999989,0.2,24,18,9.3999999999999986,4,null,null,null,1,1,0]
["Wandtyp 1.2.1",5000,22.55,1.5,171,8,12.57,6,5,null,null,2.75,7.3,{"$f":"B381-170","v":4830}]
[null,4800,21.75,1.4000000000000001,164,8,12.17,6,5,null,null,2.75,7,4630]
[null,4600,20.95,1.4000000000000001,158,8,11.77,6,5,null,null,2.75,6.8,4430]
[null,4400,20.150000000000002,1.3,151,8,11.370000000000001,6,5,null,null,2.75,6.5,4230]
[null,4200,19.350000000000001,1.2,144,8,10.97,6,5,null,null,2.75,6.1999999999999993,4030]
[null,4000,18.55,1.2000000000000002,138,8,10.57,6,5,null,null,2.75,5.8999999999999995,3830]
[null,3800,17.75,1.1000000000000001,131,8,10.17,6,5,null,null,2.75,5.6,3630]
[null,3600,16.95,1.1000000000000001,125,8,9.77,6,5,null,null,2.75,5.3999999999999995,3430]
[null,3400,16.149999999999999,1,118,8,9.3699999999999992,6,5,null,null,2.75,5.0999999999999996,3230]
[null,3200,15.350000000000001,1,111,8,8.9700000000000006,6,5,null,null,2.75,4.8,3030]
[null,3000,14.55,0.9,105,8,8.57,6,5,null,null,2.75,4.5,2830]
[null,2800,13.75,0.9,98,8,8.17,5,4,null,null,2.25,4.1999999999999993,2630]
[null,2600,12.95,0.79999999999999993,92,8,7.77,5,4,null,null,2.25,3.9,2430]
[null,2400,11.95,0.79999999999999993,85,7,7.3699999999999992,4,4,null,null,2,3.7,2230]
[null,2200,11.15,0.7,78,7,6.9700000000000006,4,4,null,null,2,3.4,2030]
[null,2000,10.35,0.6,72,7,6.57,4,4,null,null,2,3.1,1830]
[null,1800,9.5500000000000007,0.6,65,7,6.17,4,4,null,null,2,2.8000000000000003,1630]
[null,1600,8.75,0.5,59,7,5.77,3,3,null,null,1.5,2.5,1430]
[null,1400,7.9499999999999993,0.5,52,7,5.3699999999999992,3,3,null,null,1.5,2.3000000000000003,{"$f":"B399-170","v":1230}]
[null,1200,7.15,0.4,45,7,4.97,3,3,null,null,1.5,2,{"$f":"B400-170","v":1030}]
[null,1000,6.35,0.4,39,7,4.57,3,3,null,null,1.5,1.7000000000000002,{"$f":"B401-170","v":830}]
[null,800,5.5500000000000007,0.30000000000000004,32,7,4.17,3,3,null,null,1.5,1.4000000000000001,{"$f":"B402-170","v":630}]
[null,600,4.75,0.30000000000000004,26,7,3.7699999999999996,3,3,null,null,1.5,1.1000000000000001,0]
[null,400,3.95,0.2,19,7,3.37,3,3,null,null,1.5,0.79999999999999993,0]
[null,200,3.1500000000000004,0.1,12,7,2.9699999999999998,3,3,null,null,1.5,0.6,0]
["Wandtyp 1.2.2",5000,22.55,1.5,174,8,12.57,6,null,5,null,2.75,7.3999999999999995,{"$f":"B406-170","v":4830}]
[null,4800,21.75,1.4000000000000001,167,8,12.17,6,null,5,null,2.75,7.1999999999999993,4630]
[null,4600,20.95,1.4000000000000001,160,8,11.77,6,null,5,null,2.75,6.8999999999999995,4430]
[null,4400,20.150000000000002,1.3,154,8,11.370000000000001,6,null,5,null,2.75,6.6,4230]
[null,4200,19.350000000000001,1.3,147,8,10.97,6,null,5,null,2.75,6.3,4030]
[null,4000,18.55,1.2000000000000002,141,8,10.57,6,null,5,null,2.75,6,3830]
[null,3800,17.75,1.2000000000000002,134,8,10.17,6,null,5,null,2.75,5.8,3630]
[null,3600,16.95,1.1000000000000001,127,8,9.77,6,null,5,null,2.75,5.5,3430]
[null,3400,16.149999999999999,1.1000000000000001,121,8,9.3699999999999992,6,null,5,null,2.75,5.1999999999999993,3230]
[null,3200,15.350000000000001,1,114,8,8.9700000000000006,6,null,5,null,2.75,4.8999999999999995,3030]
[null,3000,14.55,0.9,108,8,8.57,6,null,5,null,2.75,4.5999999999999996,2830]
[null,2800,13.75,0.9,101,8,8.17,5,null,4,null,2.25,4.3,2630]
[null,2600,12.95,0.79999999999999993,94,8,7.77,5,null,4,null,2.25,4.0999999999999996,2430]
[null,2400,11.95,0.79999999999999993,88,7,7.3699999999999992,4,null,4,null,2,3.8000000000000003,2230]
[null,2200,11.15,0.7,81,7,6.9700000000000006,4,null,4,null,2,3.5,2030]
[null,2000,10.35,0.7,75,7,6.57,4,null,4,null,2,3.2,1830]
[null,1800,9.5500000000000007,0.6,68,7,6.17,4,null,4,null,2,2.9,1630]
[null,1600,8.75,0.6,61,7,5.77,3,null,3,null,1.5,2.7,1430]
[null,1400,7.9499999999999993,0.5,55,7,5.3699999999999992,3,null,3,null,1.5,2.4,1230]
[null,1200,7.15,0.4,48,7,4.97,3,null,3,null,1.5,2.1,1030]
[null,1000,6.35,0.4,42,7,4.57,3,null,3,null,1.5,1.8,830]
[null,800,5.5500000000000007,0.30000000000000004,35,7,4.17,3,null,3,null,1.5,1.5,630]
[null,600,4.75,0.30000000000000004,28,7,3.7699999999999996,3,null,3,null,1.5,1.2000000000000002,0]
[null,400,3.95,0.2,22,7,3.37,3,null,3,null,1.5,1,0]
[null,200,3.1500000000000004,0.2,15,7,2.9699999999999998,3,null,3,null,1.5,0.7,0]
["Wandtyp 1.2.3",5000,24.75,2,233,16,13.17,11,null,null,null,2.75,10,{"$f":"B431-170","v":4830}]
[null,4800,23.95,1.9000000000000001,225,16,12.77,11,null,null,null,2.75,9.6,4630]
[null,4600,23.15,1.8,216,16,12.37,11,null,null,null,2.75,9.2999999999999989,4430]
[null,4400,22.35,1.8,207,16,11.97,11,null,null,null,2.75,8.9,4230]
[null,4200,21.55,1.7000000000000002,198,16,11.57,11,null,null,null,2.75,8.5,4030]
[null,4000,20.75,1.6,190,16,11.17,11,null,null,null,2.75,8.1,3830]
[null,3800,19.95,1.6,181,16,10.77,11,null,null,null,2.75,7.8,3630]
[null,3600,19.149999999999999,1.5,172,16,10.37,11,null,null,null,2.75,7.3999999999999995,3430]
[null,3400,18.349999999999998,1.4000000000000001,164,16,9.9699999999999989,11,null,null,null,2.75,7,3230]
[null,3200,17.55,1.3,155,16,9.57,11,null,null,null,2.75,6.6999999999999993,3030]
[null,3000,16.75,1.3,146,16,9.17,11,null,null,null,2.75,6.3,2830]
[null,2800,15.95,1.2000000000000002,138,16,8.77,9,null,null,null,2.25,5.8999999999999995,2630]
[null,2600,15.15,1.1000000000000001,129,16,8.3699999999999992,9,null,null,null,2.25,5.5,2430]
[null,2400,13.149999999999999,1,120,13,7.9699999999999989,8,null,null,null,2,5.1999999999999993,2230]
[null,2200,12.35,1,111,13,7.57,8,null,null,null,2,4.8,2030]
[null,2000,11.549999999999999,0.9,103,13,7.17,8,null,null,null,2,4.3999999999999995,1830]
[null,1800,10.75,0.79999999999999993,94,13,6.77,8,null,null,null,2,4,1630]
[null,1600,9.9499999999999993,0.79999999999999993,85,13,6.3699999999999992,6,null,null,null,1.5,3.7,1430]
[null,1400,9.1499999999999986,0.7,77,13,5.9699999999999989,6,null,null,null,1.5,3.3000000000000003,1230]
[null,1200,8.35,0.6,68,13,5.5699999999999994,6,null,null,null,1.5,2.9,1030]
[null,1000,7.55,0.5,59,13,5.17,6,null,null,null,1.5,2.6,830]
[null,800,6.7500000000000009,0.5,51,13,4.7699999999999996,6,null,null,null,1.5,2.2000000000000002,630]
[null,600,5.95,0.4,42,13,4.3699999999999992,6,null,null,null,1.5,1.8,0]
[null,400,5.15,0.30000000000000004,33,13,3.97,6,null,null,null,1.5,1.4000000000000001,0]
[null,200,4.3500000000000005,0.2,24,13,3.57,6,null,null,null,1.5,1.1000000000000001,0]
["Wandtyp 1.2.4",5000,23.45,1.8,210,8,12.17,6,5,null,null,2.75,9,4830]
[null,4800,22.65,1.7000000000000002,202,8,11.77,6,5,null,null,2.75,8.6999999999999993,4630]
[null,4600,21.849999999999998,1.7000000000000002,194,8,11.37,6,5,null,null,2.75,8.2999999999999989,4430]
[null,4400,21.05,1.6,186,8,10.97,6,5,null,null,2.75,8,4230]
[null,4200,20.25,1.5,178,8,10.57,6,5,null,null,2.75,7.6,4030]
[null,4000,19.45,1.5,170,8,10.17,6,5,null,null,2.75,7.3,3830]
[null,3800,18.649999999999999,1.4000000000000001,162,8,9.77,6,5,null,null,2.75,6.8999999999999995,3630]
[null,3600,17.850000000000001,1.3,153,8,9.370000000000001,6,5,null,null,2.75,6.6,3430]
[null,3400,17.05,1.3,145,8,8.9699999999999989,6,5,null,null,2.75,6.1999999999999993,3230]
[null,3200,16.25,1.2000000000000002,137,8,8.57,6,5,null,null,2.75,5.8999999999999995,3030]
[null,3000,15.45,1.1000000000000001,129,8,8.17,6,5,null,null,2.75,5.5,2830]
[null,2800,14.649999999999999,1.1000000000000001,121,8,7.77,5,4,null,null,2.25,5.1999999999999993,2630]
[null,2600,13.850000000000001,1,113,8,7.37,5,4,null,null,2.25,4.8999999999999995,2430]
[null,2400,12.85,0.9,105,7,6.97,4,4,null,null,2,4.5,2230]
[null,2200,12.05,0.9,97,7,6.57,4,4,null,null,2,4.1999999999999993,2030]
[null,2000,11.25,0.79999999999999993,89,7,6.17,4,4,null,null,2,3.8000000000000003,1830]
[null,1800,10.45,0.7,81,7,5.77,4,4,null,null,2,3.5,1630]
[null,1600,9.65,0.6,72,7,5.37,3,3,null,null,1.5,3.1,1430]
[null,1400,8.85,0.6,64,7,4.97,3,3,null,null,1.5,2.8000000000000003,1230]
[null,1200,8.0500000000000007,0.5,56,7,4.57,3,3,null,null,1.5,2.4,1030]
[null,1000,7.25,0.4,48,7,4.17,3,3,null,null,1.5,2.1,830]
[null,800,6.45,0.4,40,7,3.77,3,3,null,null,1.5,1.7000000000000002,630]
[null,600,5.65,0.30000000000000004,32,7,3.37,3,3,null,null,1.5,1.4000000000000001,0]
[null,400,4.8499999999999996,0.2,24,7,2.9699999999999998,3,3,null,null,1.5,1,0]
[null,200,4.05,0.2,16,7,2.57,3,3,null,null,1.5,0.7,0]
["Wandtyp 1.2.5",5000,23.45,1.8,214,8,12.17,6,null,5,null,2.75,9.1999999999999993,4830]
[null,4800,22.65,1.8,206,8,11.77,6,null,5,null,2.75,8.7999999999999989,4630]
[null,4600,21.849999999999998,1.7000000000000002,198,8,11.37,6,null,5,null,2.75,8.5,4430]
[null,4400,21.05,1.6,189,8,10.97,6,null,5,null,2.75,8.1,4230]
[null,4200,20.25,1.6,181,8,10.57,6,null,5,null,2.75,7.8,4030]
[null,4000,19.45,1.5,173,8,10.17,6,null,5,null,2.75,7.3999999999999995,3830]
[null,3800,18.649999999999999,1.4000000000000001,165,8,9.77,6,null,5,null,2.75,7.1,3630]
[null,3600,17.850000000000001,1.4000000000000001,157,8,9.370000000000001,6,null,5,null,2.75,6.6999999999999993,3430]
[null,3400,17.05,1.3,149,8,8.9699999999999989,6,null,5,null,2.75,6.3999999999999995,3230]
[null,3200,16.25,1.2000000000000002,141,8,8.57,6,null,5,null,2.75,6,3030]
[null,3000,15.45,1.2000000000000002,133,8,8.17,6,null,5,null,2.75,5.6999999999999993,2830]
[null,2800,14.649999999999999,1.1000000000000001,125,8,7.77,5,null,4,null,2.25,5.3999999999999995,2630]
[null,2600,13.850000000000001,1,117,8,7.37,5,null,4,null,2.25,5,2430]
[null,2400,12.85,0.9,108,7,6.97,4,null,4,null,2,4.6999999999999993,2230]
[null,2200,12.05,0.9,100,7,6.57,4,null,4,null,2,4.3,{"$f":"B495-170","v":2030}]
[null,2000,11.25,0.79999999999999993,92,7,6.17,4,null,4,null,2,4,1830]
[null,1800,10.45,0.7,84,7,5.77,4,null,4,null,2,3.6,1630]
[null,1600,9.65,0.7,76,7,5.37,3,null,3,null,1.5,3.3000000000000003,1430]
[null,1400,8.85,0.6,68,7,4.97,3,null,3,null,1.5,2.9,1230]
[null,1200,8.0500000000000007,0.5,60,7,4.57,3,null,3,null,1.5,2.6,1030]
[null,1000,7.25,0.5,52,7,4.17,3,null,3,null,1.5,2.2000000000000002,830]
[null,800,6.45,0.4,44,7,3.77,3,null,3,null,1.5,1.9000000000000001,630]
[null,600,5.65,0.30000000000000004,36,7,3.37,3,null,3,null,1.5,1.5,0]
[null,400,4.8499999999999996,0.30000000000000004,27,7,2.9699999999999998,3,null,3,null,1.5,1.2000000000000002,0]
[null,200,4.05,0.2,19,7,2.57,3,null,3,null,1.5,0.9,0]
["Wandtyp 1.2.6",5000,25.65,2.4,284,16,12.77,11,null,null,null,2.75,12.2,4830]
[null,4800,24.849999999999998,2.3000000000000003,273,16,12.37,11,null,null,null,2.75,11.7,4630]
[null,4600,24.049999999999997,2.2000000000000002,263,16,11.969999999999999,11,null,null,null,2.75,11.299999999999999,4430]
[null,4400,23.25,2.1,252,16,11.57,11,null,null,null,2.75,10.799999999999999,4230]
[null,4200,22.45,2.1,242,16,11.17,11,null,null,null,2.75,10.4,4030]
[null,4000,21.65,2,231,16,10.77,11,null,null,null,2.75,9.9,3830]
[null,3800,20.849999999999998,1.9000000000000001,221,16,10.37,11,null,null,null,2.75,9.5,3630]
[null,3600,20.049999999999997,1.8,210,16,9.9700000000000006,11,null,null,null,2.75,9,3430]
[null,3400,19.25,1.7000000000000002,200,16,9.5699999999999985,11,null,null,null,2.75,8.6,3230]
[null,3200,18.45,1.6,189,16,9.17,11,null,null,null,2.75,8.1,3030]
[null,3000,17.649999999999999,1.5,179,16,8.77,11,null,null,null,2.75,7.6999999999999993,2830]
[null,2800,16.849999999999998,1.4000000000000001,168,16,8.3699999999999992,9,null,null,null,2.25,7.1999999999999993,2630]
[null,2600,16.05,1.4000000000000001,158,16,7.97,9,null,null,null,2.25,6.8,2430]
[null,2400,14.049999999999999,1.3,147,13,7.5699999999999994,8,null,null,null,2,6.3,2230]
[null,2200,13.25,1.2000000000000002,137,13,7.17,8,null,null,null,2,5.8999999999999995,2030]
[null,2000,12.45,1.1000000000000001,126,13,6.77,8,null,null,null,2,5.3999999999999995,1830]
[null,1800,11.649999999999999,1,116,13,6.3699999999999992,8,null,null,null,2,5,1630]
[null,1600,10.85,0.9,105,13,5.97,6,null,null,null,1.5,4.5,1430]
[null,1400,10.049999999999999,0.79999999999999993,95,13,5.5699999999999994,6,null,null,null,1.5,4.0999999999999996,1230]
[null,1200,9.25,0.7,84,13,5.17,6,null,null,null,1.5,3.6,1030]
[null,1000,8.4499999999999993,0.7,74,13,4.7699999999999996,6,null,null,null,1.5,3.2,830]
[null,800,7.65,0.6,63,13,4.37,6,null,null,null,1.5,2.7,630]
[null,600,6.8500000000000005,0.5,53,13,3.97,6,null,null,null,1.5,2.3000000000000003,0]
[null,400,6.05,0.4,42,13,3.57,6,null,null,null,1.5,1.8,0]
[null,200,5.25,0.30000000000000004,32,13,3.17,6,null,null,null,1.5,1.4000000000000001,0]
["Wandtyp 1.2.7",5000,37.379999999999995,3.4,407,12,15.2,12,10,null,null,5.5,17.400000000000002,4830]
[null,4800,36.179999999999993,3.3000000000000003,392,12,14.8,12,10,null,null,5.5,16.8,4630]
[null,4600,34.979999999999997,3.2,376,12,14.399999999999999,12,10,null,null,5.5,16.100000000000001,4430]
[null,4400,33.78,3,360,12,14,12,10,null,null,5.5,15.4,4230]
[null,4200,32.58,2.9,345,12,13.600000000000001,12,10,null,null,5.5,14.799999999999999,4030]
[null,4000,31.380000000000003,2.8000000000000003,329,12,13.2,10,10,null,null,5,14.1,3830]
[null,3800,30.18,2.7,314,12,12.8,10,10,null,null,5,13.4,3630]
[null,3600,28.98,2.5,298,12,12.4,10,8,null,null,4.5,12.799999999999999,3430]
[null,3400,27.78,2.4,282,12,12,10,8,null,null,4.5,12.1,3230]
[null,3200,26.580000000000002,2.3000000000000003,267,12,11.600000000000001,10,8,null,null,4.5,11.4,3030]
[null,3000,25.380000000000003,2.1,251,12,11.2,10,8,null,null,4.5,10.799999999999999,2830]
[null,2800,24.18,2,236,12,10.8,8,8,null,null,4,10.1,2630]
[null,2600,22.98,1.9000000000000001,220,12,10.4,8,8,null,null,4,9.4,2430]
[null,2400,21.78,1.7,204,12,10,8,4,null,null,3,8.7999999999999989,2230]
[null,2200,20.580000000000002,1.6,189,12,9.6000000000000014,8,4,null,null,3,8.1,2030]
[null,2000,19.38,1.5,173,12,9.1999999999999993,8,4,null,null,3,7.3999999999999995,1830]
[null,1800,18.18,1.4000000000000001,158,12,8.8000000000000007,8,4,null,null,3,6.8,1630]
[null,1600,16.98,1.2000000000000002,142,12,8.4,6,4,null,null,2.5,6.1,1430]
[null,1400,15.779999999999998,1.1000000000000001,126,12,8,6,4,null,null,2.5,5.3999999999999995,1230]
[null,1200,14.579999999999998,1,111,12,7.6,4,2,null,null,1.5,4.8,1030]
[null,1000,13.379999999999999,0.79999999999999993,95,12,7.2,4,2,null,null,1.5,4.0999999999999996,830]
[null,800,12.18,0.7,80,12,6.8000000000000007,4,2,null,null,1.5,3.4,630]
[null,600,10.98,0.6,64,12,6.4,4,2,null,null,1.5,2.8000000000000003,0]
[null,400,9.7799999999999994,0.4,48,12,6,4,2,null,null,1.5,2.1,0]
[null,200,8.58,0.30000000000000004,33,12,5.6000000000000005,2,2,null,null,1,1.4000000000000001,0]
["Wandtyp 1.2.8",5000,37.379999999999995,3.5,415,12,15.2,12,null,10,null,5.5,17.8,4830]
[null,4800,36.179999999999993,3.4,399,12,14.8,12,null,10,null,5.5,17.100000000000001,4630]
[null,4600,34.979999999999997,3.2,384,12,14.399999999999999,12,null,10,null,5.5,16.400000000000002,4430]
[null,4400,33.78,3.1,368,12,14,12,null,10,null,5.5,15.799999999999999,{"$f":"B559-170","v":4230}]
[null,4200,32.58,3,353,12,13.600000000000001,12,null,10,null,5.5,15.1,4030]
[null,4000,31.380000000000003,2.9,337,12,13.2,10,null,10,null,5,14.4,3830]
[null,3800,30.18,2.7,321,12,12.8,10,null,10,null,5,13.799999999999999,3630]
[null,3600,28.98,2.6,306,12,12.4,10,null,8,null,4.5,13.1,3430]
[null,3400,27.78,2.5,290,12,12,10,null,8,null,4.5,12.4,3230]
[null,3200,26.580000000000002,2.3000000000000003,275,12,11.600000000000001,10,null,8,null,4.5,11.799999999999999,3030]
[null,3000,25.380000000000003,2.2000000000000002,259,12,11.2,10,null,8,null,4.5,11.1,2830]
[null,2800,24.18,2.1,243,12,10.8,8,null,8,null,4,10.4,2630]
[null,2600,22.98,1.9000000000000001,228,12,10.4,8,null,8,null,4,9.7999999999999989,2430]
[null,2400,21.78,1.8,212,12,10,8,null,4,null,3,9.1,2230]
[null,2200,20.580000000000002,1.7000000000000002,197,12,9.6000000000000014,8,null,4,null,3,8.4,2030]
[null,2000,19.38,1.6,181,12,9.1999999999999993,8,null,4,null,3,7.8,1830]
[null,1800,18.18,1.4000000000000001,165,12,8.8000000000000007,8,null,4,null,3,7.1,1630]
[null,1600,16.98,1.3,150,12,8.4,6,null,4,null,2.5,6.3999999999999995,1430]
[null,1400,15.779999999999998,1.2000000000000002,134,12,8,6,null,4,null,2.5,5.8,1230]
[null,1200,14.579999999999998,1,119,12,7.6,4,null,2,null,1.5,5.0999999999999996,1030]
[null,1000,13.379999999999999,0.9,103,12,7.2,4,null,2,null,1.5,4.3999999999999995,830]
[null,800,12.18,0.79999999999999993,87,12,6.8000000000000007,4,null,2,null,1.5,3.8000000000000003,630]
[null,600,10.98,0.6,72,12,6.4,4,null,2,null,1.5,3.1,0]
[null,400,9.7799999999999994,0.5,56,12,6,4,null,2,null,1.5,2.4,0]
[null,200,8.58,0.4,41,12,5.6000000000000005,2,null,2,null,1,1.8,0]
["Wandtyp 1.2.9",5000,39.78,3.7,437,20,15.799999999999999,19,null,null,null,4.75,18.700000000000003,{"$f":"B581-170","v":4830}]
[null,4800,38.58,3.6,422,20,15.4,19,null,null,null,4.75,18,4630]
[null,4600,37.379999999999995,3.4,406,20,14.999999999999998,19,null,null,null,4.75,17.400000000000002,4430]
[null,4400,36.18,3.3000000000000003,390,20,14.6,19,null,null,null,4.75,16.700000000000003,4230]
[null,4200,34.980000000000004,3.2,375,20,14.200000000000001,19,null,null,null,4.75,16,4030]
[null,4000,33.78,3,359,20,13.799999999999999,17,null,null,null,4.25,15.4,3830]
[null,3800,32.58,2.9,344,20,13.4,17,null,null,null,4.25,14.7,3630]
[null,3600,31.38,2.8000000000000003,328,20,13,16,null,null,null,4,14,3430]
[null,3400,30.18,2.6,312,20,12.6,16,null,null,null,4,13.4,3230]
[null,3200,28.98,2.5,297,20,12.200000000000001,16,null,null,null,4,12.7,3030]
[null,3000,27.78,2.4,281,20,11.799999999999999,16,null,null,null,4,12,2830]
[null,2800,26.58,2.3000000000000003,266,20,11.4,14,null,null,null,3.5,11.4,2630]
[null,2600,25.380000000000003,2.1,250,20,11,14,null,null,null,3.5,10.7,2430]
[null,2400,22.98,2,234,16,10.6,11,null,null,null,2.75,10,2230]
[null,2200,21.78,1.9000000000000001,219,16,10.200000000000001,11,null,null,null,2.75,9.4,2030]
[null,2000,20.58,1.7000000000000002,203,16,9.7999999999999989,11,null,null,null,2.75,8.6999999999999993,1830]
[null,1800,19.38,1.6,188,16,9.4,11,null,null,null,2.75,8,1630]
[null,1600,18.18,1.5,172,16,9,9,null,null,null,2.25,7.3999999999999995,1430]
[null,1400,16.979999999999997,1.3,156,16,8.6,9,null,null,null,2.25,6.6999999999999993,1230]
[null,1200,15.78,1.2000000000000002,141,16,8.1999999999999993,8,null,null,null,2,6,1030]
[null,1000,14.58,1.1000000000000001,125,16,7.8,8,null,null,null,2,5.3999999999999995,830]
[null,800,13.379999999999999,1,110,16,7.4,8,null,null,null,2,4.6999999999999993,630]
[null,600,12.18,0.79999999999999993,94,16,7,8,null,null,null,2,4,0]
[null,400,10.98,0.7,78,16,6.6,6,null,null,null,1.5,3.4,0]
[null,200,9.7799999999999994,0.6,63,16,6.2,4,null,null,null,1,2.7,0]
["Wandtyp 1.2.10",5000,54.269999999999996,4.3999999999999995,521,16,16.600000000000001,12,16,null,null,7,22.3,{"$f":"B606-170","v":4830}]
[null,4800,52.469999999999992,4.1999999999999993,501,16,16.2,12,16,null,null,7,21.400000000000002,4630]
[null,4600,50.669999999999995,4.0999999999999996,481,16,15.799999999999999,12,16,null,null,7,20.6,4430]
[null,4400,48.87,3.9,461,16,15.4,12,16,null,null,7,19.700000000000003,4230]
[null,4200,47.07,3.7,441,16,15,12,16,null,null,7,18.900000000000002,4030]
[null,4000,45.27,3.6,422,16,14.6,10,16,null,null,6.5,18,3830]
[null,3800,43.47,3.4,402,16,14.2,10,16,null,null,6.5,17.200000000000003,3630]
[null,3600,41.67,3.2,382,16,13.8,10,12,null,null,5.5,16.400000000000002,3430]
[null,3400,39.869999999999997,3.1,362,16,13.399999999999999,10,12,null,null,5.5,15.5,3230]
[null,3200,38.07,2.9,342,16,13,10,12,null,null,5.5,14.7,3030]
[null,3000,36.270000000000003,2.7,323,16,12.6,10,12,null,null,5.5,13.799999999999999,2830]
[null,2800,34.47,2.6,303,16,12.2,8,12,null,null,5,13,2630]
[null,2600,32.67,2.4,283,16,11.8,8,12,null,null,5,12.1,2430]
[null,2400,30.869999999999997,2.2000000000000002,263,16,11.399999999999999,8,6,null,null,3.5,11.299999999999999,2230]
[null,2200,29.07,2.1,243,16,11,8,6,null,null,3.5,10.4,2030]
[null,2000,27.270000000000003,1.9000000000000001,224,16,10.6,8,6,null,null,3.5,9.6,1830]
[null,1800,25.47,1.7000000000000002,204,16,10.199999999999999,8,6,null,null,3.5,8.6999999999999993,1630]
[null,1600,23.67,1.6,184,16,9.8000000000000007,6,6,null,null,3,7.8999999999999995,1430]
[null,1400,21.869999999999997,1.4000000000000001,164,16,9.3999999999999986,6,6,null,null,3,7,1230]
[null,1200,20.07,1.2,144,16,9,4,2,null,null,1.5,6.1999999999999993,1030]
[null,1000,18.27,1.1000000000000001,125,16,8.6,4,2,null,null,1.5,5.3999999999999995,830]
[null,800,16.47,0.9,105,16,8.1999999999999993,4,2,null,null,1.5,4.5,630]
[null,600,14.670000000000002,0.79999999999999993,85,16,7.8,4,2,null,null,1.5,3.7,0]
[null,400,12.870000000000001,0.6,65,16,7.3999999999999995,4,2,null,null,1.5,2.8000000000000003,0]
[null,200,11.07,0.4,45,16,7,2,2,null,null,1,2,0]
["Wandtyp 1.2.11",5000,54.269999999999996,4.5,532,16,16.600000000000001,12,null,16,null,7,22.8,{"$f":"B631-170","v":4830}]
[null,4800,52.469999999999992,4.3,513,16,16.2,12,null,16,null,7,21.900000000000002,4630]
[null,4600,50.669999999999995,4.1999999999999993,493,16,15.799999999999999,12,null,16,null,7,21.1,4430]
[null,4400,48.87,4,473,16,15.4,12,null,16,null,7,20.200000000000003,4230]
[null,4200,47.07,3.8000000000000003,453,16,15,12,null,16,null,7,19.400000000000002,4030]
[null,4000,45.27,3.7,433,16,14.6,10,null,16,null,6.5,18.5,3830]
[null,3800,43.47,3.5,414,16,14.2,10,null,16,null,6.5,17.700000000000003,3630]
[null,3600,41.67,3.3000000000000003,394,16,13.8,10,null,12,null,5.5,16.900000000000002,3430]
[null,3400,39.869999999999997,3.2,374,16,13.399999999999999,10,null,12,null,5.5,16,3230]
[null,3200,38.07,3,354,16,13,10,null,12,null,5.5,15.2,3030]
[null,3000,36.270000000000003,2.8000000000000003,334,16,12.6,10,null,12,null,5.5,14.299999999999999,2830]
[null,2800,34.47,2.7,315,16,12.2,8,null,12,null,5,13.5,2630]
[null,2600,32.67,2.5,295,16,11.8,8,null,12,null,5,12.6,2430]
[null,2400,30.869999999999997,2.3000000000000003,275,16,11.399999999999999,8,null,6,null,3.5,11.799999999999999,2230]
[null,2200,29.07,2.2000000000000002,255,16,11,8,null,6,null,3.5,10.9,2030]
[null,2000,27.270000000000003,2,235,16,10.6,8,null,6,null,3.5,10.1,1830]
[null,1800,25.47,1.8,216,16,10.199999999999999,8,null,6,null,3.5,9.1999999999999993,1630]
[null,1600,23.67,1.7000000000000002,196,16,9.8000000000000007,6,null,6,null,3,8.4,1430]
[null,1400,21.869999999999997,1.5,176,16,9.3999999999999986,6,null,6,null,3,7.5,1230]
[null,1200,20.07,1.3,156,16,9,4,null,2,null,1.5,6.6999999999999993,1030]
[null,1000,18.27,1.2000000000000002,136,16,8.6,4,null,2,null,1.5,5.8999999999999995,830]
[null,800,16.47,1,117,16,8.1999999999999993,4,null,2,null,1.5,5,630]
[null,600,14.670000000000002,0.9,97,16,7.8,4,null,2,null,1.5,4.1999999999999993,0]
[null,400,12.870000000000001,0.7,77,16,7.3999999999999995,4,null,2,null,1.5,3.3000000000000003,0]
[null,200,11.07,0.5,57,16,7,2,null,2,null,1,2.5,0]
["Wandtyp 1.2.12",5000,55.47,4.8,566,26,17.200000000000003,22,null,null,null,5.5,24.200000000000003,{"$f":"B656-170","v":4830}]
[null,4800,53.669999999999995,4.5999999999999996,546,26,16.8,22,null,null,null,5.5,23.400000000000002,4630]
[null,4600,51.87,4.3999999999999995,526,26,16.399999999999999,22,null,null,null,5.5,22.5,4430]
[null,4400,50.07,4.3,506,26,16,22,null,null,null,5.5,21.700000000000003,4230]
[null,4200,48.27,4.0999999999999996,486,26,15.6,22,null,null,null,5.5,20.8,4030]
[null,4000,46.470000000000006,3.9,467,26,15.2,20,null,null,null,5,20,3830]
[null,3800,44.67,3.8000000000000003,447,26,14.799999999999999,20,null,null,null,5,19.100000000000001,3630]
[null,3600,42.870000000000005,3.6,427,26,14.4,18,null,null,null,4.5,18.3,3430]
[null,3400,41.07,3.4,407,26,13.999999999999998,18,null,null,null,4.5,17.400000000000002,3230]
[null,3200,39.270000000000003,3.3000000000000003,387,26,13.6,18,null,null,null,4.5,16.600000000000001,3030]
[null,3000,37.47,3.1,368,26,13.2,18,null,null,null,4.5,15.7,2830]
[null,2800,35.67,2.9,348,26,12.799999999999999,16,null,null,null,4,14.9,2630]
[null,2600,33.870000000000005,2.8000000000000003,328,26,12.4,16,null,null,null,4,14,2430]
[null,2400,32.07,2.6,308,20,11.999999999999998,12,null,null,null,3,13.2,2230]
[null,2200,30.270000000000003,2.4,288,20,11.6,12,null,null,null,3,12.4,2030]
[null,2000,28.47,2.3000000000000003,269,20,11.2,12,null,null,null,3,11.5,1830]
[null,1800,26.67,2.1,249,20,10.799999999999999,12,null,null,null,3,10.7,1630]
[null,1600,24.869999999999997,2,229,20,10.4,10,null,null,null,2.5,9.7999999999999989,1430]
[null,1400,23.07,1.8,209,20,9.9999999999999982,10,null,null,null,2.5,9,1230]
[null,1200,21.269999999999996,1.6,189,20,9.6,8,null,null,null,2,8.1,1030]
[null,1000,19.47,1.5,170,20,9.1999999999999993,8,null,null,null,2,7.3,830]
[null,800,17.670000000000002,1.3,150,20,8.7999999999999989,8,null,null,null,2,6.3999999999999995,630]
[null,600,15.870000000000001,1.1000000000000001,130,20,8.4,8,null,null,null,2,5.6,0]
[null,400,14.07,1,110,20,7.9999999999999991,6,null,null,null,1.5,4.6999999999999993,0]
[null,200,12.27,0.79999999999999993,90,20,7.6,4,null,null,null,1,3.9,0]
["Wandtyp 1.2.13",5000,56.069999999999993,5.0999999999999996,611,16,17.8,12,16,null,null,7,26.1,{"$f":"B681-170","v":4830}]
[null,4800,54.269999999999996,4.8999999999999995,587,16,17.399999999999999,12,16,null,null,7,25.1,4630]
[null,4600,52.47,4.6999999999999993,564,16,17,12,16,null,null,7,24.1,4430]
[null,4400,50.67,4.5,540,16,16.600000000000001,12,16,null,null,7,23.1,4230]
[null,4200,48.870000000000005,4.3999999999999995,517,16,16.2,12,16,null,null,7,22.1,4030]
[null,4000,47.070000000000007,4.1999999999999993,494,16,15.8,10,16,null,null,6.5,21.1,3830]
[null,3800,45.269999999999996,4,470,16,15.399999999999999,10,16,null,null,6.5,20.100000000000001,3630]
[null,3600,43.47,3.8000000000000003,447,16,15,10,12,null,null,5.5,19.100000000000001,3430]
[null,3400,41.67,3.6,423,16,14.6,10,12,null,null,5.5,18.100000000000001,3230]
[null,3200,39.870000000000005,3.4,400,16,14.2,10,12,null,null,5.5,17.100000000000001,3030]
[null,3000,38.07,3.2,377,16,13.8,10,12,null,null,5.5,16.100000000000001,2830]
[null,2800,36.269999999999996,3,353,16,13.399999999999999,8,12,null,null,5,15.1,2630]
[null,2600,34.47,2.8000000000000003,330,16,13,8,12,null,null,5,14.1,2430]
[null,2400,32.67,2.6,306,16,12.6,8,6,null,null,3.5,13.1,2230]
[null,2200,30.87,2.4,283,16,12.2,8,6,null,null,3.5,12.1,2030]
[null,2000,29.07,2.2000000000000002,260,16,11.8,8,6,null,null,3.5,11.1,1830]
[null,1800,27.27,2,236,16,11.4,8,6,null,null,3.5,10.1,1630]
[null,1600,25.47,1.8,213,16,11,6,6,null,null,3,9.1,1430]
[null,1400,23.669999999999998,1.6,189,16,10.6,6,6,null,null,3,8.1,1230]
[null,1200,21.869999999999997,1.4000000000000001,166,16,10.199999999999999,4,2,null,null,1.5,7.1,1030]
[null,1000,20.07,1.2000000000000002,143,16,9.8000000000000007,4,2,null,null,1.5,6.1,830]
[null,800,18.27,1,119,16,9.4,4,2,null,null,1.5,5.0999999999999996,630]
[null,600,16.47,0.79999999999999993,96,16,9,4,2,null,null,1.5,4.0999999999999996,0]
[null,400,14.67,0.6,72,16,8.6,4,2,null,null,1.5,3.1,0]
[null,200,12.87,0.5,49,16,8.1999999999999993,2,2,null,null,1,2.1,0]
["Wandtyp 1.2.14",5000,56.069999999999993,5.1999999999999993,622,16,17.8,12,null,16,null,7,26.6,{"$f":"B706-170","v":4830}]
[null,4800,54.269999999999996,5,599,16,17.399999999999999,12,null,16,null,7,25.6,4630]
[null,4600,52.47,4.8,576,16,17,12,null,16,null,7,24.6,4430]
[null,4400,50.67,4.5999999999999996,552,16,16.600000000000001,12,null,16,null,7,23.6,4230]
[null,4200,48.870000000000005,4.5,529,16,16.2,12,null,16,null,7,22.6,4030]
[null,4000,47.070000000000007,4.3,505,16,15.8,10,null,16,null,6.5,21.6,3830]
[null,3800,45.269999999999996,4.0999999999999996,482,16,15.399999999999999,10,null,16,null,6.5,20.6,3630]
[null,3600,43.47,3.9,459,16,15,10,null,12,null,5.5,19.600000000000001,3430]
[null,3400,41.67,3.7,435,16,14.6,10,null,12,null,5.5,18.600000000000001,3230]
[null,3200,39.870000000000005,3.5,412,16,14.2,10,null,12,null,5.5,17.600000000000001,3030]
[null,3000,38.07,3.3000000000000003,388,16,13.8,10,null,12,null,5.5,16.600000000000001,2830]
[null,2800,36.269999999999996,3.1,365,16,13.399999999999999,8,null,12,null,5,15.6,2630]
[null,2600,34.47,2.9,342,16,13,8,null,12,null,5,14.6,2430]
[null,2400,32.67,2.7,318,16,12.6,8,null,6,null,3.5,13.6,2230]
[null,2200,30.87,2.5,295,16,12.2,8,null,6,null,3.5,12.6,2030]
[null,2000,29.07,2.3000000000000003,271,16,11.8,8,null,6,null,3.5,11.6,1830]
[null,1800,27.27,2.1,248,16,11.4,8,null,6,null,3.5,10.6,1630]
[null,1600,25.47,1.9000000000000001,225,16,11,6,null,6,null,3,9.6,1430]
[null,1400,23.669999999999998,1.7000000000000002,201,16,10.6,6,null,6,null,3,8.6,1230]
[null,1200,21.869999999999997,1.5,178,16,10.199999999999999,4,null,2,null,1.5,7.6,1030]
[null,1000,20.07,1.3,154,16,9.8000000000000007,4,null,2,null,1.5,6.6,830]
[null,800,18.27,1.1000000000000001,131,16,9.4,4,null,2,null,1.5,5.6,630]
[null,600,16.47,0.9,108,16,9,4,null,2,null,1.5,4.5999999999999996,0]
[null,400,14.67,0.7,84,16,8.6,4,null,2,null,1.5,3.6,0]
[null,200,12.87,0.6,61,16,8.1999999999999993,2,null,2,null,1,2.6,0]
["Wandtyp 1.2.15",5000,60.069999999999993,5.5,656,26,18.400000000000002,22,null,null,null,5.5,28,{"$f":"B731-170","v":4830}]
[null,4800,58.269999999999996,5.3,632,26,18,22,null,null,null,5.5,27,4630]
[null,4600,56.47,5.0999999999999996,609,26,17.600000000000001,22,null,null,null,5.5,26,4430]
[null,4400,54.67,4.8999999999999995,585,26,17.200000000000003,22,null,null,null,5.5,25,4230]
[null,4200,52.870000000000005,4.6999999999999993,562,26,16.8,22,null,null,null,5.5,24,4030]
[null,4000,51.070000000000007,4.5,539,26,16.400000000000002,20,null,null,null,5,23,3830]
[null,3800,49.269999999999996,4.3,515,26,15.999999999999998,20,null,null,null,5,22,3630]
[null,3600,47.47,4.0999999999999996,492,26,15.6,18,null,null,null,4.5,21,3430]
[null,3400,45.67,3.9,468,26,15.2,18,null,null,null,4.5,20,3230]
[null,3200,43.870000000000005,3.8000000000000003,445,26,14.799999999999999,18,null,null,null,4.5,19,3030]
[null,3000,42.07,3.6,422,26,14.4,18,null,null,null,4.5,18,2830]
[null,2800,40.269999999999996,3.4,398,26,13.999999999999998,16,null,null,null,4,17,2630]
[null,2600,38.47,3.2,375,26,13.6,16,null,null,null,4,16,2430]
[null,2400,33.869999999999997,3,351,20,13.2,12,null,null,null,3,15,2230]
[null,2200,32.07,2.8000000000000003,328,20,12.799999999999999,12,null,null,null,3,14,2030]
[null,2000,30.27,2.6,305,20,12.4,12,null,null,null,3,13,1830]
[null,1800,28.47,2.4,281,20,12,12,null,null,null,3,12,1630]
[null,1600,26.669999999999998,2.2000000000000002,258,20,11.6,10,null,null,null,2.5,11,1430]
[null,1400,24.869999999999997,2,234,20,11.2,10,null,null,null,2.5,10,1230]
[null,1200,23.069999999999997,1.8,211,20,10.799999999999999,8,null,null,null,2,9,1030]
[null,1000,21.269999999999996,1.6,188,20,10.4,8,null,null,null,2,8,830]
[null,800,19.47,1.4000000000000001,164,20,10,8,null,null,null,2,7,630]
[null,600,17.669999999999998,1.2000000000000002,141,20,9.6,8,null,null,null,2,6,0]
[null,400,15.87,1,117,20,9.1999999999999993,6,null,null,null,1.5,5,0]
[null,200,14.069999999999999,0.79999999999999993,94,20,8.7999999999999989,4,null,null,null,1,4,0]
["Wandtyp 1.3.1",5000,23.34,1.5,176,7,11.57,5,6,null,null,2.75,7.6,{"$f":"B756-170","v":4830}]
[null,4800,22.54,1.5,170,7,11.17,5,6,null,null,2.75,7.3,4630]
[null,4600,21.74,1.4000000000000001,163,7,10.77,5,6,null,null,2.75,7,4430]
[null,4400,20.94,1.3,156,7,10.370000000000001,5,6,null,null,2.75,6.6999999999999993,4230]
[null,4200,20.14,1.3,150,7,9.9700000000000006,5,6,null,null,2.75,6.3999999999999995,4030]
[null,4000,19.34,1.2000000000000002,143,7,9.57,5,6,null,null,2.75,6.1999999999999993,3830]
[null,3800,18.54,1.2000000000000002,137,7,9.17,5,6,null,null,2.75,5.8999999999999995,3630]
[null,3600,17.740000000000002,1.1000000000000001,130,7,8.77,5,6,null,null,2.75,5.6,3430]
[null,3400,16.939999999999998,1.1000000000000001,123,7,8.3699999999999992,5,6,null,null,2.75,5.3,3230]
[null,3200,16.14,1,117,7,7.9700000000000006,5,6,null,null,2.75,5,3030]
[null,3000,15.34,1,110,7,7.57,5,6,null,null,2.75,4.6999999999999993,2830]
[null,2800,14.54,0.9,104,7,7.17,4,5,null,null,2.25,4.5,2630]
[null,2600,13.74,0.9,97,7,6.7700000000000005,4,5,null,null,2.25,4.1999999999999993,2430]
[null,2400,12.74,0.79999999999999993,90,6,6.37,3,5,null,null,2,3.9,2230]
[null,2200,11.940000000000001,0.7,84,6,5.9700000000000006,3,5,null,null,2,3.6,2030]
[null,2000,11.14,0.7,77,6,5.57,3,5,null,null,2,3.3000000000000003,1830]
[null,1800,10.34,0.6,71,6,5.17,3,5,null,null,2,3,1630]
[null,1600,9.5400000000000009,0.6,64,6,4.7700000000000005,2,4,null,null,1.5,2.8000000000000003,1430]
[null,1400,8.74,0.5,57,6,4.37,2,4,null,null,1.5,2.5,1230]
[null,1200,7.9399999999999995,0.5,51,6,3.9699999999999998,2,4,null,null,1.5,2.2000000000000002,1030]
[null,1000,7.1400000000000006,0.4,44,6,3.5700000000000003,2,4,null,null,1.5,1.9000000000000001,830]
[null,800,6.34,0.4,38,6,3.17,2,4,null,null,1.5,1.6,630]
[null,600,5.54,0.30000000000000004,31,6,2.77,2,4,null,null,1.5,1.4000000000000001,0]
[null,400,4.74,0.2,24,6,2.37,2,4,null,null,1.5,1.1000000000000001,0]
[null,200,3.9400000000000004,0.2,18,6,1.9700000000000002,2,4,null,null,1.5,0.79999999999999993,0]
["Wandtyp 1.3.2",5000,23.34,1.6,182,7,11.57,5,null,6,null,2.75,7.8,{"$f":"B781-170","v":4830}]
[null,4800,22.54,1.5,175,7,11.17,5,null,6,null,2.75,7.5,4630]
[null,4600,21.74,1.4,168,7,10.77,5,null,6,null,2.75,7.1999999999999993,4430]
[null,4400,20.94,1.4000000000000001,162,7,10.370000000000001,5,null,6,null,2.75,6.8999999999999995,4230]
[null,4200,20.14,1.3,155,7,9.9700000000000006,5,null,6,null,2.75,6.6999999999999993,4030]
[null,4000,19.34,1.3,149,7,9.57,5,null,6,null,2.75,6.3999999999999995,3830]
[null,3800,18.54,1.2000000000000002,142,7,9.17,5,null,6,null,2.75,6.1,3630]
[null,3600,17.740000000000002,1.2000000000000002,135,7,8.77,5,null,6,null,2.75,5.8,3430]
[null,3400,16.939999999999998,1.1000000000000001,129,7,8.3699999999999992,5,null,6,null,2.75,5.5,3230]
[null,3200,16.14,1.1000000000000001,122,7,7.9700000000000006,5,null,6,null,2.75,5.3,3030]
[null,3000,15.34,1,116,7,7.57,5,null,6,null,2.75,5,2830]
[null,2800,14.54,1,109,7,7.17,4,null,5,null,2.25,4.6999999999999993,2630]
[null,2600,13.74,0.9,102,7,6.7700000000000005,4,null,5,null,2.25,4.3999999999999995,2430]
[null,2400,12.74,0.79999999999999993,96,6,6.37,3,null,5,null,2,4.0999999999999996,2230]
[null,2200,11.940000000000001,0.79999999999999993,89,6,5.9700000000000006,3,null,5,null,2,3.8000000000000003,2030]
[null,2000,11.14,0.7,83,6,5.57,3,null,5,null,2,3.6,1830]
[null,1800,10.34,0.7,76,6,5.17,3,null,5,null,2,3.3000000000000003,1630]
[null,1600,9.5400000000000009,0.6,69,6,4.7700000000000005,2,null,4,null,1.5,3,1430]
[null,1400,8.74,0.6,63,6,4.37,2,null,4,null,1.5,2.7,1230]
[null,1200,7.9399999999999995,0.5,56,6,3.9699999999999998,2,null,4,null,1.5,2.4,1030]
[null,1000,7.1400000000000006,0.5,50,6,3.5700000000000003,2,null,4,null,1.5,2.2000000000000002,830]
[null,800,6.34,0.4,43,6,3.17,2,null,4,null,1.5,1.9000000000000001,630]
[null,600,5.54,0.3,36,6,2.77,2,null,4,null,1.5,1.6,0]
[null,400,4.74,0.30000000000000004,30,6,2.37,2,null,4,null,1.5,1.3,0]
[null,200,3.9400000000000004,0.2,23,6,1.9700000000000002,2,null,4,null,1.5,1,0]
["Wandtyp 1.3.3",5000,25.54,2.1,249,19,11.57,11,null,null,null,2.75,10.7,{"$f":"B806-170","v":4830}]
[null,4800,24.74,2,240,19,11.17,11,null,null,null,2.75,10.299999999999999,4630]
[null,4600,23.939999999999998,2,231,19,10.77,11,null,null,null,2.75,9.9,4430]
[null,4400,23.14,1.9000000000000001,223,19,10.370000000000001,11,null,null,null,2.75,9.5,4230]
[null,4200,22.34,1.8,214,19,9.9700000000000006,11,null,null,null,2.75,9.1999999999999993,4030]
[null,4000,21.54,1.8,205,19,9.57,11,null,null,null,2.75,8.7999999999999989,3830]
[null,3800,20.74,1.7000000000000002,197,19,9.17,11,null,null,null,2.75,8.4,3630]
[null,3600,19.939999999999998,1.6,188,19,8.77,11,null,null,null,2.75,8.1,3430]
[null,3400,19.139999999999997,1.5,179,19,8.3699999999999992,11,null,null,null,2.75,7.6999999999999993,3230]
[null,3200,18.34,1.5,171,19,7.9700000000000006,11,null,null,null,2.75,7.3,3030]
[null,3000,17.54,1.4000000000000001,162,19,7.57,11,null,null,null,2.75,6.8999999999999995,2830]
[null,2800,16.739999999999998,1.3,153,19,7.17,9,null,null,null,2.25,6.6,2630]
[null,2600,15.940000000000001,1.2,144,19,6.7700000000000005,9,null,null,null,2.25,6.1999999999999993,2430]
[null,2400,13.94,1.2000000000000002,136,16,6.37,8,null,null,null,2,5.8,2230]
[null,2200,13.14,1.1000000000000001,127,16,5.9700000000000006,8,null,null,null,2,5.5,2030]
[null,2000,12.34,1,118,16,5.57,8,null,null,null,2,5.0999999999999996,1830]
[null,1800,11.54,1,110,16,5.17,8,null,null,null,2,4.6999999999999993,1630]
[null,1600,10.74,0.9,101,16,4.7700000000000005,6,null,null,null,1.5,4.3,1430]
[null,1400,9.94,0.79999999999999993,92,16,4.37,6,null,null,null,1.5,4,1230]
[null,1200,9.1399999999999988,0.7,84,16,3.9699999999999998,6,null,null,null,1.5,3.6,1030]
[null,1000,8.34,0.7,75,16,3.5700000000000003,6,null,null,null,1.5,3.2,830]
[null,800,7.54,0.6,66,16,3.17,6,null,null,null,1.5,2.9,630]
[null,600,6.74,0.5,57,16,2.77,6,null,null,null,1.5,2.5,0]
[null,400,5.94,0.5,49,16,2.37,6,null,null,null,1.5,2.1,0]
[null,200,5.1400000000000006,0.4,40,16,1.9700000000000002,6,null,null,null,1.5,1.7000000000000002,0]
["Wandtyp 1.3.4",5000,24.34,1.9000000000000001,218,7,12.17,5,6,null,null,2.75,9.2999999999999989,4830]
[null,4800,23.54,1.8,210,7,11.77,5,6,null,null,2.75,9,4630]
[null,4600,22.74,1.7000000000000002,201,7,11.37,5,6,null,null,2.75,8.6,4430]
[null,4400,21.94,1.7000000000000002,193,7,10.97,5,6,null,null,2.75,8.2999999999999989,4230]
[null,4200,21.14,1.6,185,7,10.57,5,6,null,null,2.75,7.8999999999999995,4030]
[null,4000,20.34,1.5,177,7,10.17,5,6,null,null,2.75,7.6,3830]
[null,3800,19.54,1.5,169,7,9.77,5,6,null,null,2.75,7.3,3630]
[null,3600,18.740000000000002,1.4000000000000001,161,7,9.370000000000001,5,6,null,null,2.75,6.8999999999999995,3430]
[null,3400,17.939999999999998,1.3,153,7,8.9699999999999989,5,6,null,null,2.75,6.6,3230]
[null,3200,17.14,1.3,145,7,8.57,5,6,null,null,2.75,6.1999999999999993,3030]
[null,3000,16.34,1.2000000000000002,137,7,8.17,5,6,null,null,2.75,5.8999999999999995,2830]
[null,2800,15.54,1.1000000000000001,129,7,7.77,4,5,null,null,2.25,5.5,2630]
[null,2600,14.74,1,120,7,7.37,4,5,null,null,2.25,5.1999999999999993,2430]
[null,2400,13.94,1,112,6,6.97,3,5,null,null,2,4.8,2230]
[null,2200,13.14,0.9,104,6,6.57,3,5,null,null,2,4.5,2030]
[null,2000,12.34,0.79999999999999993,96,6,6.17,3,5,null,null,2,4.0999999999999996,1830]
[null,1800,11.54,0.79999999999999993,88,6,5.77,3,5,null,null,2,3.8000000000000003,1630]
[null,1600,10.74,0.7,80,6,5.37,2,4,null,null,1.5,3.4,1430]
[null,1400,9.94,0.6,72,6,4.97,2,4,null,null,1.5,3.1,1230]
[null,1200,9.14,0.6,64,6,4.57,2,4,null,null,1.5,2.8000000000000003,1030]
[null,1000,8.34,0.5,56,6,4.17,2,4,null,null,1.5,2.4,830]
[null,800,7.54,0.4,48,6,3.77,2,4,null,null,1.5,2.1,630]
[null,600,6.74,0.4,39,6,3.37,2,4,null,null,1.5,1.7000000000000002,0]
[null,400,5.9399999999999995,0.30000000000000004,31,6,2.9699999999999998,2,4,null,null,1.5,1.4000000000000001,0]
[null,200,5.14,0.2,23,6,2.57,2,4,null,null,1.5,1,0]
["Wandtyp 1.3.5",5000,24.34,1.9000000000000001,225,7,12.17,5,null,6,null,2.75,9.6,4830]
[null,4800,23.54,1.9000000000000001,217,7,11.77,5,null,6,null,2.75,9.2999999999999989,4630]
[null,4600,22.74,1.8,209,7,11.37,5,null,6,null,2.75,8.9,4430]
[null,4400,21.94,1.7000000000000002,201,7,10.97,5,null,6,null,2.75,8.6,4230]
[null,4200,21.14,1.6,192,7,10.57,5,null,6,null,2.75,8.2999999999999989,4030]
[null,4000,20.34,1.6,184,7,10.17,5,null,6,null,2.75,7.8999999999999995,3830]
[null,3800,19.54,1.5,176,7,9.77,5,null,6,null,2.75,7.6,3630]
[null,3600,18.740000000000002,1.4000000000000001,168,7,9.370000000000001,5,null,6,null,2.75,7.1999999999999993,3430]
[null,3400,17.939999999999998,1.4000000000000001,160,7,8.9699999999999989,5,null,6,null,2.75,6.8999999999999995,3230]
[null,3200,17.14,1.3,152,7,8.57,5,null,6,null,2.75,6.5,3030]
[null,3000,16.34,1.2000000000000002,144,7,8.17,5,null,6,null,2.75,6.1999999999999993,2830]
[null,2800,15.54,1.2000000000000002,136,7,7.77,4,null,5,null,2.25,5.8,2630]
[null,2600,14.74,1.1000000000000001,128,7,7.37,4,null,5,null,2.25,5.5,2430]
[null,2400,13.94,1,120,6,6.97,3,null,5,null,2,5.0999999999999996,2230]
[null,2200,13.14,1,111,6,6.57,3,null,5,null,2,4.8,{"$f":"B870-170","v":2030}]
[null,2000,12.34,0.9,103,6,6.17,3,null,5,null,2,4.3999999999999995,1830]
[null,1800,11.54,0.79999999999999993,95,6,5.77,3,null,5,null,2,4.0999999999999996,1630]
[null,1600,10.74,0.79999999999999993,87,6,5.37,2,null,4,null,1.5,3.8000000000000003,1430]
[null,1400,9.94,0.7,79,6,4.97,2,null,4,null,1.5,3.4,1230]
[null,1200,9.14,0.6,71,6,4.57,2,null,4,null,1.5,3.1,1030]
[null,1000,8.34,0.6,63,6,4.17,2,null,4,null,1.5,2.7,830]
[null,800,7.54,0.5,55,6,3.77,2,null,4,null,1.5,2.4,630]
[null,600,6.74,0.4,47,6,3.37,2,null,4,null,1.5,2,0]
[null,400,5.9399999999999995,0.4,39,6,2.9699999999999998,2,null,4,null,1.5,1.7000000000000002,0]
[null,200,5.14,0.30000000000000004,30,6,2.57,2,null,4,null,1.5,1.3,0]
["Wandtyp 1.3.6",5000,26.74,2.6,304,19,12.17,11,null,null,null,2.75,13,4830]
[null,4800,25.939999999999998,2.5,294,19,11.77,11,null,null,null,2.75,12.6,4630]
[null,4600,25.139999999999997,2.4,283,19,11.37,11,null,null,null,2.75,12.1,4430]
[null,4400,24.34,2.3000000000000003,273,19,10.97,11,null,null,null,2.75,11.7,4230]
[null,4200,23.54,2.2000000000000002,262,19,10.57,11,null,null,null,2.75,11.2,4030]
[null,4000,22.74,2.1,252,19,10.17,11,null,null,null,2.75,10.799999999999999,3830]
[null,3800,21.939999999999998,2.1,241,19,9.77,11,null,null,null,2.75,10.299999999999999,3630]
[null,3600,21.14,2,231,19,9.370000000000001,11,null,null,null,2.75,9.9,3430]
[null,3400,20.339999999999996,1.9000000000000001,220,19,8.9699999999999989,11,null,null,null,2.75,9.4,3230]
[null,3200,19.54,1.8,210,19,8.57,11,null,null,null,2.75,9,3030]
[null,3000,18.739999999999998,1.7000000000000002,199,19,8.17,11,null,null,null,2.75,8.5,2830]
[null,2800,17.939999999999998,1.6,189,19,7.77,9,null,null,null,2.25,8.1,2630]
[null,2600,17.14,1.5,178,19,7.37,9,null,null,null,2.25,7.6999999999999993,2430]
[null,2400,15.139999999999999,1.4000000000000001,168,16,6.97,8,null,null,null,2,7.1999999999999993,2230]
[null,2200,14.34,1.4000000000000001,157,16,6.57,8,null,null,null,2,6.8,2030]
[null,2000,13.54,1.3,147,16,6.17,8,null,null,null,2,6.3,1830]
[null,1800,12.739999999999998,1.2000000000000002,136,16,5.77,8,null,null,null,2,5.8999999999999995,1630]
[null,1600,11.94,1.1000000000000001,126,16,5.37,6,null,null,null,1.5,5.3999999999999995,1430]
[null,1400,11.139999999999999,1,115,16,4.97,6,null,null,null,1.5,5,1230]
[null,1200,10.34,0.9,105,16,4.57,6,null,null,null,1.5,4.5,1030]
[null,1000,9.5399999999999991,0.79999999999999993,94,16,4.17,6,null,null,null,1.5,4.0999999999999996,830]
[null,800,8.74,0.7,84,16,3.77,6,null,null,null,1.5,3.6,630]
[null,600,7.94,0.7,73,16,3.37,6,null,null,null,1.5,3.2,0]
[null,400,7.14,0.6,63,16,2.9699999999999998,6,null,null,null,1.5,2.7,0]
[null,200,6.34,0.5,52,16,2.57,6,null,null,null,1.5,2.3000000000000003,0]
["Wandtyp 1.3.7",5000,39.979999999999997,3.6,424,12,15.2,10,12,null,null,5.5,18.200000000000003,4830]
[null,4800,38.779999999999994,3.4,408,12,14.8,10,12,null,null,5.5,17.5,4630]
[null,4600,37.58,3.3000000000000003,393,12,14.399999999999999,10,12,null,null,5.5,16.8,4430]
[null,4400,36.380000000000003,3.2,377,12,14,10,12,null,null,5.5,16.200000000000003,4230]
[null,4200,35.18,3.1,362,12,13.600000000000001,10,12,null,null,5.5,15.5,4030]
[null,4000,33.980000000000004,2.9,346,12,13.2,8,12,null,null,5,14.799999999999999,3830]
[null,3800,32.78,2.8000000000000003,330,12,12.8,8,12,null,null,5,14.2,3630]
[null,3600,31.58,2.7,315,12,12.4,8,10,null,null,4.5,13.5,3430]
[null,3400,30.380000000000003,2.5,299,12,12,8,10,null,null,4.5,12.799999999999999,3230]
[null,3200,29.18,2.4,284,12,11.600000000000001,8,10,null,null,4.5,12.2,3030]
[null,3000,27.980000000000004,2.3000000000000003,268,12,11.2,8,10,null,null,4.5,11.5,2830]
[null,2800,26.78,2.1,252,12,10.8,6,10,null,null,4,10.799999999999999,2630]
[null,2600,25.580000000000002,2,237,12,10.4,6,10,null,null,4,10.199999999999999,2430]
[null,2400,24.380000000000003,1.9000000000000001,221,12,10,6,6,null,null,3,9.5,2230]
[null,2200,23.18,1.8,206,12,9.6000000000000014,6,6,null,null,3,8.7999999999999989,2030]
[null,2000,21.98,1.6,190,12,9.1999999999999993,6,6,null,null,3,8.1999999999999993,1830]
[null,1800,20.78,1.5,174,12,8.8000000000000007,6,6,null,null,3,7.5,1630]
[null,1600,19.579999999999998,1.4000000000000001,159,12,8.4,4,6,null,null,2.5,6.8,1430]
[null,1400,18.38,1.2000000000000002,143,12,8,4,6,null,null,2.5,6.1999999999999993,1230]
[null,1200,17.18,1.1000000000000001,128,12,7.6,2,4,null,null,1.5,5.5,1030]
[null,1000,15.98,1,112,12,7.2,2,4,null,null,1.5,4.8,830]
[null,800,14.780000000000001,0.8,96,12,6.8000000000000007,2,4,null,null,1.5,4.1999999999999993,630]
[null,600,13.58,0.7,81,12,6.4,2,4,null,null,1.5,3.5,0]
[null,400,12.38,0.6,65,12,6,2,4,null,null,1.5,2.8000000000000003,0]
[null,200,11.18,0.5,50,12,5.6000000000000005,0,4,null,null,1,2.2000000000000002,0]
["Wandtyp 1.3.8",5000,39.979999999999997,3.7,440,12,15.2,10,null,12,null,5.5,18.8,4830]
[null,4800,38.779999999999994,3.6,424,12,14.8,10,null,12,null,5.5,18.200000000000003,4630]
[null,4600,37.58,3.4,408,12,14.399999999999999,10,null,12,null,5.5,17.5,4430]
[null,4400,36.380000000000003,3.3000000000000003,393,12,14,10,null,12,null,5.5,16.8,{"$f":"B934-170","v":4230}]
[null,4200,35.18,3.2,377,12,13.600000000000001,10,null,12,null,5.5,16.200000000000003,4030]
[null,4000,33.980000000000004,3.1,362,12,13.2,8,null,12,null,5,15.5,3830]
[null,3800,32.78,2.9,346,12,12.8,8,null,12,null,5,14.799999999999999,3630]
[null,3600,31.58,2.8000000000000003,330,12,12.4,8,null,10,null,4.5,14.2,3430]
[null,3400,30.380000000000003,2.7,315,12,12,8,null,10,null,4.5,13.5,3230]
[null,3200,29.18,2.5,299,12,11.600000000000001,8,null,10,null,4.5,12.799999999999999,3030]
[null,3000,27.980000000000004,2.4,284,12,11.2,8,null,10,null,4.5,12.2,2830]
[null,2800,26.78,2.3000000000000003,268,12,10.8,6,null,10,null,4,11.5,2630]
[null,2600,25.580000000000002,2.1,252,12,10.4,6,null,10,null,4,10.799999999999999,2430]
[null,2400,24.380000000000003,2,237,12,10,6,null,6,null,3,10.199999999999999,2230]
[null,2200,23.18,1.9000000000000001,221,12,9.6000000000000014,6,null,6,null,3,9.5,2030]
[null,2000,21.98,1.8,206,12,9.1999999999999993,6,null,6,null,3,8.7999999999999989,1830]
[null,1800,20.78,1.6,190,12,8.8000000000000007,6,null,6,null,3,8.1999999999999993,1630]
[null,1600,19.579999999999998,1.5,174,12,8.4,4,null,6,null,2.5,7.5,1430]
[null,1400,18.38,1.4000000000000001,159,12,8,4,null,6,null,2.5,6.8,1230]
[null,1200,17.18,1.2000000000000002,143,12,7.6,2,null,4,null,1.5,6.1999999999999993,1030]
[null,1000,15.98,1.1000000000000001,128,12,7.2,2,null,4,null,1.5,5.5,830]
[null,800,14.780000000000001,1,112,12,6.8000000000000007,2,null,4,null,1.5,4.8,630]
[null,600,13.58,0.8,96,12,6.4,2,null,4,null,1.5,4.1999999999999993,0]
[null,400,12.38,0.7,81,12,6,2,null,4,null,1.5,3.5,0]
[null,200,11.18,0.6,65,12,5.6000000000000005,0,null,4,null,1,2.8000000000000003,0]
["Wandtyp 1.3.9",5000,42.379999999999995,4.0999999999999996,484,25,15.2,19,null,null,null,4.75,20.700000000000003,{"$f":"B956-170","v":4830}]
[null,4800,41.179999999999993,3.9,468,25,14.8,19,null,null,null,4.75,20,4630]
[null,4600,39.979999999999997,3.8000000000000003,453,25,14.399999999999999,19,null,null,null,4.75,19.400000000000002,4430]
[null,4400,38.78,3.7,437,25,14,19,null,null,null,4.75,18.700000000000003,4230]
[null,4200,37.58,3.6,422,25,13.600000000000001,19,null,null,null,4.75,18,4030]
[null,4000,36.380000000000003,3.4,406,25,13.2,17,null,null,null,4.25,17.400000000000002,3830]
[null,3800,35.18,3.3000000000000003,390,25,12.8,17,null,null,null,4.25,16.700000000000003,3630]
[null,3600,33.980000000000004,3.2,375,25,12.4,16,null,null,null,4,16,3430]
[null,3400,32.78,3,359,25,12,16,null,null,null,4,15.4,3230]
[null,3200,31.580000000000002,2.9,344,25,11.600000000000001,16,null,null,null,4,14.7,3030]
[null,3000,30.380000000000003,2.8000000000000003,328,25,11.2,16,null,null,null,4,14,2830]
[null,2800,29.18,2.6,312,25,10.8,14,null,null,null,3.5,13.4,2630]
[null,2600,27.980000000000004,2.5,297,25,10.4,14,null,null,null,3.5,12.7,2430]
[null,2400,25.58,2.4,281,20,10,11,null,null,null,2.75,12,2230]
[null,2200,24.380000000000003,2.3000000000000003,266,20,9.6000000000000014,11,null,null,null,2.75,11.4,2030]
[null,2000,23.18,2.1,250,20,9.1999999999999993,11,null,null,null,2.75,10.7,1830]
[null,1800,21.979999999999997,2,234,20,8.8000000000000007,11,null,null,null,2.75,10,1630]
[null,1600,20.78,1.9000000000000001,219,20,8.4,9,null,null,null,2.25,9.4,1430]
[null,1400,19.579999999999998,1.7000000000000002,203,20,8,9,null,null,null,2.25,8.6999999999999993,1230]
[null,1200,18.38,1.6,188,20,7.6,8,null,null,null,2,8,1030]
[null,1000,17.18,1.5,172,20,7.2,8,null,null,null,2,7.3999999999999995,830]
[null,800,15.98,1.3,156,20,6.8000000000000007,8,null,null,null,2,6.6999999999999993,630]
[null,600,14.78,1.2000000000000002,141,20,6.4,8,null,null,null,2,6,0]
[null,400,13.58,1.1000000000000001,125,20,6,6,null,null,null,1.5,5.3999999999999995,0]
[null,200,12.379999999999999,1,110,20,5.6000000000000005,4,null,null,null,1,4.6999999999999993,0]
["Wandtyp 1.3.10",5000,57.569999999999993,4.5999999999999996,546,16,16.600000000000001,10,18,null,null,7,23.400000000000002,{"$f":"B981-170","v":4830}]
[null,4800,55.769999999999996,4.3999999999999995,526,16,16.2,10,18,null,null,7,22.5,4630]
[null,4600,53.97,4.3,506,16,15.799999999999999,10,18,null,null,7,21.700000000000003,4430]
[null,4400,52.17,4.0999999999999996,486,16,15.4,10,18,null,null,7,20.8,4230]
[null,4200,50.370000000000005,3.9,467,16,15,10,18,null,null,7,20,4030]
[null,4000,48.570000000000007,3.8000000000000003,447,16,14.6,8,18,null,null,6.5,19.100000000000001,3830]
[null,3800,46.769999999999996,3.6,427,16,14.2,8,18,null,null,6.5,18.3,3630]
[null,3600,44.97,3.4,407,16,13.8,8,14,null,null,5.5,17.400000000000002,3430]
[null,3400,43.17,3.3000000000000003,387,16,13.399999999999999,8,14,null,null,5.5,16.600000000000001,3230]
[null,3200,41.370000000000005,3.1,368,16,13,8,14,null,null,5.5,15.7,3030]
[null,3000,39.57,2.9,348,16,12.6,8,14,null,null,5.5,14.9,2830]
[null,2800,37.769999999999996,2.8000000000000003,328,16,12.2,6,14,null,null,5,14,2630]
[null,2600,35.97,2.6,308,16,11.8,6,14,null,null,5,13.2,2430]
[null,2400,34.17,2.4,288,16,11.399999999999999,6,8,null,null,3.5,12.4,2230]
[null,2200,32.370000000000005,2.3000000000000003,269,16,11,6,8,null,null,3.5,11.5,2030]
[null,2000,30.57,2.1,249,16,10.6,6,8,null,null,3.5,10.7,1830]
[null,1800,28.77,2,229,16,10.199999999999999,6,8,null,null,3.5,9.7999999999999989,1630]
[null,1600,26.97,1.8,209,16,9.8000000000000007,4,8,null,null,3,9,1430]
[null,1400,25.169999999999998,1.6,189,16,9.3999999999999986,4,8,null,null,3,8.1,1230]
[null,1200,23.369999999999997,1.5,170,16,9,2,4,null,null,1.5,7.3,1030]
[null,1000,21.57,1.3,150,16,8.6,2,4,null,null,1.5,6.3999999999999995,830]
[null,800,19.77,1.1000000000000001,130,16,8.1999999999999993,2,4,null,null,1.5,5.6,630]
[null,600,17.97,1,110,16,7.8,2,4,null,null,1.5,4.6999999999999993,0]
[null,400,16.169999999999998,0.79999999999999993,90,16,7.3999999999999995,2,4,null,null,1.5,3.9,0]
[null,200,14.37,0.6,71,16,7,0,4,null,null,1,3,0]
["Wandtyp 1.3.11",5000,57.569999999999993,4.8,569,16,16.600000000000001,10,null,18,null,7,24.400000000000002,{"$f":"B1006-170","v":4830}]
[null,4800,55.769999999999996,4.5999999999999996,549,16,16.2,10,null,18,null,7,23.5,4630]
[null,4600,53.97,4.5,530,16,15.799999999999999,10,null,18,null,7,22.700000000000003,4430]
[null,4400,52.17,4.3,510,16,15.4,10,null,18,null,7,21.8,4230]
[null,4200,50.370000000000005,4.0999999999999996,490,16,15,10,null,18,null,7,21,4030]
[null,4000,48.570000000000007,4,470,16,14.6,8,null,18,null,6.5,20.100000000000001,3830]
[null,3800,46.769999999999996,3.8000000000000003,450,16,14.2,8,null,18,null,6.5,19.3,3630]
[null,3600,44.97,3.6,431,16,13.8,8,null,14,null,5.5,18.400000000000002,3430]
[null,3400,43.17,3.5,411,16,13.399999999999999,8,null,14,null,5.5,17.600000000000001,3230]
[null,3200,41.370000000000005,3.3000000000000003,391,16,13,8,null,14,null,5.5,16.700000000000003,3030]
[null,3000,39.57,3.1,371,16,12.6,8,null,14,null,5.5,15.9,2830]
[null,2800,37.769999999999996,3,351,16,12.2,6,null,14,null,5,15,2630]
[null,2600,35.97,2.8000000000000003,332,16,11.8,6,null,14,null,5,14.2,2430]
[null,2400,34.17,2.6,312,16,11.399999999999999,6,null,8,null,3.5,13.4,2230]
[null,2200,32.370000000000005,2.5,292,16,11,6,null,8,null,3.5,12.5,2030]
[null,2000,30.57,2.3000000000000003,272,16,10.6,6,null,8,null,3.5,11.7,1830]
[null,1800,28.77,2.1,252,16,10.199999999999999,6,null,8,null,3.5,10.799999999999999,1630]
[null,1600,26.97,2,233,16,9.8000000000000007,4,null,8,null,3,10,1430]
[null,1400,25.169999999999998,1.8,213,16,9.3999999999999986,4,null,8,null,3,9.1,1230]
[null,1200,23.369999999999997,1.7000000000000002,193,16,9,2,null,4,null,1.5,8.2999999999999989,1030]
[null,1000,21.57,1.5,173,16,8.6,2,null,4,null,1.5,7.3999999999999995,830]
[null,800,19.77,1.3,153,16,8.1999999999999993,2,null,4,null,1.5,6.6,630]
[null,600,17.97,1.2000000000000002,134,16,7.8,2,null,4,null,1.5,5.6999999999999993,0]
[null,400,16.169999999999998,1,114,16,7.3999999999999995,2,null,4,null,1.5,4.8999999999999995,0]
[null,200,14.37,0.79999999999999993,94,16,7,0,null,4,null,1,4,0]
["Wandtyp 1.3.12",5000,58.769999999999996,5.3,636,30,16.600000000000001,22,null,null,null,5.5,27.200000000000003,{"$f":"B1031-170","v":4830}]
[null,4800,56.969999999999992,5.1999999999999993,616,30,16.2,22,null,null,null,5.5,26.400000000000002,4630]
[null,4600,55.169999999999995,5,596,30,15.799999999999999,22,null,null,null,5.5,25.5,4430]
[null,4400,53.37,4.8,576,30,15.4,22,null,null,null,5.5,24.700000000000003,4230]
[null,4200,51.57,4.6999999999999993,557,30,15,22,null,null,null,5.5,23.8,4030]
[null,4000,49.77,4.5,537,30,14.6,20,null,null,null,5,23,3830]
[null,3800,47.97,4.3999999999999995,517,30,14.2,20,null,null,null,5,22.1,3630]
[null,3600,46.17,4.1999999999999993,497,30,13.8,18,null,null,null,4.5,21.3,3430]
[null,3400,44.37,4,477,30,13.399999999999999,18,null,null,null,4.5,20.400000000000002,3230]
[null,3200,42.57,3.9,458,30,13,18,null,null,null,4.5,19.600000000000001,3030]
[null,3000,40.769999999999996,3.7,438,30,12.6,18,null,null,null,4.5,18.700000000000003,2830]
[null,2800,38.97,3.5,418,30,12.2,16,null,null,null,4,17.900000000000002,2630]
[null,2600,37.17,3.4,398,30,11.8,16,null,null,null,4,17,2430]
[null,2400,35.369999999999997,3.2,378,24,11.399999999999999,12,null,null,null,3,16.200000000000003,2230]
[null,2200,33.57,3,359,24,11,12,null,null,null,3,15.4,2030]
[null,2000,31.77,2.9,339,24,10.6,12,null,null,null,3,14.5,1830]
[null,1800,29.97,2.7,319,24,10.199999999999999,12,null,null,null,3,13.7,1630]
[null,1600,28.169999999999998,2.5,299,24,9.8000000000000007,10,null,null,null,2.5,12.799999999999999,1430]
[null,1400,26.369999999999997,2.4,279,24,9.3999999999999986,10,null,null,null,2.5,12,1230]
[null,1200,24.569999999999997,2.2000000000000002,260,24,9,8,null,null,null,2,11.1,1030]
[null,1000,22.769999999999996,2,240,24,8.6,8,null,null,null,2,10.299999999999999,830]
[null,800,20.97,1.9000000000000001,220,24,8.1999999999999993,8,null,null,null,2,9.4,630]
[null,600,19.169999999999998,1.7000000000000002,200,24,7.8,8,null,null,null,2,8.6,0]
[null,400,17.369999999999997,1.5,180,24,7.3999999999999995,6,null,null,null,1.5,7.6999999999999993,0]
[null,200,15.569999999999999,1.4000000000000001,161,24,7,4,null,null,null,1,6.8999999999999995,0]
["Wandtyp 1.3.13",5000,59.97,5.3,636,16,17.8,10,18,null,null,7,27.200000000000003,{"$f":"B1056-170","v":4830}]
[null,4800,58.169999999999995,5.0999999999999996,612,16,17.399999999999999,10,18,null,null,7,26.200000000000003,4630]
[null,4600,56.37,5,589,16,17,10,18,null,null,7,25.200000000000003,4430]
[null,4400,54.57,4.8,566,16,16.600000000000001,10,18,null,null,7,24.200000000000003,4230]
[null,4200,52.77,4.5999999999999996,542,16,16.2,10,18,null,null,7,23.200000000000003,4030]
[null,4000,50.970000000000006,4.3999999999999995,519,16,15.8,8,18,null,null,6.5,22.200000000000003,3830]
[null,3800,49.17,4.1999999999999993,495,16,15.399999999999999,8,18,null,null,6.5,21.200000000000003,3630]
[null,3600,47.370000000000005,4,472,16,15,8,14,null,null,5.5,20.200000000000003,3430]
[null,3400,45.57,3.8000000000000003,449,16,14.6,8,14,null,null,5.5,19.200000000000003,3230]
[null,3200,43.77,3.6,425,16,14.2,8,14,null,null,5.5,18.200000000000003,3030]
[null,3000,41.97,3.4,402,16,13.8,8,14,null,null,5.5,17.200000000000003,2830]
[null,2800,40.17,3.2,378,16,13.399999999999999,6,14,null,null,5,16.200000000000003,2630]
[null,2600,38.370000000000005,3,355,16,13,6,14,null,null,5,15.2,2430]
[null,2400,36.57,2.8000000000000003,332,16,12.6,6,8,null,null,3.5,14.2,2230]
[null,2200,34.770000000000003,2.6,308,16,12.2,6,8,null,null,3.5,13.2,2030]
[null,2000,32.97,2.4,285,16,11.8,6,8,null,null,3.5,12.2,1830]
[null,1800,31.17,2.2000000000000002,261,16,11.4,6,8,null,null,3.5,11.2,1630]
[null,1600,29.369999999999997,2,238,16,11,4,8,null,null,3,10.199999999999999,1430]
[null,1400,27.57,1.8,215,16,10.6,4,8,null,null,3,9.1999999999999993,1230]
[null,1200,25.769999999999996,1.6,191,16,10.199999999999999,2,4,null,null,1.5,8.1999999999999993,1030]
[null,1000,23.97,1.4000000000000001,168,16,9.8000000000000007,2,4,null,null,1.5,7.1999999999999993,830]
[null,800,22.17,1.2,144,16,9.4,2,4,null,null,1.5,6.1999999999999993,630]
[null,600,20.37,1.1000000000000001,121,16,9,2,4,null,null,1.5,5.1999999999999993,0]
[null,400,18.57,0.9,98,16,8.6,2,4,null,null,1.5,4.1999999999999993,0]
[null,200,16.77,0.7,74,16,8.1999999999999993,0,4,null,null,1,3.2,0]
["Wandtyp 1.3.14",5000,59.97,5.5,659,16,17.8,10,null,18,null,7,28.200000000000003,{"$f":"B1081-170","v":4830}]
[null,4800,58.169999999999995,5.3,636,16,17.399999999999999,10,null,18,null,7,27.200000000000003,4630]
[null,4600,56.37,5.0999999999999996,612,16,17,10,null,18,null,7,26.200000000000003,4430]
[null,4400,54.57,5,589,16,16.600000000000001,10,null,18,null,7,25.200000000000003,4230]
[null,4200,52.77,4.8,566,16,16.2,10,null,18,null,7,24.200000000000003,4030]
[null,4000,50.970000000000006,4.5999999999999996,542,16,15.8,8,null,18,null,6.5,23.200000000000003,3830]
[null,3800,49.17,4.3999999999999995,519,16,15.399999999999999,8,null,18,null,6.5,22.200000000000003,3630]
[null,3600,47.370000000000005,4.1999999999999993,495,16,15,8,null,14,null,5.5,21.200000000000003,3430]
[null,3400,45.57,4,472,16,14.6,8,null,14,null,5.5,20.200000000000003,3230]
[null,3200,43.77,3.8000000000000003,449,16,14.2,8,null,14,null,5.5,19.200000000000003,3030]
[null,3000,41.97,3.6,425,16,13.8,8,null,14,null,5.5,18.200000000000003,2830]
[null,2800,40.17,3.4,402,16,13.399999999999999,6,null,14,null,5,17.200000000000003,2630]
[null,2600,38.370000000000005,3.2,378,16,13,6,null,14,null,5,16.200000000000003,2430]
[null,2400,36.57,3,355,16,12.6,6,null,8,null,3.5,15.2,2230]
[null,2200,34.770000000000003,2.8000000000000003,332,16,12.2,6,null,8,null,3.5,14.2,2030]
[null,2000,32.97,2.6,308,16,11.8,6,null,8,null,3.5,13.2,1830]
[null,1800,31.17,2.4,285,16,11.4,6,null,8,null,3.5,12.2,1630]
[null,1600,29.369999999999997,2.2000000000000002,261,16,11,4,null,8,null,3,11.2,1430]
[null,1400,27.57,2,238,16,10.6,4,null,8,null,3,10.199999999999999,1230]
[null,1200,25.769999999999996,1.8,215,16,10.199999999999999,2,null,4,null,1.5,9.1999999999999993,1030]
[null,1000,23.97,1.6,191,16,9.8000000000000007,2,null,4,null,1.5,8.1999999999999993,830]
[null,800,22.17,1.4000000000000001,168,16,9.4,2,null,4,null,1.5,7.1999999999999993,630]
[null,600,20.37,1.2,144,16,9,2,null,4,null,1.5,6.1999999999999993,0]
[null,400,18.57,1.1000000000000001,121,16,8.6,2,null,4,null,1.5,5.1999999999999993,0]
[null,200,16.77,0.9,98,16,8.1999999999999993,0,null,4,null,1,4.1999999999999993,0]
["Wandtyp 1.3.15",5000,63.97,6.1,726,30,17.8,22,null,null,null,5.5,31,{"$f":"B1106-170","v":4830}]
[null,4800,62.169999999999995,5.8999999999999995,702,30,17.399999999999999,22,null,null,null,5.5,30,4630]
[null,4600,60.37,5.6999999999999993,679,30,17,22,null,null,null,5.5,29,4430]
[null,4400,58.57,5.5,656,30,16.600000000000001,22,null,null,null,5.5,28,4230]
[null,4200,56.77,5.3,632,30,16.2,22,null,null,null,5.5,27,4030]
[null,4000,54.970000000000006,5.0999999999999996,609,30,15.8,20,null,null,null,5,26,3830]
[null,3800,53.17,4.8999999999999995,585,30,15.399999999999999,20,null,null,null,5,25,3630]
[null,3600,51.370000000000005,4.6999999999999993,562,30,15,18,null,null,null,4.5,24,3430]
[null,3400,49.57,4.5,539,30,14.6,18,null,null,null,4.5,23,3230]
[null,3200,47.77,4.3,515,30,14.2,18,null,null,null,4.5,22,3030]
[null,3000,45.97,4.0999999999999996,492,30,13.8,18,null,null,null,4.5,21,2830]
[null,2800,44.17,3.9,468,30,13.399999999999999,16,null,null,null,4,20,2630]
[null,2600,42.370000000000005,3.8000000000000003,445,30,13,16,null,null,null,4,19,2430]
[null,2400,37.769999999999996,3.6,422,24,12.6,12,null,null,null,3,18,2230]
[null,2200,35.97,3.4,398,24,12.2,12,null,null,null,3,17,2030]
[null,2000,34.17,3.2,375,24,11.8,12,null,null,null,3,16,1830]
[null,1800,32.370000000000005,3,351,24,11.4,12,null,null,null,3,15,1630]
[null,1600,30.57,2.8000000000000003,328,24,11,10,null,null,null,2.5,14,1430]
[null,1400,28.77,2.6,305,24,10.6,10,null,null,null,2.5,13,1230]
[null,1200,26.97,2.4,281,24,10.199999999999999,8,null,null,null,2,12,1030]
[null,1000,25.17,2.2000000000000002,258,24,9.8000000000000007,8,null,null,null,2,11,830]
[null,800,23.37,2,234,24,9.4,8,null,null,null,2,10,630]
[null,600,21.57,1.8,211,24,9,8,null,null,null,2,9,0]
[null,400,19.77,1.6,188,24,8.6,6,null,null,null,1.5,8,0]
[null,200,17.97,1.4000000000000001,164,24,8.1999999999999993,4,null,null,null,1,7,0]
["Wandtyp 2.1",5000,74.759999999999991,6.6000000000000005,780,48,30.4,28,null,null,null,14,33.400000000000006,{"$f":"B1131-170","v":4830}]
[null,4800,72.359999999999985,6.4,750,48,29.6,28,null,null,null,14,32,4630]
[null,4600,69.959999999999994,6,718,48,28.799999999999997,28,null,null,null,14,30.8,4430]
[null,4400,67.56,5.8,688,48,28,28,null,null,null,14,29.4,4230]
[null,4200,65.16,5.6000000000000005,656,48,27.200000000000003,28,null,null,null,14,28,4030]
[null,4000,62.760000000000005,5.2,624,48,26.4,24,null,null,null,12,26.8,3830]
[null,3800,60.36,5,594,48,25.6,24,null,null,null,12,25.4,3630]
[null,3600,57.96,4.8,562,48,24.8,24,null,null,null,12,24,3430]
[null,3400,55.56,4.6000000000000005,532,48,24,24,null,null,null,12,22.8,3230]
[null,3200,53.160000000000004,4.2,500,48,23.200000000000003,24,null,null,null,12,21.4,3030]
[null,3000,50.760000000000005,4,468,48,22.4,24,null,null,null,12,20,2830]
[null,2800,48.36,3.8000000000000003,438,48,21.6,20,null,null,null,10,18.8,2630]
[null,2600,45.96,3.4000000000000004,406,48,20.8,20,null,null,null,10,17.399999999999999,2430]
[null,2400,38.36,3.2,376,24,20,20,null,null,null,10,16,2230]
[null,2200,35.96,3,344,24,19.200000000000003,20,null,null,null,10,14.799999999999999,2030]
[null,2000,33.56,2.6,312,24,18.399999999999999,20,null,null,null,10,13.399999999999999,1830]
[null,1800,31.159999999999997,2.4000000000000004,282,24,17.600000000000001,20,null,null,null,10,12,1630]
[null,1600,28.759999999999998,2.2000000000000002,250,24,16.8,16,null,null,null,8,10.799999999999999,1430]
[null,1400,26.36,2,220,24,16,16,null,null,null,8,9.3999999999999986,1230]
[null,1200,23.96,1.5999999999999999,188,24,15.2,12,null,null,null,6,8,1030]
[null,1000,21.560000000000002,1.4,156,24,14.4,12,null,null,null,6,6.8,830]
[null,800,19.16,1.2,126,24,13.600000000000001,12,null,null,null,6,5.4,630]
[null,600,16.760000000000002,0.8,94,24,12.8,12,null,null,null,6,4,0]
[null,400,14.36,0.60000000000000009,64,24,12,12,null,null,null,6,2.8000000000000003,0]
[null,200,11.96,0.4,32,24,11.200000000000001,8,null,null,null,4,1.4,0]
["Wandtyp 2.2",5000,101.94,8.3999999999999986,990,72,33.200000000000003,28,null,null,null,14,42.400000000000006,{"$f":"B1156-170","v":4830}]
[null,4800,98.339999999999989,8,952,72,32.4,28,null,null,null,14,40.800000000000004,4630]
[null,4600,94.74,7.6000000000000005,912,72,31.599999999999998,28,null,null,null,14,39,4430]
[null,4400,91.14,7.4,872,72,30.8,28,null,null,null,14,37.400000000000006,4230]
[null,4200,87.54,7,832,72,30,28,null,null,null,14,35.6,4030]
[null,4000,83.940000000000012,6.6,792,72,29.2,24,null,null,null,12,34,3830]
[null,3800,80.34,6.4,754,72,28.4,24,null,null,null,12,32.200000000000003,3630]
[null,3600,76.740000000000009,6,714,72,27.6,24,null,null,null,12,30.599999999999998,3430]
[null,3400,73.14,5.8,674,72,26.799999999999997,24,null,null,null,12,28.8,3230]
[null,3200,69.540000000000006,5.4,634,72,26,24,null,null,null,12,27.2,3030]
[null,3000,65.94,5,594,72,25.2,24,null,null,null,12,25.4,2830]
[null,2800,62.34,4.8,556,72,24.4,20,null,null,null,10,23.8,2630]
[null,2600,58.740000000000009,4.4000000000000004,516,72,23.6,20,null,null,null,10,22,2430]
[null,2400,55.14,4,476,36,22.799999999999997,20,null,null,null,10,20.399999999999999,2230]
[null,2200,51.540000000000006,3.8000000000000003,436,36,22,20,null,null,null,10,18.8,2030]
[null,2000,47.94,3.4000000000000004,396,36,21.2,20,null,null,null,10,17,1830]
[null,1800,44.34,3,358,36,20.399999999999999,20,null,null,null,10,15.399999999999999,1630]
[null,1600,40.739999999999995,2.8000000000000003,318,36,19.600000000000001,16,null,null,null,8,13.6,1430]
[null,1400,37.14,2.4000000000000004,278,36,18.799999999999997,16,null,null,null,8,12,1230]
[null,1200,33.539999999999992,2,238,36,18,12,null,null,null,6,10.199999999999999,1030]
[null,1000,29.939999999999998,1.8,198,36,17.2,12,null,null,null,6,8.6,830]
[null,800,26.34,1.4,160,36,16.399999999999999,12,null,null,null,6,6.8,630]
[null,600,22.740000000000002,1,120,36,15.6,12,null,null,null,6,5.2,0]
[null,400,19.14,0.8,80,36,14.799999999999999,12,null,null,null,6,3.4000000000000004,0]
[null,200,15.54,0.4,40,36,14,8,null,null,null,4,1.8,0]
["Wandtyp 2.3",5000,112.13999999999999,9.7999999999999989,1170,72,35.6,28,null,null,null,14,50,{"$f":"B1181-170","v":4830}]
[null,4800,108.53999999999999,9.3999999999999986,1124,72,34.799999999999997,28,null,null,null,14,48,4630]
[null,4600,104.94,9,1078,72,34,28,null,null,null,14,46,4430]
[null,4400,101.34,8.6,1030,72,33.200000000000003,28,null,null,null,14,44,4230]
[null,4200,97.740000000000009,8.1999999999999993,984,72,32.4,28,null,null,null,14,42,4030]
[null,4000,94.140000000000015,7.8,936,72,31.6,24,null,null,null,12,40,3830]
[null,3800,90.539999999999992,7.6000000000000005,890,72,30.799999999999997,24,null,null,null,12,38,3630]
[null,3600,86.94,7.2,844,72,30,24,null,null,null,12,36,3430]
[null,3400,83.34,6.8,796,72,29.2,24,null,null,null,12,34,3230]
[null,3200,79.740000000000009,6.4,750,72,28.4,24,null,null,null,12,32,3030]
[null,3000,76.14,6,702,72,27.6,24,null,null,null,12,30,2830]
[null,2800,72.539999999999992,5.6000000000000005,656,72,26.799999999999997,20,null,null,null,10,28,2630]
[null,2600,68.94,5.2,610,72,26,20,null,null,null,10,26,2430]
[null,2400,57.54,4.8,562,36,25.2,20,null,null,null,10,24,2230]
[null,2200,53.940000000000005,4.4000000000000004,516,36,24.4,20,null,null,null,10,22,2030]
[null,2000,50.34,4,468,36,23.6,20,null,null,null,10,20,1830]
[null,1800,46.74,3.6,422,36,22.8,20,null,null,null,10,18,1630]
[null,1600,43.14,3.2,376,36,22,16,null,null,null,8,16,1430]
[null,1400,39.54,2.8000000000000003,328,36,21.2,16,null,null,null,8,14,1230]
[null,1200,35.94,2.4000000000000004,282,36,20.399999999999999,12,null,null,null,6,12,1030]
[null,1000,32.339999999999996,2,234,36,19.600000000000001,12,null,null,null,6,10,830]
[null,800,28.740000000000002,1.5999999999999999,188,36,18.8,12,null,null,null,6,8,630]
[null,600,25.14,1.2,142,36,18,12,null,null,null,6,6,0]
[null,400,21.54,0.8,94,36,17.2,12,null,null,null,6,4,0]
[null,200,17.939999999999998,0.4,48,36,16.399999999999999,8,null,null,null,4,2,0]
["Wandtyp 3.1.1",2600,25.200000000000003,1.8,227,24,7.6,10,5,null,4,5.75,9.4,2430]
[null,2400,21.599999999999998,1.7000000000000002,203,18,7.1999999999999993,8,4,null,2,4,8.6,2230]
[null,2200,20.400000000000002,1.5,188,18,6.8000000000000007,8,4,null,2,4,7.8999999999999995,2030]
[null,2000,19.2,1.4000000000000001,172,18,6.4,8,4,null,2,4,7.2,1830]
[null,1800,18,1.3,157,18,6,8,4,null,2,4,6.6,1630]
[null,1600,16.8,1.2000000000000002,141,18,5.6,8,4,null,2,4,5.8999999999999995,1430]
[null,1400,15.599999999999998,1,125,18,5.1999999999999993,8,4,null,2,4,5.2,1230]
[null,1200,12,0.9,102,12,4.8,6,3,null,1,2.75,4.3999999999999995,1030]
[null,1000,10.8,0.79999999999999993,86,12,4.4000000000000004,6,3,null,1,2.75,3.7,830]
[null,800,9.6000000000000014,0.6,71,12,4,6,3,null,1,2.75,3,630]
[null,600,8.3999999999999986,0.5,55,12,3.5999999999999996,6,3,null,1,2.75,2.4,0]
["Wandtyp 3.1.2",2600,25.200000000000003,1.9000000000000001,222,24,7.6,10,null,5,4,5.75,9.5,2430]
[null,2400,21.599999999999998,1.8,206,18,7.1999999999999993,8,null,4,2,4,8.7999999999999989,2230]
[null,2200,20.400000000000002,1.6,189,18,6.8000000000000007,8,null,4,2,4,8.1,2030]
[null,2000,19.2,1.5,173,18,6.4,8,null,4,2,4,7.3999999999999995,{"$f":"B1220-170","v":1830}]
[null,1800,18,1.4000000000000001,157,18,6,8,null,4,2,4,6.6999999999999993,1630]
[null,1600,16.8,1.2000000000000002,141,18,5.6,8,null,4,2,4,6,1430]
[null,1400,15.599999999999998,1.1000000000000001,125,18,5.1999999999999993,8,null,4,2,4,5.3999999999999995,1230]
[null,1200,12,0.9,108,12,4.8,6,null,3,1,2.75,4.6999999999999993,1030]
[null,1000,10.8,0.79999999999999993,92,12,4.4000000000000004,6,null,3,1,2.75,4,830]
[null,800,9.6000000000000014,0.7,76,12,4,6,null,3,1,2.75,3.3000000000000003,630]
[null,600,8.3999999999999986,0.5,60,12,3.5999999999999996,6,null,3,1,2.75,2.6,0]
["Wandtyp 3.1.3",2600,27.320000000000004,2.2000000000000002,272,36,9.4,10,null,null,4,4.5,12.2,{"$f":"B1228-170","v":2430}]
[null,2400,23.189999999999998,2,246,28,9,8,null,null,2,3,10.799999999999999,2230]
[null,2200,21.990000000000002,1.9000000000000001,228,28,8.6000000000000014,8,null,null,2,3,10,2030]
[null,2000,20.79,1.7000000000000002,210,28,8.2000000000000011,8,null,null,2,3,9.2999999999999989,1830]
[null,1800,19.59,1.6,192,28,7.8,8,null,null,2,3,8.5,1630]
[null,1600,18.39,1.4000000000000001,174,28,7.3999999999999995,8,null,null,2,3,7.6999999999999993,1430]
[null,1400,17.189999999999998,1.3,156,28,6.9999999999999991,8,null,null,2,3,6.9999999999999991,1230]
[null,1200,13.06,1.1000000000000001,130,16,6.6,6,null,null,1,2,5.6,1030]
[null,1000,11.860000000000001,1,112,16,6.2,6,null,null,1,2,4.8,830]
[null,800,10.660000000000002,0.79999999999999993,94,16,5.8,6,null,null,1,2,4.0999999999999996,630]
[null,600,9.4599999999999991,0.7,76,16,5.3999999999999995,6,null,null,1,2,3.3000000000000003,0]
["Wandtyp 3.2.1",2600,25.200000000000003,1.9000000000000001,235,24,5.2,6,7,null,6,6.25,9.8000000000000007,2430]
[null,2400,21.599999999999998,1.7000000000000002,211,18,4.8,4,6,null,4,4.5,8.8999999999999986,2230]
[null,2200,20.400000000000002,1.6,196,18,4.4000000000000004,4,6,null,4,4.5,8.1999999999999993,2030]
[null,2000,19.2,1.5,180,18,4,4,6,null,4,4.5,7.6,1830]
[null,1800,18,1.3,164,18,3.6,4,6,null,4,4.5,6.8999999999999995,1630]
[null,1600,16.8,1.2000000000000002,149,18,3.2,4,6,null,4,4.5,6.2,1430]
[null,1400,15.599999999999998,1.1000000000000001,133,18,2.8,4,6,null,4,4.5,5.6,1230]
[null,1200,12,1,110,12,2.4,2,5,null,2,2.75,4.6999999999999993,1030]
[null,1000,10.8,0.79999999999999993,94,12,2,2,5,null,2,2.75,4,830]
[null,800,9.6000000000000014,0.7,78,12,1.6,2,5,null,2,2.75,3.4,630]
[null,600,8.3999999999999986,0.6,63,12,1.2,2,5,null,2,2.75,2.7,0]
["Wandtyp 3.2.2",2600,25.200000000000003,2,233,24,5.2,6,null,7,6,6.25,10,2430]
[null,2400,21.599999999999998,1.9000000000000001,217,18,4.8,4,null,6,4,4.5,9.2999999999999989,2230]
[null,2200,20.400000000000002,1.7000000000000002,201,18,4.4000000000000004,4,null,6,4,4.5,8.6,2030]
[null,2000,19.2,1.6,184,18,4,4,null,6,4,4.5,7.8999999999999995,1830]
[null,1800,18,1.4000000000000001,168,18,3.6,4,null,6,4,4.5,7.1999999999999993,1630]
[null,1600,16.8,1.3,152,18,3.2,4,null,6,4,4.5,6.5,1430]
[null,1400,15.599999999999998,1.2000000000000002,136,18,2.8,4,null,6,4,4.5,5.8,1230]
[null,1200,12,1,120,12,2.4,2,null,5,2,2.75,5.0999999999999996,1030]
[null,1000,10.8,0.9,103,12,2,2,null,5,2,2.75,4.3999999999999995,830]
[null,800,9.6000000000000014,0.79999999999999993,87,12,1.6,2,null,5,2,2.75,3.8000000000000003,630]
[null,600,8.3999999999999986,0.6,71,12,1.2,2,null,5,2,2.75,3.1,0]
["Wandtyp 3.2.3",2600,27.320000000000004,2.4,294,36,6.4,6,null,null,6,4.5,13.1,{"$f":"B1261-170","v":2430}]
[null,2400,23.189999999999998,2.2000000000000002,268,28,6,4,null,null,4,3,11.799999999999999,2230]
[null,2200,21.990000000000002,2.1,250,28,5.6000000000000005,4,null,null,4,3,11,2030]
[null,2000,20.79,1.9000000000000001,232,28,5.2,4,null,null,4,3,10.199999999999999,1830]
[null,1800,19.59,1.8,214,28,4.8,4,null,null,4,3,9.3999999999999986,1630]
[null,1600,18.39,1.6,196,28,4.4000000000000004,4,null,null,4,3,8.6999999999999993,1430]
[null,1400,17.189999999999998,1.5,178,28,4,4,null,null,4,3,7.8999999999999995,1230]
[null,1200,13.06,1.3,152,16,3.5999999999999996,2,null,null,2,1.5,6.5,1030]
[null,1000,11.860000000000001,1.2000000000000002,134,16,3.2,2,null,null,2,1.5,5.8,830]
[null,800,10.660000000000002,1,116,16,2.8,2,null,null,2,1.5,5,630]
[null,600,9.4599999999999991,0.9,98,16,2.4,2,null,null,2,1.5,4.1999999999999993,0]
["Wandtyp 4.1.1",5000,12.259999999999998,0.79999999999999993,90,8,6.2,4,null,null,null,1,3.9,4830]
[null,4800,11.859999999999998,0.79999999999999993,87,8,6,4,null,null,null,1,3.7,4630]
[null,4600,11.459999999999997,0.7,83,8,5.8,4,null,null,null,1,3.6,4430]
[null,4400,11.059999999999999,0.7,80,8,5.6000000000000005,4,null,null,null,1,3.4,4230]
[null,4200,10.659999999999998,0.7,76,8,5.4,4,null,null,null,1,3.3000000000000003,4030]
[null,4000,10.26,0.6,72,8,5.2,4,null,null,null,1,3.1,3830]
[null,3800,9.86,0.6,69,8,5,4,null,null,null,1,3,3630]
[null,3600,9.4599999999999991,0.6,65,8,4.8,4,null,null,null,1,2.8000000000000003,3430]
[null,3400,9.06,0.6,62,8,4.5999999999999996,4,null,null,null,1,2.7,3230]
[null,3200,8.66,0.5,58,8,4.4000000000000004,4,null,null,null,1,2.5,3030]
[null,3000,8.26,0.5,54,8,4.2,4,null,null,null,1,2.4,2830]
[null,2800,7.86,0.5,51,8,4,4,null,null,null,1,2.2000000000000002,2630]
[null,2600,7.4600000000000009,0.4,47,8,3.8,4,null,null,null,1,2,2430]
[null,2400,5.86,0.4,44,6,3.5999999999999996,2,null,null,null,1,1.9000000000000001,2230]
[null,2200,5.4600000000000009,0.4,40,6,3.4000000000000004,2,null,null,null,1,1.7000000000000002,2030]
[null,2000,5.0599999999999996,0.3,36,6,3.2,2,null,null,null,1,1.6,1830]
[null,1800,4.66,0.30000000000000004,33,6,3,2,null,null,null,1,1.4000000000000001,1630]
[null,1600,4.26,0.30000000000000004,29,6,2.8,2,null,null,null,1,1.3,1430]
[null,1400,3.8599999999999994,0.30000000000000004,26,6,2.5999999999999996,2,null,null,null,1,1.1000000000000001,1230]
[null,1200,3.46,0.2,22,6,2.4,2,null,null,null,1,1,1030]
[null,1000,3.0599999999999996,0.2,18,6,2.2000000000000002,2,null,null,null,1,0.79999999999999993,830]
[null,800,2.66,0.2,15,6,2,2,null,null,null,1,0.7,630]
[null,600,2.2599999999999998,0.1,11,6,1.7999999999999998,2,null,null,null,1,0.5,0]
[null,400,1.8599999999999999,0.1,8,6,1.6,2,null,null,null,1,0.4,0]
[null,200,1.46,0.1,4,6,1.4,2,null,null,null,1,0.2,0]
["Wandtyp 4.1.2",5000,17.68,1.8,216,8,7.8900000000000006,2,3,null,null,2,9.2999999999999989,4830]
[null,4800,17.079999999999998,1.8,208,8,7.6899999999999995,2,3,null,null,2,8.9,4630]
[null,4600,16.479999999999997,1.7000000000000002,199,8,7.49,2,3,null,null,2,8.5,4430]
[null,4400,15.88,1.6,191,8,7.2900000000000009,2,3,null,null,2,8.1999999999999993,4230]
[null,4200,15.280000000000001,1.6,182,8,7.09,2,3,null,null,2,7.8,4030]
[null,4000,14.680000000000001,1.5,173,8,6.8900000000000006,2,3,null,null,2,7.3999999999999995,3830]
[null,3800,14.08,1.4000000000000001,165,8,6.6899999999999995,2,3,null,null,2,7.1,3630]
[null,3600,13.48,1.3,156,8,6.49,2,3,null,null,2,6.6999999999999993,3430]
[null,3400,12.88,1.3,147,8,6.29,2,3,null,null,2,6.3,3230]
[null,3200,12.280000000000001,1.2000000000000002,139,8,6.09,2,3,null,null,2,6,3030]
[null,3000,11.680000000000001,1.1000000000000001,130,8,5.8900000000000006,2,3,null,null,2,5.6,2830]
[null,2800,11.08,1.1000000000000001,121,8,5.6899999999999995,2,3,null,null,2,5.1999999999999993,2630]
[null,2600,10.48,1,113,8,5.49,2,3,null,null,2,4.8,2430]
[null,2400,9.8800000000000008,0.9,104,8,5.29,2,0,null,null,1,4.5,2230]
[null,2200,9.2800000000000011,0.79999999999999993,96,8,5.09,2,0,null,null,1,4.0999999999999996,2030]
[null,2000,8.68,0.79999999999999993,87,8,4.8900000000000006,2,0,null,null,1,3.7,1830]
[null,1800,8.08,0.7,78,8,4.6900000000000004,2,0,null,null,1,3.4,1630]
[null,1600,7.48,0.6,70,8,4.49,2,0,null,null,1,3,1430]
[null,1400,6.879999999999999,0.6,61,8,4.29,2,0,null,null,1,2.6,1230]
[null,1200,6.2799999999999994,0.5,52,8,4.09,2,0,null,null,1,2.3000000000000003,1030]
[null,1000,5.68,0.4,44,8,3.89,2,0,null,null,1,1.9000000000000001,830]
[null,800,5.08,0.30000000000000004,35,8,3.6900000000000004,2,0,null,null,1,1.5,630]
[null,600,4.4800000000000004,0.30000000000000004,26,8,3.49,2,0,null,null,1,1.2000000000000002,0]
[null,400,3.88,0.2,18,8,3.29,2,0,null,null,1,0.79999999999999993,0]
[null,200,3.2800000000000002,0.1,9,8,3.0900000000000003,2,0,null,null,1,0.4,0]
["Wandtyp 4.1.3",5000,17.68,1.8,216,8,7.8900000000000006,2,null,3,null,2,9.2999999999999989,4830]
[null,4800,17.079999999999998,1.8,208,8,7.6899999999999995,2,null,3,null,2,8.9,4630]
[null,4600,16.479999999999997,1.7000000000000002,199,8,7.49,2,null,3,null,2,8.5,4430]
[null,4400,15.88,1.6,191,8,7.2900000000000009,2,null,3,null,2,8.1999999999999993,4230]
[null,4200,15.280000000000001,1.6,182,8,7.09,2,null,3,null,2,7.8,4030]
[null,4000,14.680000000000001,1.5,173,8,6.8900000000000006,2,null,3,null,2,7.3999999999999995,3830]
[null,3800,14.08,1.4000000000000001,165,8,6.6899999999999995,2,null,3,null,2,7.1,3630]
[null,3600,13.48,1.3,156,8,6.49,2,null,3,null,2,6.6999999999999993,3430]
[null,3400,12.88,1.3,147,8,6.29,2,null,3,null,2,6.3,3230]
[null,3200,12.280000000000001,1.2000000000000002,139,8,6.09,2,null,3,null,2,6,{"$f":"B1331-170","v":3030}]
[null,3000,11.680000000000001,1.1000000000000001,130,8,5.8900000000000006,2,null,3,null,2,5.6,2830]
[null,2800,11.08,1.1000000000000001,121,8,5.6899999999999995,2,null,3,null,2,5.1999999999999993,2630]
[null,2600,10.48,1,113,8,5.49,2,null,3,null,2,4.8,2430]
[null,2400,9.8800000000000008,0.9,104,8,5.29,2,null,0,null,1,4.5,2230]
[null,2200,9.2800000000000011,0.79999999999999993,96,8,5.09,2,null,0,null,1,4.0999999999999996,2030]
[null,2000,8.68,0.79999999999999993,87,8,4.8900000000000006,2,null,0,null,1,3.7,1830]
[null,1800,8.08,0.7,78,8,4.6900000000000004,2,null,0,null,1,3.4,1630]
[null,1600,7.48,0.6,70,8,4.49,2,null,0,null,1,3,1430]
[null,1400,6.879999999999999,0.6,61,8,4.29,2,null,0,null,1,2.6,1230]
[null,1200,6.2799999999999994,0.5,52,8,4.09,2,null,0,null,1,2.3000000000000003,1030]
[null,1000,5.68,0.4,44,8,3.89,2,null,0,null,1,1.9000000000000001,830]
[null,800,5.08,0.30000000000000004,35,8,3.6900000000000004,2,null,0,null,1,1.5,630]
[null,600,4.4800000000000004,0.30000000000000004,26,8,3.49,2,null,0,null,1,1.2000000000000002,0]
[null,400,3.88,0.2,18,8,3.29,2,null,0,null,1,0.79999999999999993,0]
[null,200,3.2800000000000002,0.1,9,8,3.0900000000000003,2,null,0,null,1,0.4,0]
["Wandtyp 4.1.4",5000,19.48,1.8,216,9,7.8900000000000006,5,null,null,null,2,9.2999999999999989,{"$f":"B1347-170","v":4830}]
[null,4800,18.88,1.8,208,9,7.6899999999999995,5,null,null,null,2,8.9,4630]
[null,4600,18.279999999999998,1.7000000000000002,199,9,7.49,5,null,null,null,2,8.5,4430]
[null,4400,17.68,1.6,191,9,7.2900000000000009,5,null,null,null,2,8.1999999999999993,4230]
[null,4200,17.080000000000002,1.6,182,9,7.09,5,null,null,null,2,7.8,4030]
[null,4000,16.48,1.5,173,9,6.8900000000000006,5,null,null,null,2,7.3999999999999995,3830]
[null,3800,15.88,1.4000000000000001,165,9,6.6899999999999995,5,null,null,null,2,7.1,3630]
[null,3600,15.280000000000001,1.3,156,9,6.49,5,null,null,null,2,6.6999999999999993,3430]
[null,3400,14.680000000000001,1.3,147,9,6.29,5,null,null,null,2,6.3,3230]
[null,3200,14.080000000000002,1.2000000000000002,139,9,6.09,5,null,null,null,2,6,3030]
[null,3000,13.480000000000002,1.1000000000000001,130,9,5.8900000000000006,5,null,null,null,2,5.6,2830]
[null,2800,12.88,1.1000000000000001,121,9,5.6899999999999995,5,null,null,null,2,5.1999999999999993,2630]
[null,2600,12.280000000000001,1,113,9,5.49,5,null,null,null,2,4.8,2430]
[null,2400,9.8800000000000008,0.9,104,6,5.29,2,null,null,null,1,4.5,2230]
[null,2200,9.2800000000000011,0.79999999999999993,96,6,5.09,2,null,null,null,1,4.0999999999999996,2030]
[null,2000,8.68,0.79999999999999993,87,6,4.8900000000000006,2,null,null,null,1,3.7,1830]
[null,1800,8.08,0.7,78,6,4.6900000000000004,2,null,null,null,1,3.4,1630]
[null,1600,7.48,0.6,70,6,4.49,2,null,null,null,1,3,1430]
[null,1400,6.879999999999999,0.6,61,6,4.29,2,null,null,null,1,2.6,1230]
[null,1200,6.2799999999999994,0.5,52,6,4.09,2,null,null,null,1,2.3000000000000003,1030]
[null,1000,5.68,0.4,44,6,3.89,2,null,null,null,1,1.9000000000000001,830]
[null,800,5.08,0.30000000000000004,35,6,3.6900000000000004,2,null,null,null,1,1.5,630]
[null,600,4.4800000000000004,0.30000000000000004,26,6,3.49,2,null,null,null,1,1.2000000000000002,0]
[null,400,3.88,0.2,18,6,3.29,2,null,null,null,1,0.79999999999999993,0]
[null,200,3.2800000000000002,0.1,9,6,3.0900000000000003,2,null,null,null,1,0.4,0]
["Wandtyp 4.1.5",5000,30.14,3.5,411,12,10.49,4,5,null,null,3,17.600000000000001,{"$f":"B1372-170","v":4830}]
[null,4800,29.14,3.3000000000000003,395,12,10.29,4,5,null,null,3,16.900000000000002,4630]
[null,4600,28.14,3.2,379,12,10.09,4,5,null,null,3,16.200000000000003,4430]
[null,4400,27.14,3.1,362,12,9.89,4,5,null,null,3,15.5,4230]
[null,4200,26.14,2.9,346,12,9.6900000000000013,4,5,null,null,3,14.799999999999999,4030]
[null,4000,25.14,2.8000000000000003,329,12,9.49,4,5,null,null,3,14.1,3830]
[null,3800,24.14,2.7,313,12,9.2899999999999991,4,5,null,null,3,13.4,3630]
[null,3600,23.14,2.5,296,12,9.09,4,5,null,null,3,12.7,3430]
[null,3400,22.14,2.4,280,12,8.89,4,5,null,null,3,12,3230]
[null,3200,21.14,2.2000000000000002,264,12,8.6900000000000013,4,5,null,null,3,11.299999999999999,3030]
[null,3000,20.14,2.1,247,12,8.49,4,5,null,null,3,10.6,2830]
[null,2800,19.14,2,231,12,8.2899999999999991,4,5,null,null,3,9.9,2630]
[null,2600,18.14,1.8,214,12,8.09,4,5,null,null,3,9.1999999999999993,2430]
[null,2400,17.14,1.7000000000000002,198,12,7.8900000000000006,4,0,null,null,1,8.5,2230]
[null,2200,16.14,1.6,181,12,7.69,4,0,null,null,1,7.8,2030]
[null,2000,15.14,1.4000000000000001,165,12,7.49,4,0,null,null,1,7.1,1830]
[null,1800,14.14,1.3,148,12,7.29,4,0,null,null,1,6.3999999999999995,1630]
[null,1600,13.14,1.1000000000000001,132,12,7.09,4,0,null,null,1,5.6999999999999993,1430]
[null,1400,12.14,1,116,12,6.8900000000000006,4,0,null,null,1,5,1230]
[null,1200,11.14,0.9,99,12,6.69,4,0,null,null,1,4.3,1030]
[null,1000,10.14,0.7,83,12,6.49,4,0,null,null,1,3.6,830]
[null,800,9.14,0.6,66,12,6.29,4,0,null,null,1,2.9,630]
[null,600,8.14,0.5,50,12,6.09,4,0,null,null,1,2.2000000000000002,0]
[null,400,7.1400000000000006,0.30000000000000004,33,12,5.8900000000000006,4,0,null,null,1,1.5,0]
[null,200,6.1400000000000006,0.2,17,12,5.69,4,0,null,null,1,0.79999999999999993,0]
["Wandtyp 4.1.6",5000,30.14,3.5,411,12,10.49,4,null,5,null,3,17.600000000000001,{"$f":"B1397-170","v":4830}]
[null,4800,29.14,3.3000000000000003,395,12,10.29,4,null,5,null,3,16.900000000000002,4630]
[null,4600,28.14,3.2,379,12,10.09,4,null,5,null,3,16.200000000000003,4430]
[null,4400,27.14,3.1,362,12,9.89,4,null,5,null,3,15.5,4230]
[null,4200,26.14,2.9,346,12,9.6900000000000013,4,null,5,null,3,14.799999999999999,4030]
[null,4000,25.14,2.8000000000000003,329,12,9.49,4,null,5,null,3,14.1,3830]
[null,3800,24.14,2.7,313,12,9.2899999999999991,4,null,5,null,3,13.4,3630]
[null,3600,23.14,2.5,296,12,9.09,4,null,5,null,3,12.7,3430]
[null,3400,22.14,2.4,280,12,8.89,4,null,5,null,3,12,3230]
[null,3200,21.14,2.2000000000000002,264,12,8.6900000000000013,4,null,5,null,3,11.299999999999999,3030]
[null,3000,20.14,2.1,247,12,8.49,4,null,5,null,3,10.6,2830]
[null,2800,19.14,2,231,12,8.2899999999999991,4,null,5,null,3,9.9,2630]
[null,2600,18.14,1.8,214,12,8.09,4,null,5,null,3,9.1999999999999993,2430]
[null,2400,17.14,1.7000000000000002,198,12,7.8900000000000006,4,null,0,null,1,8.5,2230]
[null,2200,16.14,1.6,181,12,7.69,4,null,0,null,1,7.8,2030]
[null,2000,15.14,1.4000000000000001,165,12,7.49,4,null,0,null,1,7.1,1830]
[null,1800,14.14,1.3,148,12,7.29,4,null,0,null,1,6.3999999999999995,1630]
[null,1600,13.14,1.1000000000000001,132,12,7.09,4,null,0,null,1,5.6999999999999993,1430]
[null,1400,12.14,1,116,12,6.8900000000000006,4,null,0,null,1,5,1230]
[null,1200,11.14,0.9,99,12,6.69,4,null,0,null,1,4.3,1030]
[null,1000,10.14,0.7,83,12,6.49,4,null,0,null,1,3.6,830]
[null,800,9.14,0.6,66,12,6.29,4,null,0,null,1,2.9,630]
[null,600,8.14,0.5,50,12,6.09,4,null,0,null,1,2.2000000000000002,0]
[null,400,7.1400000000000006,0.30000000000000004,33,12,5.8900000000000006,4,null,0,null,1,1.5,0]
[null,200,6.1400000000000006,0.2,17,12,5.69,4,null,0,null,1,0.79999999999999993,0]
["Wandtyp 4.1.7",5000,33.14,3.5,411,17,10.49,9,null,null,null,3,17.600000000000001,{"$f":"B1422-170","v":4830}]
[null,4800,32.14,3.3000000000000003,395,17,10.29,9,null,null,null,3,16.900000000000002,4630]
[null,4600,31.14,3.2,379,17,10.09,9,null,null,null,3,16.200000000000003,4430]
[null,4400,30.14,3.1,362,17,9.89,9,null,null,null,3,15.5,4230]
[null,4200,29.14,2.9,346,17,9.6900000000000013,9,null,null,null,3,14.799999999999999,4030]
[null,4000,28.14,2.8000000000000003,329,17,9.49,9,null,null,null,3,14.1,3830]
[null,3800,27.14,2.7,313,17,9.2899999999999991,9,null,null,null,3,13.4,3630]
[null,3600,26.14,2.5,296,17,9.09,9,null,null,null,3,12.7,3430]
[null,3400,25.14,2.4,280,17,8.89,9,null,null,null,3,12,3230]
[null,3200,24.14,2.2000000000000002,264,17,8.6900000000000013,9,null,null,null,3,11.299999999999999,3030]
[null,3000,23.14,2.1,247,17,8.49,9,null,null,null,3,10.6,2830]
[null,2800,22.14,2,231,17,8.2899999999999991,9,null,null,null,3,9.9,2630]
[null,2600,21.14,1.8,214,17,8.09,9,null,null,null,3,9.1999999999999993,2430]
[null,2400,17.14,1.7000000000000002,198,12,7.8900000000000006,4,null,null,null,1,8.5,2230]
[null,2200,16.14,1.6,181,12,7.69,4,null,null,null,1,7.8,2030]
[null,2000,15.14,1.4000000000000001,165,12,7.49,4,null,null,null,1,7.1,1830]
[null,1800,14.14,1.3,148,12,7.29,4,null,null,null,1,6.3999999999999995,1630]
[null,1600,13.14,1.1000000000000001,132,12,7.09,4,null,null,null,1,5.6999999999999993,1430]
[null,1400,12.14,1,116,12,6.8900000000000006,4,null,null,null,1,5,1230]
[null,1200,11.14,0.9,99,12,6.69,4,null,null,null,1,4.3,1030]
[null,1000,10.14,0.7,83,12,6.49,4,null,null,null,1,3.6,830]
[null,800,9.14,0.6,66,12,6.29,4,null,null,null,1,2.9,630]
[null,600,8.14,0.5,50,12,6.09,4,null,null,null,1,2.2000000000000002,0]
[null,400,7.1400000000000006,0.30000000000000004,33,12,5.8900000000000006,4,null,null,null,1,1.5,0]
[null,200,6.1400000000000006,0.2,17,12,5.69,4,null,null,null,1,0.79999999999999993,0]
["Wandtyp 4.2.1",5000,12.86,0.9,101,8,6.2,4,null,null,null,1,4.3999999999999995,{"$f":"B1447-170","v":4830}]
[null,4800,12.459999999999999,0.9,98,8,6,4,null,null,null,1,4.1999999999999993,4630]
[null,4600,12.059999999999999,0.79999999999999993,94,8,5.8,4,null,null,null,1,4,4430]
[null,4400,11.66,0.79999999999999993,90,8,5.6000000000000005,4,null,null,null,1,3.9,4230]
[null,4200,11.26,0.79999999999999993,87,8,5.4,4,null,null,null,1,3.7,4030]
[null,4000,10.86,0.7,83,8,5.2,4,null,null,null,1,3.6,3830]
[null,3800,10.459999999999999,0.7,80,8,5,4,null,null,null,1,3.4,3630]
[null,3600,10.06,0.7,76,8,4.8,4,null,null,null,1,3.3000000000000003,3430]
[null,3400,9.66,0.6,72,8,4.5999999999999996,4,null,null,null,1,3.1,3230]
[null,3200,9.26,0.6,69,8,4.4000000000000004,4,null,null,null,1,3,3030]
[null,3000,8.86,0.6,65,8,4.2,4,null,null,null,1,2.8000000000000003,2830]
[null,2800,8.4599999999999991,0.6,62,8,4,4,null,null,null,1,2.7,2630]
[null,2600,8.06,0.5,58,8,3.8,4,null,null,null,1,2.5,2430]
[null,2400,6.46,0.5,54,6,3.5999999999999996,2,null,null,null,1,2.4,2230]
[null,2200,6.0600000000000005,0.5,51,6,3.4000000000000004,2,null,null,null,1,2.2000000000000002,2030]
[null,2000,5.66,0.4,47,6,3.2,2,null,null,null,1,2,1830]
[null,1800,5.26,0.4,44,6,3,2,null,null,null,1,1.9000000000000001,1630]
[null,1600,4.8600000000000003,0.4,40,6,2.8,2,null,null,null,1,1.7000000000000002,1430]
[null,1400,4.46,0.3,36,6,2.5999999999999996,2,null,null,null,1,1.6,1230]
[null,1200,4.0599999999999996,0.30000000000000004,33,6,2.4,2,null,null,null,1,1.4000000000000001,1030]
[null,1000,3.66,0.30000000000000004,29,6,2.2000000000000002,2,null,null,null,1,1.3,830]
[null,800,3.26,0.30000000000000004,26,6,2,2,null,null,null,1,1.1000000000000001,630]
[null,600,2.8600000000000003,0.2,22,6,1.7999999999999998,2,null,null,null,1,1,0]
[null,400,2.46,0.2,18,6,1.6,2,null,null,null,1,0.79999999999999993,0]
[null,200,2.06,0.2,15,6,1.4,2,null,null,null,1,0.7,0]
["Wandtyp 4.2.2",5000,19.13,1.9000000000000001,226,8,7.8900000000000006,2,4,null,null,2,9.6999999999999993,4830]
[null,4800,18.529999999999998,1.9000000000000001,217,8,7.6899999999999995,2,4,null,null,2,9.2999999999999989,4630]
[null,4600,17.93,1.8,209,8,7.49,2,4,null,null,2,8.9,4430]
[null,4400,17.329999999999998,1.7000000000000002,200,8,7.2900000000000009,2,4,null,null,2,8.6,4230]
[null,4200,16.73,1.6,191,8,7.09,2,4,null,null,2,8.1999999999999993,4030]
[null,4000,16.130000000000003,1.6,183,8,6.8900000000000006,2,4,null,null,2,7.8,3830]
[null,3800,15.53,1.5,174,8,6.6899999999999995,2,4,null,null,2,7.5,3630]
[null,3600,14.93,1.4000000000000001,165,8,6.49,2,4,null,null,2,7.1,3430]
[null,3400,14.33,1.4000000000000001,157,8,6.29,2,4,null,null,2,6.6999999999999993,3230]
[null,3200,13.73,1.3,148,8,6.09,2,4,null,null,2,6.3999999999999995,3030]
[null,3000,13.13,1.2000000000000002,139,8,5.8900000000000006,2,4,null,null,2,6,2830]
[null,2800,12.53,1.1000000000000001,131,8,5.6899999999999995,2,4,null,null,2,5.6,2630]
[null,2600,11.93,1.1000000000000001,122,8,5.49,2,4,null,null,2,5.1999999999999993,2430]
[null,2400,11.33,1,113,8,5.29,2,1,null,null,1,4.8999999999999995,2230]
[null,2200,10.73,0.9,105,8,5.09,2,1,null,null,1,4.5,2030]
[null,2000,10.129999999999999,0.79999999999999993,96,8,4.8900000000000006,2,1,null,null,1,4.0999999999999996,1830]
[null,1800,9.5299999999999994,0.79999999999999993,88,8,4.6900000000000004,2,1,null,null,1,3.8000000000000003,1630]
[null,1600,8.93,0.7,79,8,4.49,2,1,null,null,1,3.4,1430]
[null,1400,8.3299999999999983,0.6,70,8,4.29,2,1,null,null,1,3,1230]
[null,1200,7.7299999999999995,0.6,62,8,4.09,2,1,null,null,1,2.7,1030]
[null,1000,7.13,0.5,53,8,3.89,2,1,null,null,1,2.3000000000000003,830]
[null,800,6.5299999999999994,0.4,44,8,3.6900000000000004,2,1,null,null,1,1.9000000000000001,630]
[null,600,5.93,0.30000000000000004,36,8,3.49,2,1,null,null,1,1.6,0]
[null,400,5.33,0.30000000000000004,27,8,3.29,2,1,null,null,1,1.2000000000000002,0]
[null,200,4.7299999999999995,0.2,18,8,3.0900000000000003,2,1,null,null,1,0.79999999999999993,0]
["Wandtyp 4.2.3",5000,19.13,2,230,8,7.8900000000000006,2,null,4,null,2,9.9,4830]
[null,4800,18.529999999999998,1.9000000000000001,222,8,7.6899999999999995,2,null,4,null,2,9.5,4630]
[null,4600,17.93,1.8,213,8,7.49,2,null,4,null,2,9.1,4430]
[null,4400,17.329999999999998,1.7000000000000002,204,8,7.2900000000000009,2,null,4,null,2,8.7999999999999989,4230]
[null,4200,16.73,1.7000000000000002,196,8,7.09,2,null,4,null,2,8.4,4030]
[null,4000,16.130000000000003,1.6,187,8,6.8900000000000006,2,null,4,null,2,8,3830]
[null,3800,15.53,1.5,178,8,6.6899999999999995,2,null,4,null,2,7.6999999999999993,3630]
[null,3600,14.93,1.5,170,8,6.49,2,null,4,null,2,7.3,3430]
[null,3400,14.33,1.4000000000000001,161,8,6.29,2,null,4,null,2,6.8999999999999995,3230]
[null,3200,13.73,1.3,153,8,6.09,2,null,4,null,2,6.5,3030]
[null,3000,13.13,1.2000000000000002,144,8,5.8900000000000006,2,null,4,null,2,6.1999999999999993,2830]
[null,2800,12.53,1.2000000000000002,135,8,5.6899999999999995,2,null,4,null,2,5.8,2630]
[null,2600,11.93,1.1000000000000001,127,8,5.49,2,null,4,null,2,5.3999999999999995,2430]
[null,2400,11.33,1,118,8,5.29,2,null,1,null,1,5.0999999999999996,2230]
[null,2200,10.73,1,109,8,5.09,2,null,1,null,1,4.6999999999999993,{"$f":"B1511-170","v":2030}]
[null,2000,10.129999999999999,0.9,101,8,4.8900000000000006,2,null,1,null,1,4.3,1830]
[null,1800,9.5299999999999994,0.79999999999999993,92,8,4.6900000000000004,2,null,1,null,1,4,1630]
[null,1600,8.93,0.7,83,8,4.49,2,null,1,null,1,3.6,1430]
[null,1400,8.3299999999999983,0.7,75,8,4.29,2,null,1,null,1,3.2,1230]
[null,1200,7.7299999999999995,0.6,66,8,4.09,2,null,1,null,1,2.9,1030]
[null,1000,7.13,0.5,57,8,3.89,2,null,1,null,1,2.5,830]
[null,800,6.5299999999999994,0.5,49,8,3.6900000000000004,2,null,1,null,1,2.1,630]
[null,600,5.93,0.4,40,8,3.49,2,null,1,null,1,1.7000000000000002,0]
[null,400,5.33,0.30000000000000004,32,8,3.29,2,null,1,null,1,1.4000000000000001,0]
[null,200,4.7299999999999995,0.2,23,8,3.0900000000000003,2,null,1,null,1,1,0]
["Wandtyp 4.2.4",5000,20.93,2.1,243,11,7.8900000000000006,5,null,null,null,2,10.4,{"$f":"B1522-170","v":4830}]
[null,4800,20.329999999999998,2,234,11,7.6899999999999995,5,null,null,null,2,10,4630]
[null,4600,19.73,1.9000000000000001,225,11,7.49,5,null,null,null,2,9.6999999999999993,4430]
[null,4400,19.13,1.9000000000000001,217,11,7.2900000000000009,5,null,null,null,2,9.2999999999999989,4230]
[null,4200,18.53,1.8,208,11,7.09,5,null,null,null,2,8.9,4030]
[null,4000,17.930000000000003,1.7000000000000002,199,11,6.8900000000000006,5,null,null,null,2,8.5,3830]
[null,3800,17.329999999999998,1.6,191,11,6.6899999999999995,5,null,null,null,2,8.1999999999999993,3630]
[null,3600,16.73,1.6,182,11,6.49,5,null,null,null,2,7.8,3430]
[null,3400,16.13,1.5,173,11,6.29,5,null,null,null,2,7.3999999999999995,3230]
[null,3200,15.530000000000001,1.4000000000000001,165,11,6.09,5,null,null,null,2,7.1,3030]
[null,3000,14.930000000000001,1.3,156,11,5.8900000000000006,5,null,null,null,2,6.6999999999999993,2830]
[null,2800,14.33,1.3,148,11,5.6899999999999995,5,null,null,null,2,6.3,2630]
[null,2600,13.73,1.2000000000000002,139,11,5.49,5,null,null,null,2,6,2430]
[null,2400,11.33,1.1000000000000001,130,8,5.29,2,null,null,null,1,5.6,2230]
[null,2200,10.73,1.1000000000000001,122,8,5.09,2,null,null,null,1,5.1999999999999993,2030]
[null,2000,10.129999999999999,1,113,8,4.8900000000000006,2,null,null,null,1,4.8999999999999995,1830]
[null,1800,9.5299999999999994,0.9,104,8,4.6900000000000004,2,null,null,null,1,4.5,1630]
[null,1600,8.93,0.79999999999999993,96,8,4.49,2,null,null,null,1,4.0999999999999996,1430]
[null,1400,8.3299999999999983,0.79999999999999993,87,8,4.29,2,null,null,null,1,3.7,1230]
[null,1200,7.7299999999999995,0.7,78,8,4.09,2,null,null,null,1,3.4,1030]
[null,1000,7.13,0.6,70,8,3.89,2,null,null,null,1,3,830]
[null,800,6.5299999999999994,0.6,61,8,3.6900000000000004,2,null,null,null,1,2.6,630]
[null,600,5.93,0.5,53,8,3.49,2,null,null,null,1,2.3000000000000003,0]
[null,400,5.33,0.4,44,8,3.29,2,null,null,null,1,1.9000000000000001,0]
[null,200,4.7299999999999995,0.30000000000000004,35,8,3.0900000000000003,2,null,null,null,1,1.5,0]
["Wandtyp 4.2.5",5000,32.879999999999995,3.6,429,12,10.49,4,6,null,null,3,18.400000000000002,{"$f":"B1547-170","v":4830}]
[null,4800,31.88,3.5,413,12,10.29,4,6,null,null,3,17.700000000000003,4630]
[null,4600,30.88,3.3000000000000003,396,12,10.09,4,6,null,null,3,17,4430]
[null,4400,29.88,3.2,380,12,9.89,4,6,null,null,3,16.3,4230]
[null,4200,28.88,3.1,363,12,9.6900000000000013,4,6,null,null,3,15.6,4030]
[null,4000,27.880000000000003,2.9,347,12,9.49,4,6,null,null,3,14.9,3830]
[null,3800,26.88,2.8000000000000003,331,12,9.2899999999999991,4,6,null,null,3,14.2,3630]
[null,3600,25.880000000000003,2.7,314,12,9.09,4,6,null,null,3,13.5,3430]
[null,3400,24.88,2.5,298,12,8.89,4,6,null,null,3,12.7,3230]
[null,3200,23.880000000000003,2.4,281,12,8.6900000000000013,4,6,null,null,3,12,3030]
[null,3000,22.880000000000003,2.3000000000000003,265,12,8.49,4,6,null,null,3,11.299999999999999,2830]
[null,2800,21.880000000000003,2.1,248,12,8.2899999999999991,4,6,null,null,3,10.6,2630]
[null,2600,20.880000000000003,2,232,12,8.09,4,6,null,null,3,9.9,2430]
[null,2400,19.880000000000003,1.8,215,12,7.8900000000000006,4,1,null,null,2,9.1999999999999993,2230]
[null,2200,18.880000000000003,1.7000000000000002,199,12,7.69,4,1,null,null,2,8.5,2030]
[null,2000,17.880000000000003,1.6,183,12,7.49,4,1,null,null,2,7.8,1830]
[null,1800,16.880000000000003,1.4000000000000001,166,12,7.29,4,1,null,null,2,7.1,1630]
[null,1600,15.88,1.3,150,12,7.09,4,1,null,null,2,6.3999999999999995,1430]
[null,1400,14.879999999999999,1.2000000000000002,133,12,6.8900000000000006,4,1,null,null,2,5.6999999999999993,1230]
[null,1200,13.879999999999999,1,117,12,6.69,4,1,null,null,2,5,1030]
[null,1000,12.879999999999999,0.9,100,12,6.49,4,1,null,null,2,4.3,830]
[null,800,11.88,0.7,84,12,6.29,4,1,null,null,2,3.6,630]
[null,600,10.88,0.6,68,12,6.09,4,1,null,null,2,2.9,0]
[null,400,9.8800000000000008,0.5,51,12,5.8900000000000006,4,1,null,null,2,2.2000000000000002,0]
[null,200,8.8800000000000008,0.30000000000000004,35,12,5.69,4,1,null,null,2,1.5,0]
["Wandtyp 4.2.6",5000,32.879999999999995,3.7,437,12,10.49,4,null,6,null,3,18.700000000000003,{"$f":"B1572-170","v":4830}]
[null,4800,31.88,3.6,421,12,10.29,4,null,6,null,3,18,4630]
[null,4600,30.88,3.4,404,12,10.09,4,null,6,null,3,17.3,4430]
[null,4400,29.88,3.3000000000000003,388,12,9.89,4,null,6,null,3,16.600000000000001,4230]
[null,4200,28.88,3.1,372,12,9.6900000000000013,4,null,6,null,3,15.9,4030]
[null,4000,27.880000000000003,3,355,12,9.49,4,null,6,null,3,15.2,3830]
[null,3800,26.88,2.9,339,12,9.2899999999999991,4,null,6,null,3,14.5,3630]
[null,3600,25.880000000000003,2.7,322,12,9.09,4,null,6,null,3,13.799999999999999,3430]
[null,3400,24.88,2.6,306,12,8.89,4,null,6,null,3,13.1,3230]
[null,3200,23.880000000000003,2.5,289,12,8.6900000000000013,4,null,6,null,3,12.4,3030]
[null,3000,22.880000000000003,2.3000000000000003,273,12,8.49,4,null,6,null,3,11.7,2830]
[null,2800,21.880000000000003,2.2000000000000002,256,12,8.2899999999999991,4,null,6,null,3,11,2630]
[null,2600,20.880000000000003,2,240,12,8.09,4,null,6,null,3,10.299999999999999,2430]
[null,2400,19.880000000000003,1.9000000000000001,224,12,7.8900000000000006,4,null,1,null,2,9.6,2230]
[null,2200,18.880000000000003,1.8,207,12,7.69,4,null,1,null,2,8.9,2030]
[null,2000,17.880000000000003,1.6,191,12,7.49,4,null,1,null,2,8.1999999999999993,1830]
[null,1800,16.880000000000003,1.5,174,12,7.29,4,null,1,null,2,7.5,1630]
[null,1600,15.88,1.4000000000000001,158,12,7.09,4,null,1,null,2,6.8,1430]
[null,1400,14.879999999999999,1.2000000000000002,141,12,6.8900000000000006,4,null,1,null,2,6.1,1230]
[null,1200,13.879999999999999,1.1000000000000001,125,12,6.69,4,null,1,null,2,5.3999999999999995,1030]
[null,1000,12.879999999999999,0.9,108,12,6.49,4,null,1,null,2,4.6999999999999993,830]
[null,800,11.88,0.79999999999999993,92,12,6.29,4,null,1,null,2,4,630]
[null,600,10.88,0.7,76,12,6.09,4,null,1,null,2,3.3000000000000003,0]
[null,400,9.8800000000000008,0.5,59,12,5.8900000000000006,4,null,1,null,2,2.6,0]
[null,200,8.8800000000000008,0.4,43,12,5.69,4,null,1,null,2,1.9000000000000001,0]
["Wandtyp 4.2.7",5000,35.879999999999995,3.9,461,17,10.49,9,null,null,null,3,19.700000000000003,{"$f":"B1597-170","v":4830}]
[null,4800,34.879999999999995,3.8000000000000003,445,17,10.29,9,null,null,null,3,19,4630]
[null,4600,33.879999999999995,3.6,428,17,10.09,9,null,null,null,3,18.3,4430]
[null,4400,32.879999999999995,3.5,412,17,9.89,9,null,null,null,3,17.600000000000001,4230]
[null,4200,31.88,3.3000000000000003,395,17,9.6900000000000013,9,null,null,null,3,16.900000000000002,4030]
[null,4000,30.880000000000003,3.2,379,17,9.49,9,null,null,null,3,16.200000000000003,3830]
[null,3800,29.88,3.1,362,17,9.2899999999999991,9,null,null,null,3,15.5,3630]
[null,3600,28.880000000000003,2.9,346,17,9.09,9,null,null,null,3,14.799999999999999,3430]
[null,3400,27.88,2.8000000000000003,329,17,8.89,9,null,null,null,3,14.1,3230]
[null,3200,26.880000000000003,2.7,313,17,8.6900000000000013,9,null,null,null,3,13.4,3030]
[null,3000,25.880000000000003,2.5,297,17,8.49,9,null,null,null,3,12.7,2830]
[null,2800,24.880000000000003,2.4,280,17,8.2899999999999991,9,null,null,null,3,12,2630]
[null,2600,23.880000000000003,2.2000000000000002,264,17,8.09,9,null,null,null,3,11.299999999999999,2430]
[null,2400,19.880000000000003,2.1,247,12,7.8900000000000006,4,null,null,null,1,10.6,2230]
[null,2200,18.880000000000003,2,231,12,7.69,4,null,null,null,1,9.9,2030]
[null,2000,17.880000000000003,1.8,214,12,7.49,4,null,null,null,1,9.1999999999999993,1830]
[null,1800,16.880000000000003,1.7000000000000002,198,12,7.29,4,null,null,null,1,8.5,1630]
[null,1600,15.88,1.6,182,12,7.09,4,null,null,null,1,7.8,1430]
[null,1400,14.879999999999999,1.4000000000000001,165,12,6.8900000000000006,4,null,null,null,1,7.1,1230]
[null,1200,13.879999999999999,1.3,149,12,6.69,4,null,null,null,1,6.3999999999999995,1030]
[null,1000,12.879999999999999,1.1000000000000001,132,12,6.49,4,null,null,null,1,5.6999999999999993,830]
[null,800,11.88,1,116,12,6.29,4,null,null,null,1,5,630]
[null,600,10.88,0.9,99,12,6.09,4,null,null,null,1,4.3,0]
[null,400,9.8800000000000008,0.7,83,12,5.8900000000000006,4,null,null,null,1,3.6,0]
[null,200,8.8800000000000008,0.6,66,12,5.69,4,null,null,null,1,2.9,0]
["Wandtyp 4.3.1",5000,13.459999999999999,1,112,8,6.2,4,null,null,null,1,4.8,{"$f":"B1622-170","v":4830}]
[null,4800,13.059999999999999,0.9,108,8,6,4,null,null,null,1,4.6999999999999993,4630]
[null,4600,12.659999999999998,0.9,105,8,5.8,4,null,null,null,1,4.5,4430]
[null,4400,12.26,0.9,101,8,5.6000000000000005,4,null,null,null,1,4.3999999999999995,4230]
[null,4200,11.86,0.9,98,8,5.4,4,null,null,null,1,4.1999999999999993,4030]
[null,4000,11.459999999999999,0.79999999999999993,94,8,5.2,4,null,null,null,1,4,3830]
[null,3800,11.059999999999999,0.79999999999999993,90,8,5,4,null,null,null,1,3.9,3630]
[null,3600,10.66,0.79999999999999993,87,8,4.8,4,null,null,null,1,3.7,3430]
[null,3400,10.26,0.7,83,8,4.5999999999999996,4,null,null,null,1,3.6,3230]
[null,3200,9.86,0.7,80,8,4.4000000000000004,4,null,null,null,1,3.4,3030]
[null,3000,9.4599999999999991,0.7,76,8,4.2,4,null,null,null,1,3.3000000000000003,2830]
[null,2800,9.0599999999999987,0.6,72,8,4,4,null,null,null,1,3.1,2630]
[null,2600,8.66,0.6,69,8,3.8,4,null,null,null,1,3,2430]
[null,2400,7.0600000000000005,0.6,65,6,3.5999999999999996,2,null,null,null,1,2.8000000000000003,2230]
[null,2200,6.66,0.6,62,6,3.4000000000000004,2,null,null,null,1,2.7,2030]
[null,2000,6.26,0.5,58,6,3.2,2,null,null,null,1,2.5,1830]
[null,1800,5.8599999999999994,0.5,54,6,3,2,null,null,null,1,2.4,1630]
[null,1600,5.46,0.5,51,6,2.8,2,null,null,null,1,2.2000000000000002,1430]
[null,1400,5.0599999999999996,0.4,47,6,2.5999999999999996,2,null,null,null,1,2,1230]
[null,1200,4.66,0.4,44,6,2.4,2,null,null,null,1,1.9000000000000001,1030]
[null,1000,4.26,0.4,40,6,2.2000000000000002,2,null,null,null,1,1.7000000000000002,830]
[null,800,3.86,0.3,36,6,2,2,null,null,null,1,1.6,630]
[null,600,3.46,0.30000000000000004,33,6,1.7999999999999998,2,null,null,null,1,1.4000000000000001,0]
[null,400,3.06,0.30000000000000004,29,6,1.6,2,null,null,null,1,1.3,0]
[null,200,2.66,0.30000000000000004,26,6,1.4,2,null,null,null,1,1.1000000000000001,0]
["Wandtyp 4.3.2",5000,20.57,2,235,8,7.8900000000000006,2,5,null,null,2,10.1,{"$f":"B1647-170","v":4830}]
[null,4800,19.97,1.9000000000000001,226,8,7.6899999999999995,2,5,null,null,2,9.6999999999999993,4630]
[null,4600,19.369999999999997,1.9000000000000001,218,8,7.49,2,5,null,null,2,9.2999999999999989,4430]
[null,4400,18.77,1.8,209,8,7.2900000000000009,2,5,null,null,2,9,4230]
[null,4200,18.170000000000002,1.7000000000000002,201,8,7.09,2,5,null,null,2,8.6,4030]
[null,4000,17.57,1.6,192,8,6.8900000000000006,2,5,null,null,2,8.1999999999999993,3830]
[null,3800,16.97,1.6,183,8,6.6899999999999995,2,5,null,null,2,7.8999999999999995,3630]
[null,3600,16.37,1.5,175,8,6.49,2,5,null,null,2,7.5,3430]
[null,3400,15.77,1.4000000000000001,166,8,6.29,2,5,null,null,2,7.1,3230]
[null,3200,15.170000000000002,1.4000000000000001,157,8,6.09,2,5,null,null,2,6.8,3030]
[null,3000,14.57,1.3,149,8,5.8900000000000006,2,5,null,null,2,6.3999999999999995,2830]
[null,2800,13.969999999999999,1.2000000000000002,140,8,5.6899999999999995,2,5,null,null,2,6,2630]
[null,2600,13.370000000000001,1.1000000000000001,131,8,5.49,2,5,null,null,2,5.6,2430]
[null,2400,12.77,1.1000000000000001,123,8,5.29,2,2,null,null,1,5.3,2230]
[null,2200,12.170000000000002,1,114,8,5.09,2,2,null,null,1,4.8999999999999995,2030]
[null,2000,11.57,0.9,105,8,4.8900000000000006,2,2,null,null,1,4.5,1830]
[null,1800,10.969999999999999,0.9,97,8,4.6900000000000004,2,2,null,null,1,4.1999999999999993,1630]
[null,1600,10.370000000000001,0.79999999999999993,88,8,4.49,2,2,null,null,1,3.8000000000000003,1430]
[null,1400,9.77,0.7,80,8,4.29,2,2,null,null,1,3.4,1230]
[null,1200,9.17,0.6,71,8,4.09,2,2,null,null,1,3.1,1030]
[null,1000,8.57,0.6,62,8,3.89,2,2,null,null,1,2.7,830]
[null,800,7.9700000000000006,0.5,54,8,3.6900000000000004,2,2,null,null,1,2.3000000000000003,630]
[null,600,7.37,0.4,45,8,3.49,2,2,null,null,1,2,0]
[null,400,6.7700000000000005,0.30000000000000004,36,8,3.29,2,2,null,null,1,1.6,0]
[null,200,6.17,0.30000000000000004,28,8,3.0900000000000003,2,2,null,null,1,1.2000000000000002,0]
["Wandtyp 4.3.3",5000,20.57,2.1,244,8,7.8900000000000006,2,null,5,null,2,10.4,{"$f":"B1672-170","v":4830}]
[null,4800,19.97,2,235,8,7.6899999999999995,2,null,5,null,2,10.1,{"$f":"B1673-170","v":4630}]
[null,4600,19.369999999999997,1.9000000000000001,227,8,7.49,2,null,5,null,2,9.6999999999999993,{"$f":"B1674-170","v":4430}]
[null,4400,18.77,1.9000000000000001,218,8,7.2900000000000009,2,null,5,null,2,9.2999999999999989,{"$f":"B1675-170","v":4230}]
[null,4200,18.170000000000002,1.8,209,8,7.09,2,null,5,null,2,9,4030]
[null,4000,17.57,1.7000000000000002,201,8,6.8900000000000006,2,null,5,null,2,8.6,3830]
[null,3800,16.97,1.6,192,8,6.6899999999999995,2,null,5,null,2,8.1999999999999993,3630]
[null,3600,16.37,1.6,183,8,6.49,2,null,5,null,2,7.8999999999999995,3430]
[null,3400,15.77,1.5,175,8,6.29,2,null,5,null,2,7.5,3230]
[null,3200,15.170000000000002,1.4000000000000001,166,8,6.09,2,null,5,null,2,7.1,3030]
[null,3000,14.57,1.4000000000000001,157,8,5.8900000000000006,2,null,5,null,2,6.8,2830]
[null,2800,13.969999999999999,1.3,149,8,5.6899999999999995,2,null,5,null,2,6.3999999999999995,2630]
[null,2600,13.370000000000001,1.2000000000000002,140,8,5.49,2,null,5,null,2,6,2430]
[null,2400,12.77,1.1000000000000001,131,8,5.29,2,null,2,null,1,5.6,2230]
[null,2200,12.170000000000002,1.1000000000000001,123,8,5.09,2,null,2,null,1,5.3,2030]
[null,2000,11.57,1,114,8,4.8900000000000006,2,null,2,null,1,4.8999999999999995,1830]
[null,1800,10.969999999999999,0.9,106,8,4.6900000000000004,2,null,2,null,1,4.5,1630]
[null,1600,10.370000000000001,0.9,97,8,4.49,2,null,2,null,1,4.1999999999999993,1430]
[null,1400,9.77,0.79999999999999993,88,8,4.29,2,null,2,null,1,3.8000000000000003,1230]
[null,1200,9.17,0.7,80,8,4.09,2,null,2,null,1,3.4,1030]
[null,1000,8.57,0.6,71,8,3.89,2,null,2,null,1,3.1,830]
[null,800,7.9700000000000006,0.6,62,8,3.6900000000000004,2,null,2,null,1,2.7,630]
[null,600,7.37,0.5,54,8,3.49,2,null,2,null,1,2.3000000000000003,0]
[null,400,6.7700000000000005,0.4,45,8,3.29,2,null,2,null,1,2,0]
[null,200,6.17,0.30000000000000004,36,8,3.0900000000000003,2,null,2,null,1,1.6,0]
["Wandtyp 4.3.4",5000,22.37,2.3000000000000003,268,11,7.8900000000000006,5,null,null,null,2,11.5,{"$f":"B1697-170","v":4830}]
[null,4800,21.77,2.2000000000000002,260,11,7.6899999999999995,5,null,null,null,2,11.1,4630]
[null,4600,21.169999999999998,2.1,251,11,7.49,5,null,null,null,2,10.799999999999999,4430]
[null,4400,20.57,2.1,242,11,7.2900000000000009,5,null,null,null,2,10.4,4230]
[null,4200,19.970000000000002,2,234,11,7.09,5,null,null,null,2,10,4030]
[null,4000,19.37,1.9000000000000001,225,11,6.8900000000000006,5,null,null,null,2,9.6999999999999993,3830]
[null,3800,18.77,1.9000000000000001,217,11,6.6899999999999995,5,null,null,null,2,9.2999999999999989,3630]
[null,3600,18.170000000000002,1.8,208,11,6.49,5,null,null,null,2,8.9,3430]
[null,3400,17.57,1.7000000000000002,199,11,6.29,5,null,null,null,2,8.5,3230]
[null,3200,16.970000000000002,1.6,191,11,6.09,5,null,null,null,2,8.1999999999999993,3030]
[null,3000,16.37,1.6,182,11,5.8900000000000006,5,null,null,null,2,7.8,2830]
[null,2800,15.77,1.5,173,11,5.6899999999999995,5,null,null,null,2,7.3999999999999995,2630]
[null,2600,15.170000000000002,1.4000000000000001,165,11,5.49,5,null,null,null,2,7.1,2430]
[null,2400,12.77,1.3,156,8,5.29,2,null,null,null,1,6.6999999999999993,2230]
[null,2200,12.170000000000002,1.3,147,8,5.09,2,null,null,null,1,6.3,2030]
[null,2000,11.57,1.2000000000000002,139,8,4.8900000000000006,2,null,null,null,1,6,1830]
[null,1800,10.969999999999999,1.1000000000000001,130,8,4.6900000000000004,2,null,null,null,1,5.6,1630]
[null,1600,10.370000000000001,1.1000000000000001,122,8,4.49,2,null,null,null,1,5.1999999999999993,1430]
[null,1400,9.77,1,113,8,4.29,2,null,null,null,1,4.8999999999999995,1230]
[null,1200,9.17,0.9,104,8,4.09,2,null,null,null,1,4.5,1030]
[null,1000,8.57,0.79999999999999993,96,8,3.89,2,null,null,null,1,4.0999999999999996,830]
[null,800,7.9700000000000006,0.79999999999999993,87,8,3.6900000000000004,2,null,null,null,1,3.7,630]
[null,600,7.37,0.7,78,8,3.49,2,null,null,null,1,3.4,0]
[null,400,6.7700000000000005,0.6,70,8,3.29,2,null,null,null,1,3,0]
[null,200,6.17,0.6,61,8,3.0900000000000003,2,null,null,null,1,2.6,0]
["Wandtyp 4.3.5",5000,35.629999999999995,3.8000000000000003,447,12,10.49,2,7,null,null,3,19.100000000000001,{"$f":"B1722-170","v":4830}]
[null,4800,34.629999999999995,3.6,430,12,10.29,2,7,null,null,3,18.400000000000002,4630]
[null,4600,33.629999999999995,3.5,414,12,10.09,2,7,null,null,3,17.700000000000003,4430]
[null,4400,32.629999999999995,3.4,398,12,9.89,2,7,null,null,3,17,4230]
[null,4200,31.63,3.2,381,12,9.6900000000000013,2,7,null,null,3,16.3,4030]
[null,4000,30.630000000000003,3.1,365,12,9.49,2,7,null,null,3,15.6,3830]
[null,3800,29.63,2.9,348,12,9.2899999999999991,2,7,null,null,3,14.9,3630]
[null,3600,28.630000000000003,2.8000000000000003,332,12,9.09,2,7,null,null,3,14.2,3430]
[null,3400,27.63,2.7,315,12,8.89,2,7,null,null,3,13.5,3230]
[null,3200,26.630000000000003,2.5,299,12,8.6900000000000013,2,7,null,null,3,12.799999999999999,3030]
[null,3000,25.630000000000003,2.4,282,12,8.49,2,7,null,null,3,12.1,2830]
[null,2800,24.630000000000003,2.3000000000000003,266,12,8.2899999999999991,2,7,null,null,3,11.4,2630]
[null,2600,23.630000000000003,2.1,250,12,8.09,2,7,null,null,3,10.7,2430]
[null,2400,22.630000000000003,2,233,12,7.8900000000000006,2,2,null,null,1,10,2230]
[null,2200,21.630000000000003,1.9000000000000001,217,12,7.69,2,2,null,null,1,9.2999999999999989,2030]
[null,2000,20.630000000000003,1.7000000000000002,200,12,7.49,2,2,null,null,1,8.6,1830]
[null,1800,19.630000000000003,1.6,184,12,7.29,2,2,null,null,1,7.8999999999999995,1630]
[null,1600,18.630000000000003,1.4000000000000001,167,12,7.09,2,2,null,null,1,7.1999999999999993,1430]
[null,1400,17.63,1.3,151,12,6.8900000000000006,2,2,null,null,1,6.5,1230]
[null,1200,16.63,1.2000000000000002,135,12,6.69,2,2,null,null,1,5.8,1030]
[null,1000,15.629999999999999,1,118,12,6.49,2,2,null,null,1,5.0999999999999996,830]
[null,800,14.63,0.9,102,12,6.29,2,2,null,null,1,4.3999999999999995,630]
[null,600,13.63,0.79999999999999993,85,12,6.09,2,2,null,null,1,3.7,0]
[null,400,12.63,0.6,69,12,5.8900000000000006,2,2,null,null,1,3,0]
[null,200,11.63,0.5,52,12,5.69,2,2,null,null,1,2.3000000000000003,0]
["Wandtyp 4.3.6",5000,35.629999999999995,3.9,463,12,10.49,2,null,7,null,3,19.8,{"$f":"B1747-170","v":4830}]
[null,4800,34.629999999999995,3.8000000000000003,447,12,10.29,2,null,7,null,3,19.100000000000001,4630]
[null,4600,33.629999999999995,3.6,431,12,10.09,2,null,7,null,3,18.400000000000002,4430]
[null,4400,32.629999999999995,3.5,414,12,9.89,2,null,7,null,3,17.700000000000003,4230]
[null,4200,31.63,3.4,398,12,9.6900000000000013,2,null,7,null,3,17,4030]
[null,4000,30.630000000000003,3.2,381,12,9.49,2,null,7,null,3,16.3,3830]
[null,3800,29.63,3.1,365,12,9.2899999999999991,2,null,7,null,3,15.6,3630]
[null,3600,28.630000000000003,2.9,348,12,9.09,2,null,7,null,3,14.9,3430]
[null,3400,27.63,2.8000000000000003,332,12,8.89,2,null,7,null,3,14.2,3230]
[null,3200,26.630000000000003,2.7,315,12,8.6900000000000013,2,null,7,null,3,13.5,3030]
[null,3000,25.630000000000003,2.5,299,12,8.49,2,null,7,null,3,12.799999999999999,2830]
[null,2800,24.630000000000003,2.4,283,12,8.2899999999999991,2,null,7,null,3,12.1,2630]
[null,2600,23.630000000000003,2.3000000000000003,266,12,8.09,2,null,7,null,3,11.4,2430]
[null,2400,22.630000000000003,2.1,250,12,7.8900000000000006,2,null,2,null,1,10.7,2230]
[null,2200,21.630000000000003,2,233,12,7.69,2,null,2,null,1,10,2030]
[null,2000,20.630000000000003,1.9000000000000001,217,12,7.49,2,null,2,null,1,9.2999999999999989,1830]
[null,1800,19.630000000000003,1.7000000000000002,200,12,7.29,2,null,2,null,1,8.6,1630]
[null,1600,18.630000000000003,1.6,184,12,7.09,2,null,2,null,1,7.8999999999999995,1430]
[null,1400,17.63,1.4000000000000001,167,12,6.8900000000000006,2,null,2,null,1,7.1999999999999993,1230]
[null,1200,16.63,1.3,151,12,6.69,2,null,2,null,1,6.5,1030]
[null,1000,15.629999999999999,1.2000000000000002,135,12,6.49,2,null,2,null,1,5.8,830]
[null,800,14.63,1,118,12,6.29,2,null,2,null,1,5.0999999999999996,630]
[null,600,13.63,0.9,102,12,6.09,2,null,2,null,1,4.3999999999999995,0]
[null,400,12.63,0.79999999999999993,85,12,5.8900000000000006,2,null,2,null,1,3.7,0]
[null,200,11.63,0.6,69,12,5.69,2,null,2,null,1,3,0]
["Wandtyp 4.3.7",5000,38.629999999999995,4.3,510,17,10.49,7,null,null,null,2,21.8,{"$f":"B1772-170","v":4830}]
[null,4800,37.629999999999995,4.1999999999999993,494,17,10.29,7,null,null,null,2,21.1,4630]
[null,4600,36.629999999999995,4,477,17,10.09,7,null,null,null,2,20.400000000000002,4430]
[null,4400,35.629999999999995,3.9,461,17,9.89,7,null,null,null,2,19.700000000000003,4230]
[null,4200,34.629999999999995,3.7,444,17,9.6900000000000013,7,null,null,null,2,19,4030]
[null,4000,33.630000000000003,3.6,428,17,9.49,7,null,null,null,2,18.3,3830]
[null,3800,32.629999999999995,3.5,412,17,9.2899999999999991,7,null,null,null,2,17.600000000000001,3630]
[null,3600,31.630000000000003,3.3000000000000003,395,17,9.09,7,null,null,null,2,16.900000000000002,3430]
[null,3400,30.63,3.2,379,17,8.89,7,null,null,null,2,16.200000000000003,3230]
[null,3200,29.630000000000003,3.1,362,17,8.6900000000000013,7,null,null,null,2,15.5,3030]
[null,3000,28.630000000000003,2.9,346,17,8.49,7,null,null,null,2,14.799999999999999,2830]
[null,2800,27.630000000000003,2.8000000000000003,329,17,8.2899999999999991,7,null,null,null,2,14.1,2630]
[null,2600,26.630000000000003,2.7,313,17,8.09,7,null,null,null,2,13.4,2430]
[null,2400,22.630000000000003,2.5,296,12,7.8900000000000006,2,null,null,null,1,12.7,2230]
[null,2200,21.630000000000003,2.4,280,12,7.69,2,null,null,null,1,12,2030]
[null,2000,20.630000000000003,2.2000000000000002,264,12,7.49,2,null,null,null,1,11.299999999999999,1830]
[null,1800,19.630000000000003,2.1,247,12,7.29,2,null,null,null,1,10.6,1630]
[null,1600,18.630000000000003,2,231,12,7.09,2,null,null,null,1,9.9,1430]
[null,1400,17.63,1.8,214,12,6.8900000000000006,2,null,null,null,1,9.1999999999999993,1230]
[null,1200,16.63,1.7000000000000002,198,12,6.69,2,null,null,null,1,8.5,1030]
[null,1000,15.629999999999999,1.6,181,12,6.49,2,null,null,null,1,7.8,830]
[null,800,14.63,1.4000000000000001,165,12,6.29,2,null,null,null,1,7.1,630]
[null,600,13.63,1.3,149,12,6.09,2,null,null,null,1,6.3999999999999995,0]
[null,400,12.63,1.1000000000000001,132,12,5.8900000000000006,2,null,null,null,1,5.6999999999999993,0]
[null,200,11.63,1,116,12,5.69,2,null,null,null,1,5,0]

{"sheet":"WT","index":5,"n_rows":127,"n_cols":40,"rows_kept":127,"cut":false,"hidden":true,"merged":[[108,1,110,1],[115,1,117,1],[6,13,11,13],[7,1,7,2],[9,1,9,2],[10,1,10,2],[11,1,11,2],[12,11,12,12],[34,1,35,1],[34,9,34,10],[34,11,35,11],[5,1,5,2],[5,3,5,6],[1,1,1,2],[1,3,1,6],[3,1,3,2],[3,3,3,6]]}
[null,{"$f":"IF(AND(D10=\"\",D11=\"\",D12=\"\",W19=0),\"\",IF(AND(D10=\"\",D11=\"\",D12=\"\",W19<>0),Y6&Y19,IF(X7=TRUE,IF(AND(X12=TRUE,X13=TRUE),IF(AND(X8=TRUE,X9=TRUE),IF(AND(X10=TRUE,X11=TRUE),IF(X23=TRUE,\"\",Y6&Y23),Y6&Y10),Y6&Y9),Y6&Y13),Y6&Y7)))","v":""},null,null,null,null,null,null,null,null,null,null,null,null,null,null,null,null,null,"Projekt :","Wandtyp","1.2.1",{"$f":"getpiktogramm($V$1)","v":"OK"},"Basis_WT_","WBreite_"]
[null,{"$f":"Wandtypen_Walltypes!E1","v":"Bauvorhaben / Projekt :"},null,{"$f":"Wandtypen_Walltypes!G1","v":0},null,null,null,{"$f":"Wandtypen_Walltypes!K1","v":"Projekt-Nr. :"},{"$f":"Wandtypen_Walltypes!L1","v":0}]
[]
[null,{"$f":"Wandtypen_Walltypes!E2","v":"Sachbearbeiter :"},null,{"$f":"Wandtypen_Walltypes!G2","v":0},null,null,null,{"$f":"Wandtypen_Walltypes!K2","v":"Datum :"},{"$f":"Wandtypen_Walltypes!L2","v":"00:00:00"}]
[]
[null,{"$f":"gettext(\"G11\",Sprache!$D$1)","v":"Wandbezeichnung :"},null,null,null,null,null,null,null,null,null,null,null,null,null,null,null,null,null,null,"Eingabecheck","Bedingung","Eingabe","Check",{"$f":"gettext(\"G34\",Sprache!$D$1)","v":"Fehler (!) : "}]
[null,null,null,null,null,null,null,{"$f":"gettext(CONCATENATE($U$1,\" \",$V$1,\"_\",\"1\"),Sprache!$D$1)","v":"Wandtyp 1.2.1"},null,null,null,null,null,{"$f":"IF(X21=TRUE,\"H= \"&D10&\" mm\",\"\")","v":""},null,null,null,null,null,null,"Mindestanzahl Wände",{"$f":"INDEX(Basis!$S$7:$CO$13,1,MATCH($V$1,Basis!$S$6:$CO$6,0))","v":1},{"$f":"$D$8","v":1},{"$f":"W7>=V7","v":true},{"$f":"CONCATENATE(Basis!CP7,V7,Basis!CQ7,Basis!CR7)","v":"Die Anzahl der zu berechnenden Wände muss mindestens 1 betragen ! Bitte Eingabe prüfen."}]
[null,{"$f":"gettext(\"G12\",Sprache!$D$1)","v":"Anzahl der Wände :"},null,1,null,null,null,{"$f":"gettext(CONCATENATE($U$1,\" \",$V$1,\"_\",\"2\"),Sprache!$D$1)","v":"Vorwand vor Massivwand - einseitig befestigt"},null,null,null,null,null,null,null,null,null,null,null,null,"Minimale Wandbreite",{"$f":"INDEX(Basis!$S$7:$CO$13,2,MATCH($V$1,Basis!$S$6:$CO$6,0))","v":200},{"$f":"IF($D$11=\"\",\"\",$D$11)","v":""},{"$f":"AND(W8>=V8,NOT(W8=\"\"))","v":false},{"$f":"CONCATENATE(Basis!CP8,V8,Basis!CQ8,V9,Basis!CR8)","v":"Es können nur Wandbreiten zwischen 200 mm und 5000 mm berechnet werden ! Bitte Eingabe prüfen."}]
[null,null,null,null,null,null,null,{"$f":"gettext(CONCATENATE($U$1,\" \",$V$1,\"_\",\"3\"),Sprache!$D$1)","v":"Halbhoch, Höhe H ab OKFFB bis 855 mm"},null,null,null,null,null,null,null,{"$f":"gettext(\"G39\",Sprache!$D$1)","v":"Hinweis ( ! ) : "},null,null,null,null,"Maximale Wandbreite",{"$f":"INDEX(Basis!$S$7:$CO$13,3,MATCH($V$1,Basis!$S$6:$CO$6,0))","v":5000},{"$f":"IF($D$11=\"\",\"\",$D$11)","v":""},{"$f":"AND(W9<=V9,NOT(W9=\"\"))","v":false},{"$f":"CONCATENATE(Basis!CP9,V8,Basis!CQ9,V9,Basis!CR9)","v":"Es können nur Wandbreiten zwischen 200 mm und 5000 mm berechnet werden ! Bitte Eingabe prüfen."}]
[null,{"$f":"IF($W$33=TRUE,gettext(\"G13\",Sprache!$D$1),gettext(\"G14\",Sprache!$D$1))","v":"Bauhöhe ab OKFFB :"},null,null,"mm",null,null,{"$f":"gettext(CONCATENATE($U$1,\" \",$V$1,\"_\",\"4\"),Sprache!$D$1)","v":"(Einbau Elemente nur bei Höhe H OKFFB 855 mm)"},null,null,null,null,null,null,null,{"$f":"gettext(\"G40\",Sprache!$D$1)","v":"Mit Hilfe des Feldes \"Anzahl der Wände\" können Wände mit gleichen"},null,null,null,null,"Minimale Wandtiefe",{"$f":"INDEX(Basis!$S$7:$CO$13,4,MATCH($V$1,Basis!$S$6:$CO$6,0))","v":155},{"$f":"IF($D$12=\"\",\"\",$D$12)","v":""},{"$f":"AND(W10>=V10,NOT(W10=\"\"))","v":false},{"$f":"CONCATENATE(Basis!CP10,V10,Basis!CQ10,V11,Basis!CR10)","v":"Es können nur Wandtiefen zwischen 155 mm und 215 mm berechnet werden ! Bitte Eingabe prüfen."}]
[null,{"$f":"IF($W$33=TRUE,gettext(\"G15\",Sprache!$D$1),gettext(\"G16\",Sprache!$D$1))","v":"Wandbreite :"},null,null,"mm",null,null,{"$f":"gettext(CONCATENATE($U$1,\" \",$V$1,\"_\",\"5\"),Sprache!$D$1)","v":"Wandbreite von 200 bis 5.000 mm"},null,null,null,null,null,null,null,{"$f":"gettext(\"G41\",Sprache!$D$1)","v":"Abmessungen und ! gleichen Einbauten zusammengefasst werden"},null,null,null,null,"Maximale Wandtiefe",{"$f":"INDEX(Basis!$S$7:$CO$13,5,MATCH($V$1,Basis!$S$6:$CO$6,0))","v":215},{"$f":"IF($D$12=\"\",\"\",$D$12)","v":""},{"$f":"AND(W11<=V11,NOT(W11=\"\"))","v":false},{"$f":"CONCATENATE(Basis!CP11,V10,Basis!CQ11,V11,Basis!CR11)","v":"Es können nur Wandtiefen zwischen 155 mm und 215 mm berechnet werden ! Bitte Eingabe prüfen."}]
[null,{"$f":"IF($W$33=TRUE,gettext(\"G17\",Sprache!$D$1),gettext(\"G18\",Sprache!$D$1))","v":"Wandtiefe :"},null,null,"mm",null,null,{"$f":"gettext(CONCATENATE($U$1,\" \",$V$1,\"_\",\"6\"),Sprache!$D$1)","v":"Wandtiefe von 155 bis 215 mm"},null,null,null,null,null,null,null,null,null,null,null,null,"Minimale Bauhöhe OKFFB",{"$f":"INDEX(Basis!$S$7:$CO$13,6,MATCH($V$1,Basis!$S$6:$CO$6,0))","v":0},{"$f":"IF($D$10=\"\",\"\",$D$10)","v":""},{"$f":"AND(W12>=V12,NOT(W12=\"\"))","v":false},{"$f":"CONCATENATE(Basis!CP12,V12,Basis!CQ12,V13,Basis!CR12)","v":"Dieser Wandtyp umfasst nur Bauhöhen ab OKFFB zwischen 0 mm und 855 mm ! Bitte Eingabe prüfen."}]
[null,null,null,null,null,null,null,{"$f":"gettext(CONCATENATE($U$1,\" \",$V$1,\"_\",\"7\"),Sprache!$D$1)","v":"angegebene Abmessungen jeweils ohne Beplankung !"},null,null,null,{"$f":"IF(X21=TRUE,\"B= \"&D11&\" mm\",\"\")","v":""},null,null,null,null,null,null,null,null,"Maximale Bauhöhe OKFFB",{"$f":"INDEX(Basis!$S$7:$CO$13,7,MATCH($V$1,Basis!$S$6:$CO$6,0))","v":855},{"$f":"IF($D$10=\"\",\"\",$D$10)","v":""},{"$f":"AND(W13<=V13,NOT(W13=\"\"))","v":false},{"$f":"CONCATENATE(Basis!CP13,V12,Basis!CQ13,V13,Basis!CR13)","v":"Dieser Wandtyp umfasst nur Bauhöhen ab OKFFB zwischen 0 mm und 855 mm ! Bitte Eingabe prüfen."}]
[null,null,null,null,null,null,null,{"$f":"gettext(CONCATENATE($U$1,\" \",$V$1,\"_\",\"8\"),Sprache!$D$1)","v":"fließenfertige Oberfläche zzgl. 18 mm Beplankung"}]
[null,null,null,null,null,null,null,{"$f":"gettext(CONCATENATE($U$1,\" \",$V$1,\"_\",\"9\"),Sprache!$D$1)","v":"Die Materialangaben enthalten keinen Fußbodenaufbau !"}]
[null,null,null,null,null,null,null,null,null,null,null,null,null,null,null,null,null,null,null,null,"gewählte Bauhöhe Elemente:",{"$f":"D10","v":0}]
[null,null,null,null,null,null,null,{"$f":"IF($W$111=TRUE,gettext(\"G39\",Sprache!$D$1),\"\")","v":""},null,null,null,null,null,null,null,{"$f":"gettext(\"G39\",Sprache!$D$1)","v":"Hinweis ( ! ) : "},null,null,null,null,"gewählte Wandtiefe Elemente:",{"$f":"D12","v":0}]
[null,null,null,null,null,null,null,{"$f":"IF($W$111=TRUE,gettext(\"G50\",Sprache!$D$1),\"\")","v":""},null,null,null,null,null,null,null,{"$f":"gettext(\"G47\",Sprache!$D$1)","v":"Dieser Wandtyp wird  inklusive der Beplankung des SANIT Schienensystem 996"}]
[null,{"$f":"gettext(\"G37\",Sprache!$D$1)","v":"Kalkulation ohne Beplankung :"},null,null,null,null,null,{"$f":"IF($W$111=TRUE,gettext(\"G51\",Sprache!$D$1),\"\")","v":""},null,null,null,null,null,null,null,{"$f":"gettext(\"G48\",Sprache!$D$1)","v":"berechnet. Sie haben die Möglichkeit, die Berechnung ohne diese Beplankung"},null,null,null,null,"Summe Einbauten",0,{"$f":"SUM($J$38:$J$85)","v":0},{"$f":"IF(D10=\"\",V19=W19,\"\")","v":true},{"$f":"gettext(\"G35\",Sprache!$D$1)","v":"Bitte geben Sie zuerst alle Abmessungen der Wand ein !"}]
[null,null,null,null,null,null,null,{"$f":"IF($W$111=TRUE,gettext(\"G52\",Sprache!$D$1),\"\")","v":""},null,null,null,null,null,null,null,{"$f":"gettext(\"G49\",Sprache!$D$1)","v":"durchzuführen. Setzen Sie dafür bitte den Haken im Feld links."}]
[null,null,null,null,null,null,null,{"$f":"IF($W$111=TRUE,gettext(\"G53\",Sprache!$D$1),\"\")","v":""},null,null,null,null,null,null,null,null,null,null,null,null,"Alle Checks",null,null,{"$f":"AND(X7=TRUE,X8=TRUE,X9=TRUE,X10=TRUE,X11=TRUE,X12=TRUE,X13=TRUE)","v":false},"Alle Checks vor technischer Prüfung!"]
[null,{"$f":"gettext(\"G38\",Sprache!$D$1)","v":"Kalkulation mit Trennstreifen"}]
[null,{"$f":"gettext(\"G66\",Sprache!$D$1)","v":"und Schallschutzset 996:"},null,null,null,null,null,{"$f":"IF($W$112=TRUE,gettext(\"G54\",Sprache!$D$1),\"\")","v":""},null,null,null,null,null,null,null,null,null,null,null,null,"Nutzbreite Wand >= Baubreite El.",{"$f":"IF(NOT(D11=\"\"),IF(AND(W113=TRUE,OR(VALUE(V33)=3,VALUE(V33)=2)),2*INDEX(INDIRECT(CONCATENATE($X$1,$V$1)),MATCH($D$11,INDIRECT(CONCATENATE($Y$1,$V$1)),-1),13),INDEX(INDIRECT(CONCATENATE($X$1,$V$1)),MATCH($D$11,INDIRECT(CONCATENATE($Y$1,$V$1)),-1),13)),0)","v":0},{"$f":"SUM(X38:X85)","v":0},{"$f":"IF($W$114=TRUE,V23>=W23,TRUE)","v":true},{"$f":"gettext(\"G36\",Sprache!$D$1)","v":"Die für alle Einbauten benötigte Baubreite übersteigt die Gesamtbreite der Wand ! Bitte Eingabe prüfen."}]
[]
[]
[null,{"$f":"IF($W$33=TRUE,gettext(\"G67\",Sprache!$D$1),gettext(\"G68\",Sprache!$D$1))","v":"Kollisionsprüfung für Nutzbreite der Wand:"},null,null,null,null,null,{"$f":"IF($W$33=TRUE,IF($W$114=FALSE,gettext(\"G69\",Sprache!$D$1),\"\"),IF($W$114=FALSE,gettext(\"G70\",Sprache!$D$1),\"\"))","v":""}]
[]
[null,null,null,null,null,null,null,{"$f":"IF($W$113=TRUE,gettext(\"G39\",Sprache!$D$1),\"\")","v":""},null,null,null,null,null,null,null,null,null,null,null,null,"Alle Checks",null,null,{"$f":"AND(X21=TRUE,X23=TRUE)","v":false}]
[null,{"$f":"gettext(\"G61\",Sprache!$D$1)","v":"Beidseitig Sanitärinstallationen?:"},null,null,null,null,null,{"$f":"IF(AND($W$113=TRUE,NOT(OR(VALUE(V33)=2,VALUE(V33)=3))),gettext(\"G65\",Sprache!$D$1),IF(AND($W$113=TRUE,OR(VALUE($V$33)=2,VALUE($V$33)=3)),gettext(\"G63\",Sprache!$D$1),\"\"))","v":""}]
[null,{"$f":"gettext(\"G62\",Sprache!$D$1)","v":"(nur für freistehende Wände und Installationstrennwände)"},null,null,null,null,null,{"$f":"IF(AND($W$113=TRUE,OR(VALUE($V$33)=2,VALUE($V$33)=3)),gettext(\"G64\",Sprache!$D$1),\"\")","v":""}]
[null,null,null,null,null,null,null,null,null,null,null,null,null,null,null,{"$f":"gettext(\"G39\",Sprache!$D$1)","v":"Hinweis ( ! ) : "}]
[null,null,null,null,null,null,null,null,null,null,null,null,null,null,null,{"$f":"gettext(\"G42\",Sprache!$D$1)","v":"Bitte geben Sie zuerst alle Abmessungen der Wand ein !"}]
[null,{"$f":"gettext(\"G19\",Sprache!$D$1)","v":"Elemente und Module für den Einbau :"},null,null,null,{"$f":"gettext(\"G20\",Sprache!$D$1)","v":"(*Betätigungsplatten, Steuerungen, etc. sind separat zu bestellen):"},null,null,null,null,null,null,null,null,null,{"$f":"gettext(\"G43\",Sprache!$D$1)","v":"In Abhängigkeit von der gewählten Bauhöhe OKFFB werden die"},null,null,null,null,"Elemente erlaubt?",{"$f":"LEFT(V1,1)","v":"1"},{"$f":"VALUE(V33)<4","v":true}]
[null,null,null,null,null,null,null,null,null,null,null,null,null,null,null,{"$f":"gettext(\"G44\",Sprache!$D$1)","v":"Eingabefelder der technisch möglichen Elemente gelb hinter-"}]
[null,{"$f":"gettext(\"G21\",Sprache!$D$1)","v":"Artikel-Nr."},{"$f":"gettext(\"G22\",Sprache!$D$1)","v":"Bezeichnung"},null,null,null,null,null,null,{"$f":"gettext(\"G23\",Sprache!$D$1)","v":"Anzahl"},null,{"$f":"gettext(\"G26\",Sprache!$D$1)","v":"Einheit"},{"$f":"gettext(\"G27\",Sprache!$D$1)","v":"Preis"},null,null,{"$f":"gettext(\"G45\",Sprache!$D$1)","v":"legt. Achten Sie darauf, dass in nicht gelb markierten Feldern"}]
[null,"keine Elemente",null,null,null,null,null,null,null,{"$f":"gettext(\"G24\",Sprache!$D$1)","v":"1 Wand"},{"$f":"gettext(\"G25\",Sprache!$D$1)","v":"alle Wd."},null,{"$f":"K36","v":"alle Wd."},null,null,{"$f":"gettext(\"G46\",Sprache!$D$1)","v":"keine Werte enthalten sind! ( Diese werden nicht berechnet )"},null,null,null,null,"BH Element","WT Element","El. Zulässig ?","Breite Elemente","Menge Wand",{"$f":"Einbauten!H2","v":"02.208.00..0000"},{"$f":"Einbauten!I2","v":"03.332.00..0000"},{"$f":"Einbauten!J2","v":"03.333.00..0000"},{"$f":"Einbauten!K2","v":"03.754.00..0000"},{"$f":"Einbauten!L2","v":"02.208.00..0000"},{"$f":"Einbauten!G2","v":"Einbauzeit"},"Preis/Einheit","Preis/Wand",null,null,null,null,null,null,"Filter Druck"]
[null,{"$f":"Einbauten!A3","v":"WC-Elemente"},null,null,null,null,null,null,null,null,null,null,null,null,null,null,null,null,null,null,null,null,null,null,null,null,null,null,null,null,null,null,null,null,null,null,null,null,null,0]
[null,{"$f":"Einbauten!A4","v":"90.745.00..T000"},{"$f":"gettext(B38,Sprache!$D$1)","v":"INEO FRONTOP WC-El., kl. RÖ, Betät. v.vorn/oben, BH 820 mm"},null,null,null,null,null,null,null,{"$f":"IF(AND(W38=TRUE,$X$23=TRUE),$D$8*J38,0)","v":0},{"$f":"Einbauten!B4","v":"Stück"},{"$f":"K38*AF38","v":0},null,null,null,null,null,null,null,{"$f":"IF(Einbauten!D4=\"\",$V$16,Einbauten!D4)","v":855},{"$f":"IF(Einbauten!F4=\"\",$V$17,Einbauten!F4)","v":155},{"$f":"IF($V$13>1155,AND($X$21=TRUE,U38>=1155,$W$33=TRUE),AND($X$21=TRUE,U38=$V$16,$V$17>=V38,$W$33=TRUE))","v":false},{"$f":"IF(W38=TRUE,J38*Einbauten!E4,0)","v":0},{"$f":"IF(AND(W38=TRUE,$X$23=TRUE),J38,0)","v":0},{"$f":"$Y38*Einbauten!H4","v":0},{"$f":"$Y38*Einbauten!I4","v":0},{"$f":"$Y38*Einbauten!J4","v":0},{"$f":"$Y38*Einbauten!K4","v":0},{"$f":"$Y38*Einbauten!L4","v":0},{"$f":"$Y38*Einbauten!G4","v":0},{"$f":"CHOOSE(Preise_Prices!$X$9,0,Preise_Prices!O16,Preise_Prices!T16)","v":0},{"$f":"AF38*Y38","v":0},null,null,null,null,null,null,{"$f":"K38","v":0}]
[null,{"$f":"Einbauten!A5","v":"90.738.00..T000"},{"$f":"gettext(B39,Sprache!$D$1)","v":"INEO FRONTOP WC-El., kl. RÖ, Betät. v.vorn/oben, BH 985 mm"},null,null,null,null,null,null,null,{"$f":"IF(AND(W39=TRUE,$X$23=TRUE),$D$8*J39,0)","v":0},{"$f":"Einbauten!B5","v":"Stück"},{"$f":"K39*AF39","v":0},null,null,null,null,null,null,null,{"$f":"IF(Einbauten!D5=\"\",$V$16,Einbauten!D5)","v":1020},{"$f":"IF(Einbauten!F5=\"\",$V$17,Einbauten!F5)","v":155},{"$f":"IF($V$13>1155,AND($X$21=TRUE,U39>=1155,$W$33=TRUE),AND($X$21=TRUE,U39=$V$16,$V$17>=V39,$W$33=TRUE))","v":false},{"$f":"IF(W39=TRUE,J39*Einbauten!E5,0)","v":0},{"$f":"IF(AND(W39=TRUE,$X$23=TRUE),J39,0)","v":0},{"$f":"$Y39*Einbauten!H5","v":0},{"$f":"$Y39*Einbauten!I5","v":0},{"$f":"$Y39*Einbauten!J5","v":0},{"$f":"$Y39*Einbauten!K5","v":0},{"$f":"$Y39*Einbauten!L5","v":0},{"$f":"$Y39*Einbauten!G5","v":0},{"$f":"CHOOSE(Preise_Prices!$X$9,0,Preise_Prices!O17,Preise_Prices!T17)","v":0},{"$f":"AF39*Y39","v":0},null,null,null,null,null,null,{"$f":"K39","v":0}]
[null,{"$f":"Einbauten!A6","v":"90.743.00..T000"},{"$f":"gettext(B40,Sprache!$D$1)","v":"INEO PLUS WC-El., kl. RÖ, Betät. v. vorn, BH 1120 mm, Breite 450 mm o. Wandhalter"},null,null,null,null,null,null,null,{"$f":"IF(AND(W40=TRUE,$X$23=TRUE),$D$8*J40,0)","v":0},{"$f":"Einbauten!B6","v":"Stück"},{"$f":"K40*AF40","v":0},null,null,null,null,null,null,null,{"$f":"IF(Einbauten!D6=\"\",$V$16,Einbauten!D6)","v":1155},{"$f":"IF(Einbauten!F6=\"\",$V$17,Einbauten!F6)","v":135},false,{"$f":"IF(W40=TRUE,J40*Einbauten!E6,0)","v":0},{"$f":"IF(AND(W40=TRUE,$X$23=TRUE),J40,0)","v":0},{"$f":"$Y40*Einbauten!H6","v":0},{"$f":"$Y40*Einbauten!I6","v":0},{"$f":"$Y40*Einbauten!J6","v":0},{"$f":"$Y40*Einbauten!K6","v":0},{"$f":"$Y40*Einbauten!L6","v":0},{"$f":"$Y40*Einbauten!G6","v":0},{"$f":"CHOOSE(Preise_Prices!$X$9,0,Preise_Prices!O18,Preise_Prices!T18)","v":0},0,null,null,null,null,null,null,{"$f":"K40","v":0}]
[null,{"$f":"Einbauten!A7","v":"90.735.00..T000"},{"$f":"gettext(B41,Sprache!$D$1)","v":"INEO WC-El. für Stand-/Kinder-WC, kl. RÖ, Betät. v. vorn, BH 1120 mm"},null,null,null,null,null,null,null,{"$f":"IF(AND(W41=TRUE,$X$23=TRUE),$D$8*J41,0)","v":0},{"$f":"Einbauten!B7","v":"Stück"},{"$f":"K41*AF41","v":0},null,null,null,null,null,null,null,{"$f":"IF(Einbauten!D7=\"\",$V$16,Einbauten!D7)","v":1155},{"$f":"IF(Einbauten!F7=\"\",$V$17,Einbauten!F7)","v":135},false,{"$f":"IF(W41=TRUE,J41*Einbauten!E7,0)","v":0},{"$f":"IF(AND(W41=TRUE,$X$23=TRUE),J41,0)","v":0},{"$f":"$Y41*Einbauten!H7","v":0},{"$f":"$Y41*Einbauten!I7","v":0},{"$f":"$Y41*Einbauten!J7","v":0},{"$f":"$Y41*Einbauten!K7","v":0},{"$f":"$Y41*Einbauten!L7","v":0},{"$f":"$Y41*Einbauten!G7","v":0},{"$f":"CHOOSE(Preise_Prices!$X$9,0,Preise_Prices!O19,Preise_Prices!T19)","v":0},0,null,null,null,null,null,null,{"$f":"K41","v":0}]
[null,{"$f":"Einbauten!A8","v":"Waschtisch- und Ausgussbecken-Elemente"},null,null,null,null,null,null,null,null,null,null,null,null,null,null,null,null,null,null,null,null,null,null,null,null,null,null,null,null,null,null,null,null,null,null,null,null,null,0]
[null,{"$f":"Einbauten!A9","v":"90.672.00..T000"},{"$f":"gettext(B43,Sprache!$D$1)","v":"INEO WT-Element für Einlocharmaturen, BH 820 mm"},null,null,null,null,null,null,null,{"$f":"IF(AND(W43=TRUE,$X$23=TRUE),$D$8*J43,0)","v":0},{"$f":"Einbauten!B9","v":"Stück"},{"$f":"K43*AF43","v":0},null,null,null,null,null,null,null,{"$f":"IF(Einbauten!D9=\"\",$V$16,Einbauten!D9)","v":855},{"$f":"IF(Einbauten!F9=\"\",$V$17,Einbauten!F9)","v":0},{"$f":"IF($V$13>1155,AND($X$21=TRUE,U43>=1155,$W$33=TRUE),AND($X$21=TRUE,U43=$V$16,$V$17>=V43,$W$33=TRUE))","v":false},{"$f":"IF(W43=TRUE,J43*Einbauten!E9,0)","v":0},{"$f":"IF(AND(W43=TRUE,$X$23=TRUE),J43,0)","v":0},{"$f":"$Y43*Einbauten!H9","v":0},{"$f":"$Y43*Einbauten!I9","v":0},{"$f":"$Y43*Einbauten!J9","v":0},{"$f":"$Y43*Einbauten!K9","v":0},{"$f":"$Y43*Einbauten!L9","v":0},{"$f":"$Y43*Einbauten!G9","v":0},{"$f":"CHOOSE(Preise_Prices!$X$9,0,Preise_Prices!O21,Preise_Prices!T21)","v":0},{"$f":"AF43*Y43","v":0},null,null,null,null,null,null,{"$f":"K43","v":0}]
[null,{"$f":"Einbauten!A10","v":"90.669.00..T000"},{"$f":"gettext(B44,Sprache!$D$1)","v":"INEO WT-Element für Einlocharmaturen, BH 985 mm"},null,null,null,null,null,null,null,0,{"$f":"Einbauten!B10","v":"Stück"},0,null,null,null,null,null,null,null,{"$f":"IF(Einbauten!D10=\"\",$V$16,Einbauten!D10)","v":1020},{"$f":"IF(Einbauten!F10=\"\",$V$17,Einbauten!F10)","v":0},false,{"$f":"IF(W44=TRUE,J44*Einbauten!E10,0)","v":0},0,{"$f":"$Y44*Einbauten!H10","v":0},{"$f":"$Y44*Einbauten!I10","v":0},{"$f":"$Y44*Einbauten!J10","v":0},{"$f":"$Y44*Einbauten!K10","v":0},{"$f":"$Y44*Einbauten!L10","v":0},{"$f":"$Y44*Einbauten!G10","v":0},{"$f":"CHOOSE(Preise_Prices!$X$9,0,Preise_Prices!O22,Preise_Prices!T22)","v":0},0,null,null,null,null,null,null,0]
[null,{"$f":"Einbauten!A11","v":"90.696.00..T000"},{"$f":"gettext(B45,Sprache!$D$1)","v":"INEO WT-Element für Einlocharmaturen, BH 1120 mm"},null,null,null,null,null,null,null,0,{"$f":"Einbauten!B11","v":"Stück"},0,null,null,null,null,null,null,null,{"$f":"IF(Einbauten!D11=\"\",$V$16,Einbauten!D11)","v":1155},{"$f":"IF(Einbauten!F11=\"\",$V$17,Einbauten!F11)","v":0},false,{"$f":"IF(W45=TRUE,J45*Einbauten!E11,0)","v":0},0,{"$f":"$Y45*Einbauten!H11","v":0},{"$f":"$Y45*Einbauten!I11","v":0},{"$f":"$Y45*Einbauten!J11","v":0},{"$f":"$Y45*Einbauten!K11","v":0},{"$f":"$Y45*Einbauten!L11","v":0},{"$f":"$Y45*Einbauten!G11","v":0},{"$f":"CHOOSE(Preise_Prices!$X$9,0,Preise_Prices!O23,Preise_Prices!T23)","v":0},0,null,null,null,null,null,null,0]
[null,{"$f":"Einbauten!A12","v":"90.671.00..T000"},{"$f":"gettext(B46,Sprache!$D$1)","v":"INEO WT-Element für AP-Wandarmaturen, BH 1120 - 1185 mm"},null,null,null,null,null,null,null,0,{"$f":"Einbauten!B12","v":"Stück"},0,null,null,null,null,null,null,null,{"$f":"IF(Einbauten!D12=\"\",$V$16,Einbauten!D12)","v":1155},{"$f":"IF(Einbauten!F12=\"\",$V$17,Einbauten!F12)","v":0},false,{"$f":"IF(W46=TRUE,J46*Einbauten!E12,0)","v":0},0,{"$f":"$Y46*Einbauten!H12","v":0},{"$f":"$Y46*Einbauten!I12","v":0},{"$f":"$Y46*Einbauten!J12","v":0},{"$f":"$Y46*Einbauten!K12","v":0},{"$f":"$Y46*Einbauten!L12","v":0},{"$f":"$Y46*Einbauten!G12","v":0},{"$f":"CHOOSE(Preise_Prices!$X$9,0,Preise_Prices!O24,Preise_Prices!T24)","v":0},0,null,null,null,null,null,null,0]
[null,{"$f":"Einbauten!A13","v":"90.677.00..T000"},{"$f":"gettext(B47,Sprache!$D$1)","v":"INEO Ausguss-Element für Wandarmaturen, BH 1120 - 1185 mm"},null,null,null,null,null,null,null,0,{"$f":"Einbauten!B13","v":"Stück"},0,null,null,null,null,null,null,null,{"$f":"IF(Einbauten!D13=\"\",$V$16,Einbauten!D13)","v":1155},{"$f":"IF(Einbauten!F13=\"\",$V$17,Einbauten!F13)","v":0},false,{"$f":"IF(W47=TRUE,J47*Einbauten!E13,0)","v":0},0,{"$f":"$Y47*Einbauten!H13","v":0},{"$f":"$Y47*Einbauten!I13","v":0},{"$f":"$Y47*Einbauten!J13","v":0},{"$f":"$Y47*Einbauten!K13","v":0},{"$f":"$Y47*Einbauten!L13","v":0},{"$f":"$Y47*Einbauten!G13","v":0},{"$f":"CHOOSE(Preise_Prices!$X$9,0,Preise_Prices!O25,Preise_Prices!T25)","v":0},0,null,null,null,null,null,null,0]
[null,{"$f":"Einbauten!A14","v":"90.691.00..T000"},{"$f":"gettext(B48,Sprache!$D$1)","v":"INEO WT-El. für Einlocharmaturen mit 2 UP-Wasserzählerstrecken, BH 985 mm"},null,null,null,null,null,null,null,0,{"$f":"Einbauten!B14","v":"Stück"},0,null,null,null,null,null,null,null,{"$f":"IF(Einbauten!D14=\"\",$V$16,Einbauten!D14)","v":1020},{"$f":"IF(Einbauten!F14=\"\",$V$17,Einbauten!F14)","v":0},false,{"$f":"IF(W48=TRUE,J48*Einbauten!E14,0)","v":0},0,{"$f":"$Y48*Einbauten!H14","v":0},{"$f":"$Y48*Einbauten!I14","v":0},{"$f":"$Y48*Einbauten!J14","v":0},{"$f":"$Y48*Einbauten!K14","v":0},{"$f":"$Y48*Einbauten!L14","v":0},{"$f":"$Y48*Einbauten!G14","v":0},{"$f":"CHOOSE(Preise_Prices!$X$9,0,Preise_Prices!O26,Preise_Prices!T26)","v":0},0,null,null,null,null,null,null,0]
[null,{"$f":"Einbauten!A15","v":"90.687.00..T000"},{"$f":"gettext(B49,Sprache!$D$1)","v":"INEO WT-El. für Einlocharmaturen mit 2 UP-Wasserzählerstrecken, BH 1120 mm"},null,null,null,null,null,null,null,0,{"$f":"Einbauten!B15","v":"Stück"},0,null,null,null,null,null,null,null,{"$f":"IF(Einbauten!D15=\"\",$V$16,Einbauten!D15)","v":1155},{"$f":"IF(Einbauten!F15=\"\",$V$17,Einbauten!F15)","v":0},false,{"$f":"IF(W49=TRUE,J49*Einbauten!E15,0)","v":0},0,{"$f":"$Y49*Einbauten!H15","v":0},{"$f":"$Y49*Einbauten!I15","v":0},{"$f":"$Y49*Einbauten!J15","v":0},{"$f":"$Y49*Einbauten!K15","v":0},{"$f":"$Y49*Einbauten!L15","v":0},{"$f":"$Y49*Einbauten!G15","v":0},{"$f":"CHOOSE(Preise_Prices!$X$9,0,Preise_Prices!O27,Preise_Prices!T27)","v":0},0,null,null,null,null,null,null,0]
[null,{"$f":"Einbauten!A16","v":"90.689.00..T000"},{"$f":"gettext(B50,Sprache!$D$1)","v":"INEO WT-El. für Einlocharmaturen, UP-Montage v. Durchlauferhitzern, BH 1120 mm"},null,null,null,null,null,null,null,0,{"$f":"Einbauten!B16","v":"Stück"},0,null,null,null,null,null,null,null,{"$f":"IF(Einbauten!D16=\"\",$V$16,Einbauten!D16)","v":1155},{"$f":"IF(Einbauten!F16=\"\",$V$17,Einbauten!F16)","v":0},false,{"$f":"IF(W50=TRUE,J50*Einbauten!E16,0)","v":0},0,{"$f":"$Y50*Einbauten!H16","v":0},{"$f":"$Y50*Einbauten!I16","v":0},{"$f":"$Y50*Einbauten!J16","v":0},{"$f":"$Y50*Einbauten!K16","v":0},{"$f":"$Y50*Einbauten!L16","v":0},{"$f":"$Y50*Einbauten!G16","v":0},{"$f":"CHOOSE(Preise_Prices!$X$9,0,Preise_Prices!O28,Preise_Prices!T28)","v":0},0,null,null,null,null,null,null,0]
[null,{"$f":"Einbauten!A17","v":"90.688.00..T000"},{"$f":"gettext(B51,Sprache!$D$1)","v":"INEO LINNUM  Leer-Element, BH 1120 mm"},null,null,null,null,null,null,null,0,{"$f":"Einbauten!B17","v":"Stück"},0,null,null,null,null,null,null,null,{"$f":"IF(Einbauten!D17=\"\",$V$16,Einbauten!D17)","v":1155},{"$f":"IF(Einbauten!F17=\"\",$V$17,Einbauten!F17)","v":0},false,{"$f":"IF(W51=TRUE,J51*Einbauten!E17,0)","v":0},0,{"$f":"$Y51*Einbauten!H17","v":0},{"$f":"$Y51*Einbauten!I17","v":0},{"$f":"$Y51*Einbauten!J17","v":0},{"$f":"$Y51*Einbauten!K17","v":0},{"$f":"$Y51*Einbauten!L17","v":0},{"$f":"$Y51*Einbauten!G17","v":0},{"$f":"CHOOSE(Preise_Prices!$X$9,0,Preise_Prices!O29,Preise_Prices!T29)","v":0},0,null,null,null,null,null,null,0]
[null,{"$f":"Einbauten!A18","v":"90.659.00..0000"},{"$f":"gettext(B52,Sprache!$D$1)","v":"INEO-Fäkalausguss-El. für Ausguss \"Publica\", kl. RÖ, Betät. v. vorn, BH 1530 mm"},null,null,null,null,null,null,null,0,{"$f":"Einbauten!B18","v":"Stück"},0,null,null,null,null,null,null,null,{"$f":"IF(Einbauten!D18=\"\",$V$16,Einbauten!D18)","v":1565},{"$f":"IF(Einbauten!F18=\"\",$V$17,Einbauten!F18)","v":155},false,{"$f":"IF(W52=TRUE,J52*Einbauten!E18,0)","v":0},0,{"$f":"$Y52*Einbauten!H18","v":0},{"$f":"$Y52*Einbauten!I18","v":0},{"$f":"$Y52*Einbauten!J18","v":0},{"$f":"$Y52*Einbauten!K18","v":0},{"$f":"$Y52*Einbauten!L18","v":0},{"$f":"$Y52*Einbauten!G18","v":0},{"$f":"CHOOSE(Preise_Prices!$X$9,0,Preise_Prices!O30,Preise_Prices!T30)","v":0},0,null,null,null,null,null,null,0]
[null,{"$f":"Einbauten!A19","v":"Bidet- und Urinal-Elemente"},null,null,null,null,null,null,null,null,null,null,null,null,null,null,null,null,null,null,null,null,null,null,null,null,null,null,null,null,null,null,null,null,null,null,null,null,null,0]
[null,{"$f":"Einbauten!A20","v":"90.663.00..T000"},{"$f":"gettext(B54,Sprache!$D$1)","v":"INEO Bidet-Element, BH 820 mm"},null,null,null,null,null,null,null,{"$f":"IF(AND(W54=TRUE,$X$23=TRUE),$D$8*J54,0)","v":0},{"$f":"Einbauten!B20","v":"Stück"},{"$f":"K54*AF54","v":0},null,null,null,null,null,null,null,{"$f":"IF(Einbauten!D20=\"\",$V$16,Einbauten!D20)","v":855},{"$f":"IF(Einbauten!F20=\"\",$V$17,Einbauten!F20)","v":135},{"$f":"IF($V$13>1155,AND($X$21=TRUE,U54>=1155,$W$33=TRUE),AND($X$21=TRUE,U54=$V$16,$V$17>=V54,$W$33=TRUE))","v":false},{"$f":"IF(W54=TRUE,J54*Einbauten!E20,0)","v":0},{"$f":"IF(AND(W54=TRUE,$X$23=TRUE),J54,0)","v":0},{"$f":"$Y54*Einbauten!H20","v":0},{"$f":"$Y54*Einbauten!I20","v":0},{"$f":"$Y54*Einbauten!J20","v":0},{"$f":"$Y54*Einbauten!K20","v":0},{"$f":"$Y54*Einbauten!L20","v":0},{"$f":"$Y54*Einbauten!G20","v":0},{"$f":"CHOOSE(Preise_Prices!$X$9,0,Preise_Prices!O32,Preise_Prices!T32)","v":0},{"$f":"AF54*Y54","v":0},null,null,null,null,null,null,{"$f":"K54","v":0}]
[null,{"$f":"Einbauten!A21","v":"90.662.00..T000"},{"$f":"gettext(B55,Sprache!$D$1)","v":"INEO Bidet-Element, BH 985 mm"},null,null,null,null,null,null,null,{"$f":"IF(AND(W55=TRUE,$X$23=TRUE),$D$8*J55,0)","v":0},{"$f":"Einbauten!B21","v":"Stück"},{"$f":"K55*AF55","v":0},null,null,null,null,null,null,null,{"$f":"IF(Einbauten!D21=\"\",$V$16,Einbauten!D21)","v":1020},{"$f":"IF(Einbauten!F21=\"\",$V$17,Einbauten!F21)","v":135},false,{"$f":"IF(W55=TRUE,J55*Einbauten!E21,0)","v":0},{"$f":"IF(AND(W55=TRUE,$X$23=TRUE),J55,0)","v":0},{"$f":"$Y55*Einbauten!H21","v":0},{"$f":"$Y55*Einbauten!I21","v":0},{"$f":"$Y55*Einbauten!J21","v":0},{"$f":"$Y55*Einbauten!K21","v":0},{"$f":"$Y55*Einbauten!L21","v":0},{"$f":"$Y55*Einbauten!G21","v":0},{"$f":"CHOOSE(Preise_Prices!$X$9,0,Preise_Prices!O33,Preise_Prices!T33)","v":0},0,null,null,null,null,null,null,{"$f":"K55","v":0}]
[null,{"$f":"Einbauten!A22","v":"90.676.00..T000"},{"$f":"gettext(B56,Sprache!$D$1)","v":"INEO Bidet-Element, BH 1120 mm"},null,null,null,null,null,null,null,{"$f":"IF(AND(W56=TRUE,$X$23=TRUE),$D$8*J56,0)","v":0},{"$f":"Einbauten!B22","v":"Stück"},{"$f":"K56*AF56","v":0},null,null,null,null,null,null,null,{"$f":"IF(Einbauten!D22=\"\",$V$16,Einbauten!D22)","v":1155},{"$f":"IF(Einbauten!F22=\"\",$V$17,Einbauten!F22)","v":135},false,{"$f":"IF(W56=TRUE,J56*Einbauten!E22,0)","v":0},{"$f":"IF(AND(W56=TRUE,$X$23=TRUE),J56,0)","v":0},{"$f":"$Y56*Einbauten!H22","v":0},{"$f":"$Y56*Einbauten!I22","v":0},{"$f":"$Y56*Einbauten!J22","v":0},{"$f":"$Y56*Einbauten!K22","v":0},{"$f":"$Y56*Einbauten!L22","v":0},{"$f":"$Y56*Einbauten!G22","v":0},{"$f":"CHOOSE(Preise_Prices!$X$9,0,Preise_Prices!O34,Preise_Prices!T34)","v":0},0,null,null,null,null,null,null,{"$f":"K56","v":0}]
[null,{"$f":"Einbauten!A23","v":"90.668.00..T000"},{"$f":"gettext(B57,Sprache!$D$1)","v":"INEO Urinal-Element, für Urinal-Kartuschenventiltechnik, BH 1120 - 1185 mm"},null,null,null,null,null,null,null,{"$f":"IF(AND(W57=TRUE,$X$23=TRUE),$D$8*J57,0)","v":0},{"$f":"Einbauten!B23","v":"Stück"},{"$f":"K57*AF57","v":0},null,null,null,null,null,null,null,{"$f":"IF(Einbauten!D23=\"\",$V$16,Einbauten!D23)","v":1155},{"$f":"IF(Einbauten!F23=\"\",$V$17,Einbauten!F23)","v":0},false,{"$f":"IF(W57=TRUE,J57*Einbauten!E23,0)","v":0},{"$f":"IF(AND(W57=TRUE,$X$23=TRUE),J57,0)","v":0},{"$f":"$Y57*Einbauten!H23","v":0},{"$f":"$Y57*Einbauten!I23","v":0},{"$f":"$Y57*Einbauten!J23","v":0},{"$f":"$Y57*Einbauten!K23","v":0},{"$f":"$Y57*Einbauten!L23","v":0},{"$f":"$Y57*Einbauten!G23","v":0},{"$f":"CHOOSE(Preise_Prices!$X$9,0,Preise_Prices!O35,Preise_Prices!T35)","v":0},0,null,null,null,null,null,null,{"$f":"K57","v":0}]
[null,{"$f":"Einbauten!A24","v":"90.675.00..T000"},{"$f":"gettext(B58,Sprache!$D$1)","v":"INEO Urinal-Element für Aufputzdruckspüler, BH 1120 - 1185 mm"},null,null,null,null,null,null,null,{"$f":"IF(AND(W58=TRUE,$X$23=TRUE),$D$8*J58,0)","v":0},{"$f":"Einbauten!B24","v":"Stück"},{"$f":"K58*AF58","v":0},null,null,null,null,null,null,null,{"$f":"IF(Einbauten!D24=\"\",$V$16,Einbauten!D24)","v":1155},{"$f":"IF(Einbauten!F24=\"\",$V$17,Einbauten!F24)","v":0},false,{"$f":"IF(W58=TRUE,J58*Einbauten!E24,0)","v":0},{"$f":"IF(AND(W58=TRUE,$X$23=TRUE),J58,0)","v":0},{"$f":"$Y58*Einbauten!H24","v":0},{"$f":"$Y58*Einbauten!I24","v":0},{"$f":"$Y58*Einbauten!J24","v":0},{"$f":"$Y58*Einbauten!K24","v":0},{"$f":"$Y58*Einbauten!L24","v":0},{"$f":"$Y58*Einbauten!G24","v":0},{"$f":"CHOOSE(Preise_Prices!$X$9,0,Preise_Prices!O36,Preise_Prices!T36)","v":0},0,null,null,null,null,null,null,{"$f":"K58","v":0}]
[null,{"$f":"Einbauten!A25","v":"Bade-und Brausewannen"},null,null,null,null,null,null,null,null,null,null,null,null,null,null,null,null,null,null,null,null,null,null,null,null,null,null,null,null,null,null,null,null,null,null,null,null,null,0]
[null,{"$f":"Einbauten!A26","v":"90.681.00..T000"},{"$f":"gettext(B60,Sprache!$D$1)","v":"INEO BW-Element  für Aufputzwandarmaturen, BH 1120-1185 mm"},null,null,null,null,null,null,null,{"$f":"IF(AND(W60=TRUE,$X$23=TRUE),$D$8*J60,0)","v":0},{"$f":"Einbauten!B26","v":"Stück"},{"$f":"K60*AF60","v":0},null,null,null,null,null,null,null,{"$f":"IF(Einbauten!D26=\"\",$V$16,Einbauten!D26)","v":1155},{"$f":"IF(Einbauten!F26=\"\",$V$17,Einbauten!F26)","v":0},{"$f":"IF($V$13>1155,AND($X$21=TRUE,U60>=1155,$W$33=TRUE),AND($X$21=TRUE,U60=$V$16,$V$17>=V60,$W$33=TRUE))","v":false},{"$f":"IF(W60=TRUE,J60*Einbauten!E26,0)","v":0},{"$f":"IF(AND(W60=TRUE,$X$23=TRUE),J60,0)","v":0},{"$f":"$Y60*Einbauten!H26","v":0},{"$f":"$Y60*Einbauten!I26","v":0},{"$f":"$Y60*Einbauten!J26","v":0},{"$f":"$Y60*Einbauten!K26","v":0},{"$f":"$Y60*Einbauten!L26","v":0},{"$f":"$Y60*Einbauten!G26","v":0},{"$f":"CHOOSE(Preise_Prices!$X$9,0,Preise_Prices!O38,Preise_Prices!T38)","v":0},{"$f":"AF60*Y60","v":0},null,null,null,null,null,null,{"$f":"K60","v":0}]
[null,{"$f":"Einbauten!A27","v":"90.682.00..T000"},{"$f":"gettext(B61,Sprache!$D$1)","v":"INEO BW-Element für UP-Armaturen, BH 1120-1185 mm"},null,null,null,null,null,null,null,{"$f":"IF(AND(W61=TRUE,$X$23=TRUE),$D$8*J61,0)","v":0},{"$f":"Einbauten!B27","v":"Stück"},{"$f":"K61*AF61","v":0},null,null,null,null,null,null,null,{"$f":"IF(Einbauten!D27=\"\",$V$16,Einbauten!D27)","v":1155},{"$f":"IF(Einbauten!F27=\"\",$V$17,Einbauten!F27)","v":0},false,{"$f":"IF(W61=TRUE,J61*Einbauten!E27,0)","v":0},{"$f":"IF(AND(W61=TRUE,$X$23=TRUE),J61,0)","v":0},{"$f":"$Y61*Einbauten!H27","v":0},{"$f":"$Y61*Einbauten!I27","v":0},{"$f":"$Y61*Einbauten!J27","v":0},{"$f":"$Y61*Einbauten!K27","v":0},{"$f":"$Y61*Einbauten!L27","v":0},{"$f":"$Y61*Einbauten!G27","v":0},{"$f":"CHOOSE(Preise_Prices!$X$9,0,Preise_Prices!O39,Preise_Prices!T39)","v":0},0,null,null,null,null,null,null,{"$f":"K61","v":0}]
[null,{"$f":"Einbauten!A28","v":"Waschtisch- und Urinal-Module (Sanitärfunktion ohne Trockenbaurahmen)"},null,null,null,null,null,null,null,null,null,null,null,null,null,null,null,null,null,null,null,null,null,null,null,null,null,null,null,null,null,null,null,null,null,null,null,null,null,0]
[null,{"$f":"Einbauten!A29","v":"17.276.00..0000"},{"$f":"gettext(B63,Sprache!$D$1)","v":"WT-Modul für Einloch- und AP-Wandarmaturen"},null,null,null,null,null,null,null,{"$f":"IF(AND(W63=TRUE,$X$23=TRUE),$D$8*J63,0)","v":0},{"$f":"Einbauten!B29","v":"Stück"},{"$f":"K63*AF63","v":0},null,null,null,null,null,null,null,{"$f":"IF(Einbauten!D29=\"\",$V$16,Einbauten!D29)","v":0},{"$f":"IF(Einbauten!F29=\"\",$V$17,Einbauten!F29)","v":0},{"$f":"IF($V$13>1155,AND($X$21=TRUE,U63>=1155,$W$33=TRUE),AND($X$21=TRUE,U63=$V$16,$V$17>=V63,$W$33=TRUE))","v":false},{"$f":"IF(W63=TRUE,J63*Einbauten!E29,0)","v":0},{"$f":"IF(AND(W63=TRUE,$X$23=TRUE),J63,0)","v":0},{"$f":"$Y63*Einbauten!H29","v":0},{"$f":"$Y63*Einbauten!I29","v":0},{"$f":"$Y63*Einbauten!J29","v":0},{"$f":"$Y63*Einbauten!K29","v":0},{"$f":"$Y63*Einbauten!L29","v":0},{"$f":"$Y63*Einbauten!G29","v":0},{"$f":"CHOOSE(Preise_Prices!$X$9,0,Preise_Prices!O41,Preise_Prices!T41)","v":0},{"$f":"AF63*Y63","v":0},null,null,null,null,null,null,{"$f":"K63","v":0}]
[null,{"$f":"Einbauten!A30","v":"17.286.00..0000"},{"$f":"gettext(B64,Sprache!$D$1)","v":"Waschtisch-Modul für Einlocharmaturen"},null,null,null,null,null,null,null,{"$f":"IF(AND(W64=TRUE,$X$23=TRUE),$D$8*J64,0)","v":0},{"$f":"Einbauten!B30","v":"Stück"},{"$f":"K64*AF64","v":0},null,null,null,null,null,null,null,{"$f":"IF(Einbauten!D30=\"\",$V$16,Einbauten!D30)","v":0},{"$f":"IF(Einbauten!F30=\"\",$V$17,Einbauten!F30)","v":0},false,{"$f":"IF(W64=TRUE,J64*Einbauten!E30,0)","v":0},{"$f":"IF(AND(W64=TRUE,$X$23=TRUE),J64,0)","v":0},{"$f":"$Y64*Einbauten!H30","v":0},{"$f":"$Y64*Einbauten!I30","v":0},{"$f":"$Y64*Einbauten!J30","v":0},{"$f":"$Y64*Einbauten!K30","v":0},{"$f":"$Y64*Einbauten!L30","v":0},{"$f":"$Y64*Einbauten!G30","v":0},{"$f":"CHOOSE(Preise_Prices!$X$9,0,Preise_Prices!O42,Preise_Prices!T42)","v":0},0,null,null,null,null,null,null,{"$f":"K64","v":0}]
[null,{"$f":"Einbauten!A31","v":"03.877.00..0000"},{"$f":"gettext(B65,Sprache!$D$1)","v":"Modul für Waschtisch und Ausgussbecken mit AP-Armatur"},null,null,null,null,null,null,null,{"$f":"IF(AND(W65=TRUE,$X$23=TRUE),$D$8*J65,0)","v":0},{"$f":"Einbauten!B31","v":"Stück"},{"$f":"K65*AF65","v":0},null,null,null,null,null,null,null,{"$f":"IF(Einbauten!D31=\"\",$V$16,Einbauten!D31)","v":0},{"$f":"IF(Einbauten!F31=\"\",$V$17,Einbauten!F31)","v":0},false,{"$f":"IF(W65=TRUE,J65*Einbauten!E31,0)","v":0},{"$f":"IF(AND(W65=TRUE,$X$23=TRUE),J65,0)","v":0},{"$f":"$Y65*Einbauten!H31","v":0},{"$f":"$Y65*Einbauten!I31","v":0},{"$f":"$Y65*Einbauten!J31","v":0},{"$f":"$Y65*Einbauten!K31","v":0},{"$f":"$Y65*Einbauten!L31","v":0},{"$f":"$Y65*Einbauten!G31","v":0},{"$f":"CHOOSE(Preise_Prices!$X$9,0,Preise_Prices!O43,Preise_Prices!T43)","v":0},0,null,null,null,null,null,null,{"$f":"K65","v":0}]
[null,{"$f":"Einbauten!A32","v":"Weitere Module (Sanitärfunktion ohne Trockenbaurahmen) & Zubehör"},null,null,null,null,null,null,null,null,null,null,null,null,null,null,null,null,null,null,null,null,null,null,null,null,null,null,null,null,null,null,null,null,null,null,null,null,null,0]
[null,{"$f":"Einbauten!A33","v":"17.268.00..0000"},{"$f":"gettext(B67,Sprache!$D$1)","v":"Modul für UP- oder AP-Armaturen"},null,null,null,null,null,null,null,{"$f":"IF(AND(W67=TRUE,$X$23=TRUE),$D$8*J67,0)","v":0},{"$f":"Einbauten!B33","v":"Stück"},{"$f":"K67*AF67","v":0},null,null,null,null,null,null,null,{"$f":"IF(Einbauten!D33=\"\",$V$16,Einbauten!D33)","v":0},{"$f":"IF(Einbauten!F33=\"\",$V$17,Einbauten!F33)","v":0},{"$f":"IF($V$13>1155,AND($X$21=TRUE,U67>=1155,$W$33=TRUE),AND($X$21=TRUE,U67=$V$16,$V$17>=V67,$W$33=TRUE))","v":false},{"$f":"IF(W67=TRUE,J67*Einbauten!E33,0)","v":0},{"$f":"IF(AND(W67=TRUE,$X$23=TRUE),J67,0)","v":0},{"$f":"$Y67*Einbauten!H33","v":0},{"$f":"$Y67*Einbauten!I33","v":0},{"$f":"$Y67*Einbauten!J33","v":0},{"$f":"$Y67*Einbauten!K33","v":0},{"$f":"$Y67*Einbauten!L33","v":0},{"$f":"$Y67*Einbauten!G33","v":0},{"$f":"CHOOSE(Preise_Prices!$X$9,0,Preise_Prices!O45,Preise_Prices!T45)","v":0},{"$f":"AF67*Y67","v":0},null,null,null,null,null,null,{"$f":"K67","v":0}]
[null,{"$f":"Einbauten!A34","v":"17.287.00..0000"},{"$f":"gettext(B68,Sprache!$D$1)","v":"Modul für UP- oder AP-Armaturen"},null,null,null,null,null,null,null,0,{"$f":"Einbauten!B34","v":"Stück"},0,null,null,null,null,null,null,null,{"$f":"IF(Einbauten!D34=\"\",$V$16,Einbauten!D34)","v":0},{"$f":"IF(Einbauten!F34=\"\",$V$17,Einbauten!F34)","v":0},{"$f":"IF($V$13>1155,AND($X$21=TRUE,U68>=1155,$W$33=TRUE),AND($X$21=TRUE,U68=$V$16,$V$17>=V68,$W$33=TRUE))","v":false},{"$f":"IF(W68=TRUE,J68*Einbauten!E34,0)","v":0},0,{"$f":"$Y68*Einbauten!H34","v":0},{"$f":"$Y68*Einbauten!I34","v":0},{"$f":"$Y68*Einbauten!J34","v":0},{"$f":"$Y68*Einbauten!K34","v":0},{"$f":"$Y68*Einbauten!L34","v":0},{"$f":"$Y68*Einbauten!G34","v":0},{"$f":"CHOOSE(Preise_Prices!$X$9,0,Preise_Prices!O46,Preise_Prices!T46)","v":0},0,null,null,null,null,null,null,0]
[null,{"$f":"Einbauten!A35","v":"17.275.00..0000"},{"$f":"gettext(B69,Sprache!$D$1)","v":"Modul für Aufputzwandbatterien"},null,null,null,null,null,null,null,0,{"$f":"Einbauten!B35","v":"Stück"},0,null,null,null,null,null,null,null,{"$f":"IF(Einbauten!D35=\"\",$V$16,Einbauten!D35)","v":0},{"$f":"IF(Einbauten!F35=\"\",$V$17,Einbauten!F35)","v":0},false,{"$f":"IF(W69=TRUE,J69*Einbauten!E35,0)","v":0},0,{"$f":"$Y69*Einbauten!H35","v":0},{"$f":"$Y69*Einbauten!I35","v":0},{"$f":"$Y69*Einbauten!J35","v":0},{"$f":"$Y69*Einbauten!K35","v":0},{"$f":"$Y69*Einbauten!L35","v":0},{"$f":"$Y69*Einbauten!G35","v":0},{"$f":"CHOOSE(Preise_Prices!$X$9,0,Preise_Prices!O47,Preise_Prices!T47)","v":0},0,null,null,null,null,null,null,0]
[null,{"$f":"Einbauten!A36","v":"17.282.00..0000"},{"$f":"gettext(B70,Sprache!$D$1)","v":"Modul für Waschmaschinenanschluss"},null,null,null,null,null,null,null,0,{"$f":"Einbauten!B36","v":"Stück"},0,null,null,null,null,null,null,null,{"$f":"IF(Einbauten!D36=\"\",$V$16,Einbauten!D36)","v":0},{"$f":"IF(Einbauten!F36=\"\",$V$17,Einbauten!F36)","v":0},false,{"$f":"IF(W70=TRUE,J70*Einbauten!E36,0)","v":0},0,{"$f":"$Y70*Einbauten!H36","v":0},{"$f":"$Y70*Einbauten!I36","v":0},{"$f":"$Y70*Einbauten!J36","v":0},{"$f":"$Y70*Einbauten!K36","v":0},{"$f":"$Y70*Einbauten!L36","v":0},{"$f":"$Y70*Einbauten!G36","v":0},{"$f":"CHOOSE(Preise_Prices!$X$9,0,Preise_Prices!O48,Preise_Prices!T48)","v":0},0,null,null,null,null,null,null,0]
[null,{"$f":"Einbauten!A37","v":"17.216.00..0000"},{"$f":"gettext(B71,Sprache!$D$1)","v":"Befestigungsmodul für schwere Gegenstände, Griffe u.ä."},null,null,null,null,null,null,null,0,{"$f":"Einbauten!B37","v":"Stück"},0,null,null,null,null,null,null,null,{"$f":"IF(Einbauten!D37=\"\",$V$16,Einbauten!D37)","v":0},{"$f":"IF(Einbauten!F37=\"\",$V$17,Einbauten!F37)","v":0},false,{"$f":"IF(W71=TRUE,J71*Einbauten!E37,0)","v":0},0,{"$f":"$Y71*Einbauten!H37","v":0},{"$f":"$Y71*Einbauten!I37","v":0},{"$f":"$Y71*Einbauten!J37","v":0},{"$f":"$Y71*Einbauten!K37","v":0},{"$f":"$Y71*Einbauten!L37","v":0},{"$f":"$Y71*Einbauten!G37","v":0},{"$f":"CHOOSE(Preise_Prices!$X$9,0,Preise_Prices!O49,Preise_Prices!T49)","v":0},0,null,null,null,null,null,null,0]
[null,{"$f":"Einbauten!A38","v":"17.280.00..0000"},{"$f":"gettext(B72,Sprache!$D$1)","v":"Befestigungsmodul für Küchenanschlüsse"},null,null,null,null,null,null,null,0,{"$f":"Einbauten!B38","v":"Stück"},0,null,null,null,null,null,null,null,{"$f":"IF(Einbauten!D38=\"\",$V$16,Einbauten!D38)","v":0},{"$f":"IF(Einbauten!F38=\"\",$V$17,Einbauten!F38)","v":0},false,{"$f":"IF(W72=TRUE,J72*Einbauten!E38,0)","v":0},0,{"$f":"$Y72*Einbauten!H38","v":0},{"$f":"$Y72*Einbauten!I38","v":0},{"$f":"$Y72*Einbauten!J38","v":0},{"$f":"$Y72*Einbauten!K38","v":0},{"$f":"$Y72*Einbauten!L38","v":0},{"$f":"$Y72*Einbauten!G38","v":0},{"$f":"CHOOSE(Preise_Prices!$X$9,0,Preise_Prices!O50,Preise_Prices!T50)","v":0},0,null,null,null,null,null,null,0]
[null,{"$f":"Einbauten!A39","v":"17.239.00..0000"},{"$f":"gettext(B73,Sprache!$D$1)","v":"Ergänzungsmodul für Sitzbefestigung"},null,null,null,null,null,null,null,0,{"$f":"Einbauten!B39","v":"Stück"},0,null,null,null,null,null,null,null,{"$f":"IF(Einbauten!D39=\"\",$V$16,Einbauten!D39)","v":0},{"$f":"IF(Einbauten!F39=\"\",$V$17,Einbauten!F39)","v":0},false,{"$f":"IF(W73=TRUE,J73*Einbauten!E39,0)","v":0},0,{"$f":"$Y73*Einbauten!H39","v":0},{"$f":"$Y73*Einbauten!I39","v":0},{"$f":"$Y73*Einbauten!J39","v":0},{"$f":"$Y73*Einbauten!K39","v":0},{"$f":"$Y73*Einbauten!L39","v":0},{"$f":"$Y73*Einbauten!G39","v":0},{"$f":"CHOOSE(Preise_Prices!$X$9,0,Preise_Prices!O51,Preise_Prices!T51)","v":0},0,null,null,null,null,null,null,0]
[null,{"$f":"Einbauten!A40","v":"17.281.00..0000"},{"$f":"gettext(B74,Sprache!$D$1)","v":"Modul für Wandscheiben"},null,null,null,null,null,null,null,0,{"$f":"Einbauten!B40","v":"Stück"},0,null,null,null,null,null,null,null,{"$f":"IF(Einbauten!D40=\"\",$V$16,Einbauten!D40)","v":0},{"$f":"IF(Einbauten!F40=\"\",$V$17,Einbauten!F40)","v":0},false,{"$f":"IF(W74=TRUE,J74*Einbauten!E40,0)","v":0},0,{"$f":"$Y74*Einbauten!H40","v":0},{"$f":"$Y74*Einbauten!I40","v":0},{"$f":"$Y74*Einbauten!J40","v":0},{"$f":"$Y74*Einbauten!K40","v":0},{"$f":"$Y74*Einbauten!L40","v":0},{"$f":"$Y74*Einbauten!G40","v":0},{"$f":"CHOOSE(Preise_Prices!$X$9,0,Preise_Prices!O52,Preise_Prices!T52)","v":0},0,null,null,null,null,null,null,0]
[null,{"$f":"Einbauten!A41","v":"05.132.00..0000"},{"$f":"gettext(B75,Sprache!$D$1)","v":"Dachschrägen-Anschluss"},null,null,null,null,null,null,null,{"$f":"IF(AND(W75=TRUE,$X$23=TRUE),$D$8*J75,0)","v":0},{"$f":"Einbauten!B41","v":"Stück"},{"$f":"K75*AF75","v":0},null,null,null,null,null,null,null,{"$f":"IF(Einbauten!D41=\"\",$V$16,Einbauten!D41)","v":0},{"$f":"IF(Einbauten!F41=\"\",$V$17,Einbauten!F41)","v":0},{"$f":"IF($V$13>1155,AND($X$21=TRUE,U75>=1155,$W$33=TRUE),AND($X$21=TRUE,U75=$V$16,$V$17>=V75,$W$33=TRUE))","v":false},{"$f":"IF(W75=TRUE,J75*Einbauten!E41,0)","v":0},{"$f":"IF(AND(W75=TRUE,$X$23=TRUE),J75,0)","v":0},{"$f":"$Y75*Einbauten!H41","v":0},{"$f":"$Y75*Einbauten!I41","v":0},{"$f":"$Y75*Einbauten!J41","v":0},{"$f":"$Y75*Einbauten!K41","v":0},{"$f":"$Y75*Einbauten!L41","v":0},{"$f":"$Y75*Einbauten!G41","v":0},{"$f":"CHOOSE(Preise_Prices!$X$9,0,Preise_Prices!O53,Preise_Prices!T53)","v":0},{"$f":"AF75*Y75","v":0},null,null,null,null,null,null,{"$f":"K75","v":0}]
[null,{"$f":"Einbauten!A42","v":"05.201.00..0000"},{"$f":"gettext(B76,Sprache!$D$1)","v":"Rohrschellenbefestigung"},null,null,null,null,null,null,null,0,{"$f":"Einbauten!B42","v":"Stück"},0,null,null,null,null,null,null,null,{"$f":"IF(Einbauten!D42=\"\",$V$16,Einbauten!D42)","v":0},{"$f":"IF(Einbauten!F42=\"\",$V$17,Einbauten!F42)","v":0},false,{"$f":"IF(W76=TRUE,J76*Einbauten!E42,0)","v":0},0,{"$f":"$Y76*Einbauten!H42","v":0},{"$f":"$Y76*Einbauten!I42","v":0},{"$f":"$Y76*Einbauten!J42","v":0},{"$f":"$Y76*Einbauten!K42","v":0},{"$f":"$Y76*Einbauten!L42","v":0},{"$f":"$Y76*Einbauten!G42","v":0},{"$f":"CHOOSE(Preise_Prices!$X$9,0,Preise_Prices!O54,Preise_Prices!T54)","v":0},0,null,null,null,null,null,null,0]
[null,{"$f":"Einbauten!A43","v":"barrierefreie Elemente und Module"},null,null,null,null,null,null,null,null,null,null,null,null,null,null,null,null,null,null,null,null,null,null,null,null,null,null,null,null,null,null,null,null,null,null,null,null,null,0]
[null,{"$f":"Einbauten!A44","v":"90.685.00..T000"},{"$f":"gettext(B78,Sprache!$D$1)","v":"INEO WT-Element für Einlocharmaturen, behinderteng. BH 820 mm"},null,null,null,null,null,null,null,{"$f":"IF(AND(W78=TRUE,$X$23=TRUE),$D$8*J78,0)","v":0},{"$f":"Einbauten!B44","v":"Stück"},{"$f":"K78*AF78","v":0},null,null,null,null,null,null,null,{"$f":"IF(Einbauten!D44=\"\",$V$16,Einbauten!D44)","v":855},{"$f":"IF(Einbauten!F44=\"\",$V$17,Einbauten!F44)","v":0},{"$f":"IF($V$13>1155,AND($X$21=TRUE,U78>=1155,$W$33=TRUE),AND($X$21=TRUE,U78=$V$16,$V$17>=V78,$W$33=TRUE))","v":false},{"$f":"IF(W78=TRUE,J78*Einbauten!E44,0)","v":0},{"$f":"IF(AND(W78=TRUE,$X$23=TRUE),J78,0)","v":0},{"$f":"$Y78*Einbauten!H44","v":0},{"$f":"$Y78*Einbauten!I44","v":0},{"$f":"$Y78*Einbauten!J44","v":0},{"$f":"$Y78*Einbauten!K44","v":0},{"$f":"$Y78*Einbauten!L44","v":0},{"$f":"$Y78*Einbauten!G44","v":0},{"$f":"CHOOSE(Preise_Prices!$X$9,0,Preise_Prices!O56,Preise_Prices!T56)","v":0},{"$f":"AF78*Y78","v":0},null,null,null,null,null,null,{"$f":"K78","v":0}]
[null,{"$f":"Einbauten!A45","v":"90.673.00..T000"},{"$f":"gettext(B79,Sprache!$D$1)","v":"INEO WT-El. für Einloch- o. AP-Wandarmaturen, behinderteng., BH 1120 - 1185 mm"},null,null,null,null,null,null,null,0,{"$f":"Einbauten!B45","v":"Stück"},0,null,null,null,null,null,null,null,{"$f":"IF(Einbauten!D45=\"\",$V$16,Einbauten!D45)","v":1155},{"$f":"IF(Einbauten!F45=\"\",$V$17,Einbauten!F45)","v":0},false,{"$f":"IF(W79=TRUE,J79*Einbauten!E45,0)","v":0},0,{"$f":"$Y79*Einbauten!H45","v":0},{"$f":"$Y79*Einbauten!I45","v":0},{"$f":"$Y79*Einbauten!J45","v":0},{"$f":"$Y79*Einbauten!K45","v":0},{"$f":"$Y79*Einbauten!L45","v":0},{"$f":"$Y79*Einbauten!G45","v":0},{"$f":"CHOOSE(Preise_Prices!$X$9,0,Preise_Prices!O57,Preise_Prices!T57)","v":0},0,null,null,null,null,null,null,0]
[null,{"$f":"Einbauten!A46","v":"90.744.00..T000"},{"$f":"gettext(B80,Sprache!$D$1)","v":"INEO PLUS WC-El., kl. RÖ, Betät. v. vorn, behindertengerecht, BH 1120 mm"},null,null,null,null,null,null,null,0,{"$f":"Einbauten!B46","v":"Stück"},0,null,null,null,null,null,null,null,{"$f":"IF(Einbauten!D46=\"\",$V$16,Einbauten!D46)","v":1155},{"$f":"IF(Einbauten!F46=\"\",$V$17,Einbauten!F46)","v":135},false,{"$f":"IF(W80=TRUE,J80*Einbauten!E46,0)","v":0},0,{"$f":"$Y80*Einbauten!H46","v":0},{"$f":"$Y80*Einbauten!I46","v":0},{"$f":"$Y80*Einbauten!J46","v":0},{"$f":"$Y80*Einbauten!K46","v":0},{"$f":"$Y80*Einbauten!L46","v":0},{"$f":"$Y80*Einbauten!G46","v":0},{"$f":"CHOOSE(Preise_Prices!$X$9,0,Preise_Prices!O58,Preise_Prices!T58)","v":0},0,null,null,null,null,null,null,0]
[null,{"$f":"Einbauten!A47","v":"90.680.00..TR00"},{"$f":"gettext(B81,Sprache!$D$1)","v":"Befest.-El. rechts für Griff- u. Haltesysteme, BH 1185 mm"},null,null,null,null,null,null,null,0,{"$f":"Einbauten!B47","v":"Stück"},0,null,null,null,null,null,null,null,{"$f":"IF(Einbauten!D47=\"\",$V$16,Einbauten!D47)","v":1155},{"$f":"IF(Einbauten!F47=\"\",$V$17,Einbauten!F47)","v":0},false,{"$f":"IF(W81=TRUE,J81*Einbauten!E47,0)","v":0},0,{"$f":"$Y81*Einbauten!H47","v":0},{"$f":"$Y81*Einbauten!I47","v":0},{"$f":"$Y81*Einbauten!J47","v":0},{"$f":"$Y81*Einbauten!K47","v":0},{"$f":"$Y81*Einbauten!L47","v":0},{"$f":"$Y81*Einbauten!G47","v":0},{"$f":"CHOOSE(Preise_Prices!$X$9,0,Preise_Prices!O59,Preise_Prices!T59)","v":0},0,null,null,null,null,null,null,0]
[null,{"$f":"Einbauten!A48","v":"90.680.00..TL00"},{"$f":"gettext(B82,Sprache!$D$1)","v":"Befest.-El. links für Griff- u. Haltesysteme, BH 1185 mm"},null,null,null,null,null,null,null,0,{"$f":"Einbauten!B48","v":"Stück"},0,null,null,null,null,null,null,null,{"$f":"IF(Einbauten!D48=\"\",$V$16,Einbauten!D48)","v":1155},{"$f":"IF(Einbauten!F48=\"\",$V$17,Einbauten!F48)","v":0},false,{"$f":"IF(W82=TRUE,J82*Einbauten!E48,0)","v":0},0,{"$f":"$Y82*Einbauten!H48","v":0},{"$f":"$Y82*Einbauten!I48","v":0},{"$f":"$Y82*Einbauten!J48","v":0},{"$f":"$Y82*Einbauten!K48","v":0},{"$f":"$Y82*Einbauten!L48","v":0},{"$f":"$Y82*Einbauten!G48","v":0},{"$f":"CHOOSE(Preise_Prices!$X$9,0,Preise_Prices!O60,Preise_Prices!T60)","v":0},0,null,null,null,null,null,null,0]
[null,{"$f":"Einbauten!A49","v":"17.288.00..0000"},{"$f":"gettext(B83,Sprache!$D$1)","v":"Waschtisch-Modul behindertengerecht"},null,null,null,null,null,null,null,0,{"$f":"Einbauten!B49","v":"Stück"},0,null,null,null,null,null,null,null,{"$f":"IF(Einbauten!D49=\"\",$V$16,Einbauten!D49)","v":0},{"$f":"IF(Einbauten!F49=\"\",$V$17,Einbauten!F49)","v":0},false,{"$f":"IF(W83=TRUE,J83*Einbauten!E49,0)","v":0},0,{"$f":"$Y83*Einbauten!H49","v":0},{"$f":"$Y83*Einbauten!I49","v":0},{"$f":"$Y83*Einbauten!J49","v":0},{"$f":"$Y83*Einbauten!K49","v":0},{"$f":"$Y83*Einbauten!L49","v":0},{"$f":"$Y83*Einbauten!G49","v":0},{"$f":"CHOOSE(Preise_Prices!$X$9,0,Preise_Prices!O61,Preise_Prices!T61)","v":0},0,null,null,null,null,null,null,0]
[null,{"$f":"Einbauten!A50","v":"17.279.00..0000"},{"$f":"gettext(B84,Sprache!$D$1)","v":"Befestigungsmodul für Griff- und Haltesysteme"},null,null,null,null,null,null,null,0,{"$f":"Einbauten!B50","v":"Stück"},0,null,null,null,null,null,null,null,{"$f":"IF(Einbauten!D50=\"\",$V$16,Einbauten!D50)","v":0},{"$f":"IF(Einbauten!F50=\"\",$V$17,Einbauten!F50)","v":0},false,{"$f":"IF(W84=TRUE,J84*Einbauten!E50,0)","v":0},0,{"$f":"$Y84*Einbauten!H50","v":0},{"$f":"$Y84*Einbauten!I50","v":0},{"$f":"$Y84*Einbauten!J50","v":0},{"$f":"$Y84*Einbauten!K50","v":0},{"$f":"$Y84*Einbauten!L50","v":0},{"$f":"$Y84*Einbauten!G50","v":0},{"$f":"CHOOSE(Preise_Prices!$X$9,0,Preise_Prices!O62,Preise_Prices!T62)","v":0},0,null,null,null,null,null,null,0]
[null,{"$f":"Einbauten!A51","v":"17.289.00..0000"},{"$f":"gettext(B85,Sprache!$D$1)","v":"Befestigungs-Modul für Griff- und Haltesysteme"},null,null,null,null,null,null,null,0,{"$f":"Einbauten!B51","v":"Stück"},0,null,null,null,null,null,null,null,{"$f":"IF(Einbauten!D51=\"\",$V$16,Einbauten!D51)","v":0},{"$f":"IF(Einbauten!F51=\"\",$V$17,Einbauten!F51)","v":0},false,{"$f":"IF(W85=TRUE,J85*Einbauten!E51,0)","v":0},0,{"$f":"$Y85*Einbauten!H51","v":0},{"$f":"$Y85*Einbauten!I51","v":0},{"$f":"$Y85*Einbauten!J51","v":0},{"$f":"$Y85*Einbauten!K51","v":0},{"$f":"$Y85*Einbauten!L51","v":0},{"$f":"$Y85*Einbauten!G51","v":0},{"$f":"CHOOSE(Preise_Prices!$X$9,0,Preise_Prices!O63,Preise_Prices!T63)","v":0},0,null,null,null,null,null,null,0]
[]
[null,null,null,null,null,null,null,null,null,null,null,null,null,null,null,null,null,null,null,null,"Summe",null,null,{"$f":"SUM(X38:X85)","v":0},0,0,0,0,0,0,0,null,{"$f":"SUM(AG38:AG85)","v":0},null,null,null,null,null,null,{"$f":"SUM(AN90:AN102)","v":0}]
[null,{"$f":"gettext(\"G28\",Sprache!$D$1)","v":"Materialbedarf für Tragwerk und Beplankung"},null,null,null,null,null,null,null,null,null,null,null,null,null,null,null,null,null,null,null,null,null,null,null,null,null,null,null,null,null,null,null,null,null,null,null,null,null,{"$f":"SUM(AN90:AN102)","v":0}]
[null,null,null,null,null,null,null,null,null,null,null,null,null,null,null,null,null,null,null,null,"Material","1 Wand",null,"Wandaufbau","o. Beplank/m.SS","Red. Stab Wand","Material Wand","Material Einb.","Gesamt MatWand","Zeitbedarf/ Wand","Zeitbed./Einbaut.","Gesamt Zeit/Wand","Preis/Einheit","Preis/Wand","Preis/Einbauten","Preis Gesamt",null,null,null,{"$f":"SUM(AN90:AN102)","v":0}]
[null,{"$f":"Basismaterial!A3","v":"02.208.00..0000"},{"$f":"gettext(B90,Sprache!$D$1)","v":"Stab (5m)"},null,null,null,null,null,null,{"$f":"AC90","v":0},{"$f":"$D$8*J90","v":0},{"$f":"Basismaterial!C3","v":"m"},{"$f":"K90*AG90","v":0},null,null,null,null,null,null,null,{"$f":"B90","v":"02.208.00..0000"},"Tragwerk",null,{"$f":"IF($X$28=TRUE,INDEX(INDIRECT(CONCATENATE($X$1,$V$1)),MATCH($D$11,INDIRECT(CONCATENATE($Y$1,$V$1)),-1),2),0)","v":0},null,{"$f":"AD87","v":0},{"$f":"SUM(X90:Z90)","v":0},{"$f":"Z87","v":0},{"$f":"AA90+AB90","v":0},{"$f":"Basismaterial!$D3*AA90","v":0},{"$f":"Basismaterial!$D3*AB90","v":0},{"$f":"AD90+AE90","v":0},{"$f":"CHOOSE(Preise_Prices!$X$9,0,Preise_Prices!O68,Preise_Prices!T68)","v":0},{"$f":"AA90*AG90","v":0},{"$f":"AG90*AB90","v":0},{"$f":"AH90+AI90","v":0},"Tragwerk",null,null,{"$f":"K90","v":0}]
[null,{"$f":"Basismaterial!A4","v":"02.596.00..0000"},{"$f":"gettext(B91,Sprache!$D$1)","v":"Universalspachtelmasse ( ca. 0,25 Kg/m2 )"},null,null,null,null,null,null,{"$f":"AC91","v":0},{"$f":"$D$8*J91","v":0},{"$f":"Basismaterial!C4","v":"Kg"},{"$f":"K91*AG91","v":0},null,null,null,null,null,null,null,{"$f":"B91","v":"02.596.00..0000"},"Beplankung",null,{"$f":"IF($X$28=TRUE,INDEX(INDIRECT(CONCATENATE($X$1,$V$1)),MATCH($D$11,INDIRECT(CONCATENATE($Y$1,$V$1)),-1),3),0)","v":0},{"$f":"IF(W111=TRUE,-X91,0)","v":0},null,{"$f":"SUM(X91:Z91)","v":0},null,{"$f":"AA91+AB91","v":0},{"$f":"Basismaterial!$D4*AA91","v":0},{"$f":"Basismaterial!$D4*AB91","v":0},{"$f":"AD91+AE91","v":0},{"$f":"CHOOSE(Preise_Prices!$X$9,0,Preise_Prices!O69,Preise_Prices!T69)","v":0},{"$f":"AA91*AG91","v":0},{"$f":"AG91*AB91","v":0},{"$f":"AH91+AI91","v":0},"Beplankung",null,null,0]
[null,{"$f":"Basismaterial!A5","v":"02.597.00..0000"},{"$f":"gettext(B92,Sprache!$D$1)","v":"Senkkopf-Kreuzschlitzschraube zur Verkleidungsplatte"},null,null,null,null,null,null,0,0,{"$f":"Basismaterial!C5","v":"Stück"},0,null,null,null,null,null,null,null,"02.597.00..0000","Beplankung",null,{"$f":"IF($X$28=TRUE,INDEX(INDIRECT(CONCATENATE($X$1,$V$1)),MATCH($D$11,INDIRECT(CONCATENATE($Y$1,$V$1)),-1),4),0)","v":0},{"$f":"IF(W111=TRUE,-X92,0)","v":0},null,0,null,0,{"$f":"Basismaterial!$D5*AA92","v":0},{"$f":"Basismaterial!$D5*AB92","v":0},0,{"$f":"CHOOSE(Preise_Prices!$X$9,0,Preise_Prices!O70,Preise_Prices!T70)","v":0},0,0,0,"Beplankung",null,null,0]
[null,{"$f":"Basismaterial!A6","v":"03.332.00..0000"},{"$f":"gettext(B93,Sprache!$D$1)","v":"Eckverbinder"},null,null,null,null,null,null,0,0,{"$f":"Basismaterial!C6","v":"Stück"},0,null,null,null,null,null,null,null,"03.332.00..0000","Tragwerk",null,{"$f":"IF($X$28=TRUE,INDEX(INDIRECT(CONCATENATE($X$1,$V$1)),MATCH($D$11,INDIRECT(CONCATENATE($Y$1,$V$1)),-1),5),0)","v":0},null,null,0,{"$f":"AA87","v":0},0,{"$f":"Basismaterial!$D6*AA93","v":0},{"$f":"Basismaterial!$D6*AB93","v":0},0,{"$f":"CHOOSE(Preise_Prices!$X$9,0,Preise_Prices!O71,Preise_Prices!T71)","v":0},0,0,0,"Tragwerk",null,null,0]
[null,{"$f":"Basismaterial!A7","v":"03.333.00..0000"},{"$f":"gettext(B94,Sprache!$D$1)","v":"Modulverbinder"},null,null,null,null,null,null,0,0,{"$f":"Basismaterial!C7","v":"Stück"},0,null,null,null,null,null,null,null,"03.333.00..0000"," nur Einbauten",null,null,null,null,null,{"$f":"AB87","v":0},0,{"$f":"Basismaterial!$D7*AA94","v":0},{"$f":"Basismaterial!$D7*AB94","v":0},0,{"$f":"CHOOSE(Preise_Prices!$X$9,0,Preise_Prices!O72,Preise_Prices!T72)","v":0},0,0,0," nur Einbauten",null,null,0]
[null,{"$f":"Basismaterial!A8","v":"03.346.00..0000"},{"$f":"gettext(B95,Sprache!$D$1)","v":"Trennstreifen für Putzanschluss 20m"},null,null,null,null,null,null,0,0,{"$f":"Basismaterial!C8","v":"m"},0,null,null,null,null,null,null,null,"03.346.00..0000","Tragwerk",null,{"$f":"IF($X$28=TRUE,INDEX(INDIRECT(CONCATENATE($X$1,$V$1)),MATCH($D$11,INDIRECT(CONCATENATE($Y$1,$V$1)),-1),6),0)","v":0},{"$f":"IF(W112=FALSE,-X95,0)","v":0},null,0,null,0,{"$f":"Basismaterial!$D8*AA95","v":0},{"$f":"Basismaterial!$D8*AB95","v":0},0,{"$f":"CHOOSE(Preise_Prices!$X$9,0,Preise_Prices!O73,Preise_Prices!T73)","v":0},0,0,0,"Tragwerk",null,null,0]
[null,{"$f":"Basismaterial!A9","v":"03.545.00..0000"},{"$f":"gettext(B96,Sprache!$D$1)","v":"Bauwerksanschluss"},null,null,null,null,null,null,0,0,{"$f":"Basismaterial!C9","v":"Stück"},0,null,null,null,null,null,null,null,"03.545.00..0000","Tragwerk",null,{"$f":"IF($X$28=TRUE,INDEX(INDIRECT(CONCATENATE($X$1,$V$1)),MATCH($D$11,INDIRECT(CONCATENATE($Y$1,$V$1)),-1),7),0)","v":0},null,null,0,null,0,{"$f":"Basismaterial!$D9*AA96","v":0},{"$f":"Basismaterial!$D9*AB96","v":0},0,{"$f":"CHOOSE(Preise_Prices!$X$9,0,Preise_Prices!O74,Preise_Prices!T74)","v":0},0,0,0,"Tragwerk",null,null,0]
[null,{"$f":"Basismaterial!A10","v":"03.723.00..0000"},{"$f":"gettext(B97,Sprache!$D$1)","v":"Multiverbinder (Tiefe 155-215 mm)"},null,null,null,null,null,null,0,0,{"$f":"Basismaterial!C10","v":"Stück"},0,null,null,null,null,null,null,null,"03.723.00..0000","Tragwerk",null,{"$f":"IF($X$28=TRUE,INDEX(INDIRECT(CONCATENATE($X$1,$V$1)),MATCH($D$11,INDIRECT(CONCATENATE($Y$1,$V$1)),-1),8),0)","v":0},null,null,0,null,0,{"$f":"Basismaterial!$D10*AA97","v":0},{"$f":"Basismaterial!$D10*AB97","v":0},0,{"$f":"CHOOSE(Preise_Prices!$X$9,0,Preise_Prices!O75,Preise_Prices!T75)","v":0},0,0,0,"Tragwerk",null,null,0]
[null,{"$f":"Basismaterial!A11","v":"03.723.00..S000"},{"$f":"gettext(B98,Sprache!$D$1)","v":"Multiverbinder (Tiefe 255-315 mm)"},null,null,null,null,null,null,0,0,{"$f":"Basismaterial!C11","v":"Stück"},0,null,null,null,null,null,null,null,"03.723.00..S000","Tragwerk",null,{"$f":"IF($X$28=TRUE,INDEX(INDIRECT(CONCATENATE($X$1,$V$1)),MATCH($D$11,INDIRECT(CONCATENATE($Y$1,$V$1)),-1),9),0)","v":0},null,null,0,null,0,{"$f":"Basismaterial!$D11*AA98","v":0},{"$f":"Basismaterial!$D11*AB98","v":0},0,{"$f":"CHOOSE(Preise_Prices!$X$9,0,Preise_Prices!O76,Preise_Prices!T76)","v":0},0,0,0,"Tragwerk",null,null,0]
[null,{"$f":"Basismaterial!A12","v":"03.754.00..0000"},{"$f":"gettext(B99,Sprache!$D$1)","v":"Verbindungsset für VW-Elemente"},null,null,null,null,null,null,0,0,{"$f":"Basismaterial!C12","v":"Stück"},0,null,null,null,null,null,null,null,"03.754.00..0000"," nur Einbauten",null,null,null,null,null,{"$f":"AC87","v":0},0,{"$f":"Basismaterial!$D12*AA99","v":0},{"$f":"Basismaterial!$D12*AB99","v":0},0,{"$f":"CHOOSE(Preise_Prices!$X$9,0,Preise_Prices!O77,Preise_Prices!T77)","v":0},0,0,0," nur Einbauten",null,null,0]
[null,{"$f":"Basismaterial!A13","v":"04.070.00..0000"},{"$f":"gettext(B100,Sprache!$D$1)","v":"Stützfuß für freistehende Wände"},null,null,null,null,null,null,{"$f":"AC100","v":0},0,{"$f":"Basismaterial!C13","v":"Stück"},0,null,null,null,null,null,null,null,"04.070.00..0000","Tragwerk",null,{"$f":"IF($X$28=TRUE,INDEX(INDIRECT(CONCATENATE($X$1,$V$1)),MATCH($D$11,INDIRECT(CONCATENATE($Y$1,$V$1)),-1),10),0)","v":0},null,null,0,null,0,{"$f":"Basismaterial!$D13*AA100","v":0},{"$f":"Basismaterial!$D13*AB100","v":0},0,{"$f":"CHOOSE(Preise_Prices!$X$9,0,Preise_Prices!O78,Preise_Prices!T78)","v":0},0,0,0,"Tragwerk",null,null,0]
[null,{"$f":"Basismaterial!A14","v":"16.032.00..0000"},{"$f":"gettext(B101,Sprache!$D$1)","v":"Schallschutzset zu INEO plus, 996"},null,null,null,null,null,null,0,0,{"$f":"Basismaterial!C14","v":"Stück"},0,null,null,null,null,null,null,null,"16.032.00..0000","Tragwerk",null,{"$f":"IF($X$28=TRUE,INDEX(INDIRECT(CONCATENATE($X$1,$V$1)),MATCH($D$11,INDIRECT(CONCATENATE($Y$1,$V$1)),-1),11),0)","v":0},{"$f":"IF(W112=FALSE,-X101,0)","v":0},null,0,null,0,{"$f":"Basismaterial!$D14*AA101","v":0},{"$f":"Basismaterial!$D14*AB101","v":0},0,{"$f":"CHOOSE(Preise_Prices!$X$9,0,Preise_Prices!O79,Preise_Prices!T79)","v":0},0,0,0,"Tragwerk",null,null,0]
[null,{"$f":"Basismaterial!A15","v":"17.115.00..S000"},{"$f":"gettext(B102,Sprache!$D$1)","v":"GKBI-Universalverkleidungsplatte ( 1300x600x18 mm )"},null,null,null,null,null,null,0,0,{"$f":"Basismaterial!C15","v":"Stück"},0,null,null,null,null,null,null,null,"17.115.00..S000","Beplankung",null,{"$f":"IF($X$28=TRUE,INDEX(INDIRECT(CONCATENATE($X$1,$V$1)),MATCH($D$11,INDIRECT(CONCATENATE($Y$1,$V$1)),-1),12),0)","v":0},{"$f":"IF(W111=TRUE,-X102,0)","v":0},null,0,null,0,{"$f":"Basismaterial!$D15*AA102","v":0},{"$f":"Basismaterial!$D15*AB102","v":0},0,{"$f":"CHOOSE(Preise_Prices!$X$9,0,Preise_Prices!O80,Preise_Prices!T80)","v":0},0,0,0,"Beplankung",null,null,0]
[]
[null,{"$f":"IF(AD87<0,gettext(\"G57\",Sprache!$D$1),gettext(\"G58\",Sprache!$D$1))","v":"* Für jeden gewählten Einbau wird der veränderte Materialbedarf ggü. Wänden ohne Einbauten automatisch berücksichtigt."},null,null,null,null,null,null,null,null,null,null,null,null,null,null,null,null,null,null,"Summen","Tragwerk",null,{"$f":"X90+X93+X95+X96+X97+X98+X100+X101","v":0},{"$f":"Y90+Y93+Y95+Y96+Y97+Y98+Y100+Y101","v":0},{"$f":"Z90+Z93+Z95+Z96+Z97+Z98+Z100+Z101","v":0},{"$f":"AA90+AA93+AA95+AA96+AA97+AA98+AA100+AA101","v":0},null,null,{"$f":"AD90+AD93+AD95+AD96+AD97+AD98+AD100+AD101","v":0},null,null,null,{"$f":"AH90+AH93+AH95+AH96+AH98+AH99+AH100+AH101","v":0},null,null,"Tragwerk"]
[null,null,null,null,null,null,null,null,null,null,null,null,null,null,null,null,null,null,null,null,null,"Einbauten",null,null,null,null,null,{"$f":"SUM(AB90:AB102)","v":0},null,null,{"$f":"SUM(AE90:AE102)","v":0},null,null,null,{"$f":"SUM(AI90:AI102)","v":0},null,"Einbauten"]
[null,null,null,null,null,null,null,null,null,null,null,null,null,null,null,null,null,null,null,null,null,"Beplankung",null,{"$f":"X91+X92+X102","v":0},{"$f":"Y91+Y92+Y102","v":0},{"$f":"Z91+Z92+Z102","v":0},{"$f":"AA91+AA92+AA102","v":0},null,null,{"$f":"AD91+AD92+AD102","v":0},null,null,null,{"$f":"AH91+AH92+AH102","v":0},null,null,"Beplankung"]
[null,{"$f":"gettext(\"G29\",Sprache!$D$1)","v":"Benötigte Montagezeit"},null,null,null,null,null,null,null,{"$f":"gettext(\"G24\",Sprache!$D$1)","v":"1 Wand"},{"$f":"gettext(\"G25\",Sprache!$D$1)","v":"alle Wd."},null,null,null,null,null,null,null,null,null,null,"Elemente/Module",null,null,null,null,null,null,null,null,{"$f":"AE87","v":0},null,null,null,{"$f":"AG87","v":0},null,"Elemente/Module"]
[]
[null,null,{"$f":"gettext(\"G31\",Sprache!$D$1)","v":"Tragwerk"},null,null,null,null,null,null,{"$f":"IF(X21=TRUE,AD104,0)","v":0},{"$f":"$D$8*J109","v":0},"Min.",null,null,null,null,null,null,null,null,null,"Elem.+Zubehör",null,null,null,null,null,null,null,null,{"$f":"AE105+AE107","v":0},null,null,null,{"$f":"AI105+AI107","v":0},null,"Elem.+Zubehör"]
[null,null,{"$f":"gettext(\"G32\",Sprache!$D$1)","v":"Elemente und Module"},null,null,null,null,null,null,{"$f":"IF(X21=TRUE,AE109,0)","v":0},{"$f":"$D$8*J110","v":0},"Min."]
[null,null,{"$f":"gettext(\"G33\",Sprache!$D$1)","v":"Beplankung"},null,null,null,null,null,null,{"$f":"IF(X21=TRUE,AD106,0)","v":0},{"$f":"$D$8*J111","v":0},"Min.",null,null,null,null,null,null,null,null,null,"Beplankung Ja/Nein",false]
[null,null,null,null,null,null,null,null,null,{"$f":"SUM(J109:J111)","v":0},{"$f":"SUM(K109:K111)","v":0},"Min.",null,null,null,null,null,null,null,null,null,"Schallschutz Ja/Nein",false]
[null,null,null,null,null,null,null,null,null,null,null,null,null,null,null,null,null,null,null,null,null,"Beideseitig Ja/Nein",false]
[null,{"$f":"gettext(\"G30\",Sprache!$D$1)","v":"Materialkosten"},null,null,null,null,null,null,null,{"$f":"J107","v":"1 Wand"},{"$f":"K107","v":"alle Wd."},null,null,null,null,null,null,null,null,null,null,"Kollisionsprüfung",true]
[]
[null,null,{"$f":"gettext(\"G31\",Sprache!$D$1)","v":"Tragwerk"},null,null,null,null,null,null,{"$f":"IF(X21=TRUE,AH104,0)","v":0},{"$f":"$D$8*J116","v":0},"EUR",null,null,null,null,null,null,null,null,null,"Montagekosten berechnen und Angaben ok ?",{"$f":"Preise_Prices!$X$89","v":true}]
[null,null,{"$f":"gettext(\"G32\",Sprache!$D$1)","v":"Elemente und Module"},null,null,null,null,null,null,{"$f":"IF(X21=TRUE,AI109,0)","v":0},{"$f":"$D$8*J117","v":0},"EUR",null,null,null,null,null,null,null,null,null,"Stundensatz in EUR/ min ?",{"$f":"IF(W116=TRUE,ROUND(Preise_Prices!L89/60,2),0)","v":0}]
[null,null,{"$f":"gettext(\"G33\",Sprache!$D$1)","v":"Beplankung"},null,null,null,null,null,null,{"$f":"IF(X21=TRUE,AH106,0)","v":0},{"$f":"$D$8*J118","v":0},"EUR",null,null,null,null,null,null,null,null,null,"Montagekosten insgesamt",{"$f":"W117*$K$112","v":0}]
[null,null,null,null,null,null,null,null,null,{"$f":"SUM(J116:J118)","v":0},{"$f":"SUM(K116:K118)","v":0},"EUR"]
[null,{"$f":"gettext(\"G55\",Sprache!$D$1)&CHOOSE(Preise_Prices!$X$9,Preise_Prices!C3,Preise_Prices!C4,Preise_Prices!C5)&gettext(\"G56\",Sprache!$D$1)","v":"* Kosten auf Basis ohne Preise kalkulieren, siehe \"Preise_Prices\""}]
[]
[]
[]
[]
[]
[null,{"$f":"IF(Preise_Prices!$Y$82>0,gettext(\"F16\",Sprache!$D$1),\"\")","v":""}]
[null,{"$f":"IF(Preise_Prices!$Y$82>0,gettext(\"F17\",Sprache!$D$1),\"\")","v":""}]

{"sheet":"Sprache","index":6,"n_rows":1104,"n_cols":4,"rows_kept":1104,"cut":false,"hidden":true,"merged":[]}
[null,"Deutsch","Ausgewählt",1]
[null,"Englisch"]
[]
["TextID","Deutsch","Englisch"]
[]
[null,"Wandtypenbeschreibungen"]
[]
["Wandtyp 1.1.1_1","Wandtyp 1.1.1","Type of wall 1.1.1"]
["Wandtyp 1.1.1_2","Vorwand vor Massivwand - zweiseitig befestigt","Installation on a solid wall - fixed on both ends"]
["Wandtyp 1.1.1_3","Halbhoch, Höhe H ab OKFFB bis 855 mm","Medium high, Height H from FFL up to 855 mm"]
["Wandtyp 1.1.1_4","(Einbau Elemente nur bei Höhe H OKFFB 855 mm)","(Installation of elements only at Heigt H of 855 mm)"]
["Wandtyp 1.1.1_5","Wandbreite von 200 bis 5.000 mm","Length of wall from 200 up to 5.000 mm"]
["Wandtyp 1.1.1_6","Wandtiefe von 155 bis 215 mm","Depth of wall from 155 up to 215 mm"]
["Wandtyp 1.1.1_7","angegebene Abmessungen jeweils ohne Beplankung !","Dimensions given exclude the covering !"]
["Wandtyp 1.1.1_8","fließenfertige Oberfläche zzgl. 18 mm Beplankung","Facing prepared for tiling, plus 18 mm covering"]
["Wandtyp 1.1.1_9","Die Materialangaben enthalten keinen Fußbodenaufbau !","The material supply does not include any floor build-up !"]
["Wandtyp 1.1.2_1","Wandtyp 1.1.2","Type of wall 1.1.2"]
["Wandtyp 1.1.2_2","Vorwand vor Massivwand - zweiseitig befestigt","Installation on a solid wall - fixed on both ends"]
["Wandtyp 1.1.2_3","Halbhoch, Höhe H ab OKFFB bis 855 mm","Medium high, Height H from FFL up to 855 mm"]
["Wandtyp 1.1.2_4","(Einbau Elemente nur bei Höhe H OKFFB 855 mm)","(Installation of elements only at Heigt H of 855 mm)"]
["Wandtyp 1.1.2_5","Wandbreite von 200 bis 5.000 mm","Length of wall from 200 up to 5.000 mm"]
["Wandtyp 1.1.2_6","Wandtiefe von 255 bis 315 mm","Depth of wall from 255 up to 315 mm"]
["Wandtyp 1.1.2_7","angegebene Abmessungen jeweils ohne Beplankung !","Dimensions given exclude the covering !"]
["Wandtyp 1.1.2_8","fließenfertige Oberfläche zzgl. 18 mm Beplankung","Facing prepared for tiling, plus 18 mm covering"]
["Wandtyp 1.1.2_9","Die Materialangaben enthalten keinen Fußbodenaufbau !","The material supply does not include any floor build-up !"]
["Wandtyp 1.1.3_1","Wandtyp 1.1.3","Type of wall 1.1.3"]
["Wandtyp 1.1.3_2","Vorwand vor Massivwand - zweiseitig befestigt","Installation on a solid wall - fixed on both ends"]
["Wandtyp 1.1.3_3","Halbhoch, Höhe H ab OKFFB bis 855 mm","Medium high, Height H from FFL up to 855 mm"]
["Wandtyp 1.1.3_4","(Einbau Elemente nur bei Höhe H OKFFB 855 mm)","(Installation of elements only at Heigt H of 855 mm)"]
["Wandtyp 1.1.3_5","Wandbreite von 200 bis 5.000 mm","Length of wall from 200 up to 5.000 mm"]
["Wandtyp 1.1.3_6","Wandtiefe von 120 bis 600 mm","Depth of wall from 120 up to 600 mm"]
["Wandtyp 1.1.3_7","angegebene Abmessungen jeweils ohne Beplankung !","Dimensions given exclude the covering !"]
["Wandtyp 1.1.3_8","fließenfertige Oberfläche zzgl. 18 mm Beplankung","Facing prepared for tiling, plus 18 mm covering"]
["Wandtyp 1.1.3_9","Die Materialangaben enthalten keinen Fußbodenaufbau !","The material supply does not include any floor build-up !"]
["Wandtyp 1.1.4_1","Wandtyp 1.1.4","Type of wall 1.1.4"]
["Wandtyp 1.1.4_2","Vorwand vor Massivwand - zweiseitig befestigt","Installation on a solid wall - fixed on both ends"]
["Wandtyp 1.1.4_3","Halbhoch, Höhe H ab OKFFB von 855 bis 1.155 mm","Medium high, Height H from FFL from 855 up to 1.155 mm"]
["Wandtyp 1.1.4_4","(Einbau Elemente nur bei Höhen H OKFFB 855, 1020, 1155 mm)","(Installation of elements only at Heigts H of 855, 1020, 1155 mm)"]
["Wandtyp 1.1.4_5","Wandbreite von 200 bis 5.000 mm","Length of wall from 200 up to 5.000 mm"]
["Wandtyp 1.1.4_6","Wandtiefe von 155 bis 215 mm","Depth of wall from 155 up to 215 mm"]
["Wandtyp 1.1.4_7","angegebene Abmessungen jeweils ohne Beplankung !","Dimensions given exclude the covering !"]
["Wandtyp 1.1.4_8","fließenfertige Oberfläche zzgl. 18 mm Beplankung","Facing prepared for tiling, plus 18 mm covering"]
["Wandtyp 1.1.4_9","Die Materialangaben enthalten keinen Fußbodenaufbau !","The material supply does not include any floor build-up !"]
["Wandtyp 1.1.5_1","Wandtyp 1.1.5","Type of wall 1.1.5"]
["Wandtyp 1.1.5_2","Vorwand vor Massivwand - zweiseitig befestigt","Installation on a solid wall - fixed on both ends"]
["Wandtyp 1.1.5_3","Halbhoch, Höhe H ab OKFFB von 855 bis 1.155 mm","Medium high, Height H from FFL from 855 up to 1.155 mm"]
["Wandtyp 1.1.5_4","(Einbau Elemente nur bei Höhen H OKFFB 855, 1020, 1155 mm)","(Installation of elements only at Heigts H of 855, 1020, 1155 mm)"]
["Wandtyp 1.1.5_5","Wandbreite von 200 bis 5.000 mm","Length of wall from 200 up to 5.000 mm"]
["Wandtyp 1.1.5_6","Wandtiefe von 255 bis 315 mm","Depth of wall from 255 up to 315 mm"]
["Wandtyp 1.1.5_7","angegebene Abmessungen jeweils ohne Beplankung !","Dimensions given exclude the covering !"]
["Wandtyp 1.1.5_8","fließenfertige Oberfläche zzgl. 18 mm Beplankung","Facing prepared for tiling, plus 18 mm covering"]
["Wandtyp 1.1.5_9","Die Materialangaben enthalten keinen Fußbodenaufbau !","The material supply does not include any floor build-up !"]
["Wandtyp 1.1.6_1","Wandtyp 1.1.6","Type of wall 1.1.6"]
["Wandtyp 1.1.6_2","Vorwand vor Massivwand - zweiseitig befestigt","Installation on a solid wall - fixed on both ends"]
["Wandtyp 1.1.6_3","Halbhoch, Höhe H ab OKFFB von 855 bis 1.155 mm","Medium high, Height H from FFL from 855 up to 1.155 mm"]
["Wandtyp 1.1.6_4","(Einbau Elemente nur bei Höhen H OKFFB 855, 1020, 1155 mm)","(Installation of elements only at Heigts H of 855, 1020, 1155 mm)"]
["Wandtyp 1.1.6_5","Wandbreite von 200 bis 5.000 mm","Length of wall from 200 up to 5.000 mm"]
["Wandtyp 1.1.6_6","Wandtiefe von 120 bis 600 mm","Depth of wall from 120 up to 600 mm"]
["Wandtyp 1.1.6_7","angegebene Abmessungen jeweils ohne Beplankung !","Dimensions given exclude the covering !"]
["Wandtyp 1.1.6_8","fließenfertige Oberfläche zzgl. 18 mm Beplankung","Facing prepared for tiling, plus 18 mm covering"]
["Wandtyp 1.1.6_9","Die Materialangaben enthalten keinen Fußbodenaufbau !","The material supply does not include any floor build-up !"]
["Wandtyp 1.1.7_1","Wandtyp 1.1.7","Type of wall 1.1.7"]
["Wandtyp 1.1.7_2","Vorwand vor Massivwand - zweiseitig befestigt","Installation on a solid wall - fixed on both ends"]
["Wandtyp 1.1.7_3","Raumhoch, Höhe H ab OKFFB von 1.155 bis 2.600 mm","Room high, Height H from FFL from 1.155 up to 2.600 mm"]
["Wandtyp 1.1.7_4","(Einbau Elemente nur bei Höhe H OKFFB 1155 mm)","(Installation of elements only at Heigt H of 1155 mm)"]
["Wandtyp 1.1.7_5","Wandbreite von 200 bis 5.000 mm","Length of wall from 200 up to 5.000 mm"]
["Wandtyp 1.1.7_6","Wandtiefe von 155 bis 215 mm","Depth of wall from 155 up to 215 mm"]
["Wandtyp 1.1.7_7","angegebene Abmessungen jeweils ohne Beplankung !","Dimensions given exclude the covering !"]
["Wandtyp 1.1.7_8","fließenfertige Oberfläche zzgl. 18 mm Beplankung","Facing prepared for tiling, plus 18 mm covering"]
["Wandtyp 1.1.7_9","Die Materialangaben enthalten keinen Fußbodenaufbau !","The material supply does not include any floor build-up !"]
["Wandtyp 1.1.8_1","Wandtyp 1.1.8","Type of wall 1.1.8"]
["Wandtyp 1.1.8_2","Vorwand vor Massivwand - zweiseitig befestigt","Installation on a solid wall - fixed on both ends"]
["Wandtyp 1.1.8_3","Raumhoch, Höhe H ab OKFFB von 1.155 bis 2.600 mm","Room high, Height H from FFL from 1.155 up to 2.600 mm"]
["Wandtyp 1.1.8_4","(Einbau Elemente nur bei Höhe H OKFFB 1155 mm)","(Installation of elements only at Heigt H of 1155 mm)"]
["Wandtyp 1.1.8_5","Wandbreite von 200 bis 5.000 mm","Length of wall from 200 up to 5.000 mm"]
["Wandtyp 1.1.8_6","Wandtiefe von 255 bis 315 mm","Depth of wall from 255 up to 315 mm"]
["Wandtyp 1.1.8_7","angegebene Abmessungen jeweils ohne Beplankung !","Dimensions given exclude the covering !"]
["Wandtyp 1.1.8_8","fließenfertige Oberfläche zzgl. 18 mm Beplankung","Facing prepared for tiling, plus 18 mm covering"]
["Wandtyp 1.1.8_9","Die Materialangaben enthalten keinen Fußbodenaufbau !","The material supply does not include any floor build-up !"]
["Wandtyp 1.1.9_1","Wandtyp 1.1.9","Type of wall 1.1.9"]
["Wandtyp 1.1.9_2","Vorwand vor Massivwand - zweiseitig befestigt","Installation on a solid wall - fixed on both ends"]
["Wandtyp 1.1.9_3","Raumhoch, Höhe H ab OKFFB von 1.155 bis 2.600 mm","Room high, Height H from FFL from 1.155 up to 2.600 mm"]
["Wandtyp 1.1.9_4","(Einbau Elemente nur bei Höhe H OKFFB 1155 mm)","(Installation of elements only at Heigt H of 1155 mm)"]
["Wandtyp 1.1.9_5","Wandbreite von 200 bis 5.000 mm","Length of wall from 200 up to 5.000 mm"]
["Wandtyp 1.1.9_6","Wandtiefe von 120 bis 600 mm","Depth of wall from 120 up to 600 mm"]
["Wandtyp 1.1.9_7","angegebene Abmessungen jeweils ohne Beplankung !","Dimensions given exclude the covering !"]
["Wandtyp 1.1.9_8","fließenfertige Oberfläche zzgl. 18 mm Beplankung","Facing prepared for tiling, plus 18 mm covering"]
["Wandtyp 1.1.9_9","Die Materialangaben enthalten keinen Fußbodenaufbau !","The material supply does not include any floor build-up !"]
["Wandtyp 1.1.10_1","Wandtyp 1.1.10","Type of wall 1.1.10"]
["Wandtyp 1.1.10_2","Vorwand vor Massivwand - zweiseitig befestigt","Installation on a solid wall - fixed on both ends"]
["Wandtyp 1.1.10_3","Raumhoch, Höhe H ab OKFFB von 2.600 bis 3.300 mm","Room high, Height H from FFL from 2.600 up to 3.300 mm"]
["Wandtyp 1.1.10_4","(Einbau Elemente nur bei Höhe H OKFFB 1155 mm)","(Installation of elements only at Heigt H of 1155 mm)"]
["Wandtyp 1.1.10_5","Wandbreite von 200 bis 5.000 mm","Length of wall from 200 up to 5.000 mm"]
["Wandtyp 1.1.10_6","Wandtiefe von 155 bis 215 mm","Depth of wall from 155 up to 215 mm"]
["Wandtyp 1.1.10_7","angegebene Abmessungen jeweils ohne Beplankung !","Dimensions given exclude the covering !"]
["Wandtyp 1.1.10_8","fließenfertige Oberfläche zzgl. 18 mm Beplankung","Facing prepared for tiling, plus 18 mm covering"]
["Wandtyp 1.1.10_9","Die Materialangaben enthalten keinen Fußbodenaufbau !","The material supply does not include any floor build-up !"]
["Wandtyp 1.1.11_1","Wandtyp 1.1.11","Type of wall 1.1.11"]
["Wandtyp 1.1.11_2","Vorwand vor Massivwand - zweiseitig befestigt","Installation on a solid wall - fixed on both ends"]
["Wandtyp 1.1.11_3","Raumhoch, Höhe H ab OKFFB von 2.600 bis 3.300 mm","Room high, Height H from FFL from 2.600 up to 3.300 mm"]
["Wandtyp 1.1.11_4","(Einbau Elemente nur bei Höhe H OKFFB 1155 mm)","(Installation of elements only at Heigt H of 1155 mm)"]
["Wandtyp 1.1.11_5","Wandbreite von 200 bis 5.000 mm","Length of wall from 200 up to 5.000 mm"]
["Wandtyp 1.1.11_6","Wandtiefe von 255 bis 315 mm","Depth of wall from 255 up to 315 mm"]
["Wandtyp 1.1.11_7","angegebene Abmessungen jeweils ohne Beplankung !","Dimensions given exclude the covering !"]
["Wandtyp 1.1.11_8","fließenfertige Oberfläche zzgl. 18 mm Beplankung","Facing prepared for tiling, plus 18 mm covering"]
["Wandtyp 1.1.11_9","Die Materialangaben enthalten keinen Fußbodenaufbau !","The material supply does not include any floor build-up !"]
["Wandtyp 1.1.12_1","Wandtyp 1.1.12","Type of wall 1.1.12"]
["Wandtyp 1.1.12_2","Vorwand vor Massivwand - zweiseitig befestigt","Installation on a solid wall - fixed on both ends"]
["Wandtyp 1.1.12_3","Raumhoch, Höhe H ab OKFFB von 2.600 bis 3.300 mm","Room high, Height H from FFL from 2.600 up to 3.300 mm"]
["Wandtyp 1.1.12_4","(Einbau Elemente nur bei Höhe H OKFFB 1155 mm)","(Installation of elements only at Heigt H of 1155 mm)"]
["Wandtyp 1.1.12_5","Wandbreite von 200 bis 5.000 mm","Length of wall from 200 up to 5.000 mm"]
["Wandtyp 1.1.12_6","Wandtiefe von 120 bis 600 mm","Depth of wall from 120 up to 600 mm"]
["Wandtyp 1.1.12_7","angegebene Abmessungen jeweils ohne Beplankung !","Dimensions given exclude the covering !"]
["Wandtyp 1.1.12_8","fließenfertige Oberfläche zzgl. 18 mm Beplankung","Facing prepared for tiling, plus 18 mm covering"]
["Wandtyp 1.1.12_9","Die Materialangaben enthalten keinen Fußbodenaufbau !","The material supply does not include any floor build-up !"]
["Wandtyp 1.1.13_1","Wandtyp 1.1.13","Type of wall 1.1.13"]
["Wandtyp 1.1.13_2","Vorwand vor Massivwand - zweiseitig befestigt","Installation on a solid wall - fixed on both ends"]
["Wandtyp 1.1.13_3","Raumhoch, Höhe H ab OKFFB von 3.300 bis 3.900 mm","Room high, Height H from FFL from 3.300 up to 3.900 mm"]
["Wandtyp 1.1.13_4","(Einbau Elemente nur bei Höhe H OKFFB 1155 mm)","(Installation of elements only at Heigt H of 1155 mm)"]
["Wandtyp 1.1.13_5","Wandbreite von 200 bis 5.000 mm","Length of wall from 200 up to 5.000 mm"]
["Wandtyp 1.1.13_6","Wandtiefe von 155 bis 215 mm","Depth of wall from 155 up to 215 mm"]
["Wandtyp 1.1.13_7","angegebene Abmessungen jeweils ohne Beplankung !","Dimensions given exclude the covering !"]
["Wandtyp 1.1.13_8","fließenfertige Oberfläche zzgl. 18 mm Beplankung","Facing prepared for tiling, plus 18 mm covering"]
["Wandtyp 1.1.13_9","Die Materialangaben enthalten keinen Fußbodenaufbau !","The material supply does not include any floor build-up !"]
["Wandtyp 1.1.14_1","Wandtyp 1.1.14","Type of wall 1.1.14"]
["Wandtyp 1.1.14_2","Vorwand vor Massivwand - zweiseitig befestigt","Installation on a solid wall - fixed on both ends"]
["Wandtyp 1.1.14_3","Raumhoch, Höhe H ab OKFFB von 3.300 bis 3.900 mm","Room high, Height H from FFL from 3.300 up to 3.900 mm"]
["Wandtyp 1.1.14_4","(Einbau Elemente nur bei Höhe H OKFFB 1155 mm)","(Installation of elements only at Heigt H of 1155 mm)"]
["Wandtyp 1.1.14_5","Wandbreite von 200 bis 5.000 mm","Length of wall from 200 up to 5.000 mm"]
["Wandtyp 1.1.14_6","Wandtiefe von 255 bis 315 mm","Depth of wall from 255 up to 315 mm"]
["Wandtyp 1.1.14_7","angegebene Abmessungen jeweils ohne Beplankung !","Dimensions given exclude the covering !"]
["Wandtyp 1.1.14_8","fließenfertige Oberfläche zzgl. 18 mm Beplankung","Facing prepared for tiling, plus 18 mm covering"]
["Wandtyp 1.1.14_9","Die Materialangaben enthalten keinen Fußbodenaufbau !","The material supply does not include any floor build-up !"]
["Wandtyp 1.1.15_1","Wandtyp 1.1.15","Type of wall 1.1.15"]
["Wandtyp 1.1.15_2","Vorwand vor Massivwand - zweiseitig befestigt","Installation on a solid wall - fixed on both ends"]
["Wandtyp 1.1.15_3","Raumhoch, Höhe H ab OKFFB von 3.300 bis 3.900 mm","Room high, Height H from FFL from 3.300 up to 3.900 mm"]
["Wandtyp 1.1.15_4","(Einbau Elemente nur bei Höhe H OKFFB 1155 mm)","(Installation of elements only at Heigt H of 1155 mm)"]
["Wandtyp 1.1.15_5","Wandbreite von 200 bis 5.000 mm","Length of wall from 200 up to 5.000 mm"]
["Wandtyp 1.1.15_6","Wandtiefe von 120 bis 600 mm","Depth of wall from 120 up to 600 mm"]
["Wandtyp 1.1.15_7","angegebene Abmessungen jeweils ohne Beplankung !","Dimensions given exclude the covering !"]
["Wandtyp 1.1.15_8","fließenfertige Oberfläche zzgl. 18 mm Beplankung","Facing prepared for tiling, plus 18 mm covering"]
["Wandtyp 1.1.15_9","Die Materialangaben enthalten keinen Fußbodenaufbau !","The material supply does not include any floor build-up !"]
["Wandtyp 1.2.1_1","Wandtyp 1.2.1","Type of wall 1.2.1"]
["Wandtyp 1.2.1_2","Vorwand vor Massivwand - einseitig befestigt","Installation on a solid wall - one side fixing"]
["Wandtyp 1.2.1_3","Halbhoch, Höhe H ab OKFFB bis 855 mm","Medium high, Height H from FFL up to 855 mm"]
["Wandtyp 1.2.1_4","(Einbau Elemente nur bei Höhe H OKFFB 855 mm)","(Installation of elements only at Heigt H of 855 mm)"]
["Wandtyp 1.2.1_5","Wandbreite von 200 bis 5.000 mm","Length of wall from 200 up to 5.000 mm"]
["Wandtyp 1.2.1_6","Wandtiefe von 155 bis 215 mm","Depth of wall from 155 up to 215 mm"]
["Wandtyp 1.2.1_7","angegebene Abmessungen jeweils ohne Beplankung !","Dimensions given exclude the covering !"]
["Wandtyp 1.2.1_8","fließenfertige Oberfläche zzgl. 18 mm Beplankung","Facing prepared for tiling, plus 18 mm covering"]
["Wandtyp 1.2.1_9","Die Materialangaben enthalten keinen Fußbodenaufbau !","The material supply does not include any floor build-up !"]
["Wandtyp 1.2.2_1","Wandtyp 1.2.2","Type of wall 1.2.2"]
["Wandtyp 1.2.2_2","Vorwand vor Massivwand - einseitig befestigt","Installation on a solid wall - one side fixing"]
["Wandtyp 1.2.2_3","Halbhoch, Höhe H ab OKFFB bis 855 mm","Medium high, Height H from FFL up to 855 mm"]
["Wandtyp 1.2.2_4","(Einbau Elemente nur bei Höhe H OKFFB 855 mm)","(Installation of elements only at Heigt H of 855 mm)"]
["Wandtyp 1.2.2_5","Wandbreite von 200 bis 5.000 mm","Length of wall from 200 up to 5.000 mm"]
["Wandtyp 1.2.2_6","Wandtiefe von 255 bis 315 mm","Depth of wall from 255 up to 315 mm"]
["Wandtyp 1.2.2_7","angegebene Abmessungen jeweils ohne Beplankung !","Dimensions given exclude the covering !"]
["Wandtyp 1.2.2_8","fließenfertige Oberfläche zzgl. 18 mm Beplankung","Facing prepared for tiling, plus 18 mm covering"]
["Wandtyp 1.2.2_9","Die Materialangaben enthalten keinen Fußbodenaufbau !","The material supply does not include any floor build-up !"]
["Wandtyp 1.2.3_1","Wandtyp 1.2.3","Type of wall 1.2.3"]
["Wandtyp 1.2.3_2","Vorwand vor Massivwand - einseitig befestigt","Installation on a solid wall - one side fixing"]
["Wandtyp 1.2.3_3","Halbhoch, Höhe H ab OKFFB bis 855 mm","Medium high, Height H from FFL up to 855 mm"]
["Wandtyp 1.2.3_4","(Einbau Elemente nur bei Höhe H OKFFB 855 mm)","(Installation of elements only at Heigt H of 855 mm)"]
["Wandtyp 1.2.3_5","Wandbreite von 200 bis 5.000 mm","Length of wall from 200 up to 5.000 mm"]
["Wandtyp 1.2.3_6","Wandtiefe von 120 bis 600 mm","Depth of wall from 120 up to 600 mm"]
["Wandtyp 1.2.3_7","angegebene Abmessungen jeweils ohne Beplankung !","Dimensions given exclude the covering !"]
["Wandtyp 1.2.3_8","fließenfertige Oberfläche zzgl. 18 mm Beplankung","Facing prepared for tiling, plus 18 mm covering"]
["Wandtyp 1.2.3_9","Die Materialangaben enthalten keinen Fußbodenaufbau !","The material supply does not include any floor build-up !"]
["Wandtyp 1.2.4_1","Wandtyp 1.2.4","Type of wall 1.2.4"]
["Wandtyp 1.2.4_2","Vorwand vor Massivwand - einseitig befestigt","Installation on a solid wall - one side fixing"]
["Wandtyp 1.2.4_3","Halbhoch, Höhe H ab OKFFB von 855 bis 1.155 mm","Medium high, Height H from FFL from 855 up to 1.155 mm"]
["Wandtyp 1.2.4_4","(Einbau Elemente nur bei Höhen H OKFFB 855, 1020, 1155 mm)","(Installation of elements only at Heigts H of 855, 1020, 1155 mm)"]
["Wandtyp 1.2.4_5","Wandbreite von 200 bis 5.000 mm","Length of wall from 200 up to 5.000 mm"]
["Wandtyp 1.2.4_6","Wandtiefe von 155 bis 215 mm","Depth of wall from 155 up to 215 mm"]
["Wandtyp 1.2.4_7","angegebene Abmessungen jeweils ohne Beplankung !","Dimensions given exclude the covering !"]
["Wandtyp 1.2.4_8","fließenfertige Oberfläche zzgl. 18 mm Beplankung","Facing prepared for tiling, plus 18 mm covering"]
["Wandtyp 1.2.4_9","Die Materialangaben enthalten keinen Fußbodenaufbau !","The material supply does not include any floor build-up !"]
["Wandtyp 1.2.5_1","Wandtyp 1.2.5","Type of wall 1.2.5"]
["Wandtyp 1.2.5_2","Vorwand vor Massivwand - einseitig befestigt","Installation on a solid wall - one side fixing"]
["Wandtyp 1.2.5_3","Halbhoch, Höhe H ab OKFFB von 855 bis 1.155 mm","Medium high, Height H from FFL from 855 up to 1.155 mm"]
["Wandtyp 1.2.5_4","(Einbau Elemente nur bei Höhen H OKFFB 855, 1020, 1155 mm)","(Installation of elements only at Heigts H of 855, 1020, 1155 mm)"]
["Wandtyp 1.2.5_5","Wandbreite von 200 bis 5.000 mm","Length of wall from 200 up to 5.000 mm"]
["Wandtyp 1.2.5_6","Wandtiefe von 255 bis 315 mm","Depth of wall from 255 up to 315 mm"]
["Wandtyp 1.2.5_7","angegebene Abmessungen jeweils ohne Beplankung !","Dimensions given exclude the covering !"]
["Wandtyp 1.2.5_8","fließenfertige Oberfläche zzgl. 18 mm Beplankung","Facing prepared for tiling, plus 18 mm covering"]
["Wandtyp 1.2.5_9","Die Materialangaben enthalten keinen Fußbodenaufbau !","The material supply does not include any floor build-up !"]
["Wandtyp 1.2.6_1","Wandtyp 1.2.6","Type of wall 1.2.6"]
["Wandtyp 1.2.6_2","Vorwand vor Massivwand - einseitig befestigt","Installation on a solid wall - one side fixing"]
["Wandtyp 1.2.6_3","Halbhoch, Höhe H ab OKFFB von 855 bis 1.155 mm","Medium high, Height H from FFL from 855 up to 1.155 mm"]
["Wandtyp 1.2.6_4","(Einbau Elemente nur bei Höhen H OKFFB 855, 1020, 1155 mm)","(Installation of elements only at Heigts H of 855, 1020, 1155 mm)"]
["Wandtyp 1.2.6_5","Wandbreite von 200 bis 5.000 mm","Length of wall from 200 up to 5.000 mm"]
["Wandtyp 1.2.6_6","Wandtiefe von 120 bis 600 mm","Depth of wall from 120 up to 600 mm"]
["Wandtyp 1.2.6_7","angegebene Abmessungen jeweils ohne Beplankung !","Dimensions given exclude the covering !"]
["Wandtyp 1.2.6_8","fließenfertige Oberfläche zzgl. 18 mm Beplankung","Facing prepared for tiling, plus 18 mm covering"]
["Wandtyp 1.2.6_9","Die Materialangaben enthalten keinen Fußbodenaufbau !","The material supply does not include any floor build-up !"]
["Wandtyp 1.2.7_1","Wandtyp 1.2.7","Type of wall 1.2.7"]
["Wandtyp 1.2.7_2","Vorwand vor Massivwand - einseitig befestigt","Installation on a solid wall - one side fixing"]
["Wandtyp 1.2.7_3","Raumhoch, Höhe H ab OKFFB von 1.155 bis 2.600 mm","Room high, Height H from FFL from 1.155 up to 2.600 mm"]
["Wandtyp 1.2.7_4","(Einbau Elemente nur bei Höhe H OKFFB 1155 mm)","(Installation of elements only at Heigt H of 1155 mm)"]
["Wandtyp 1.2.7_5","Wandbreite von 200 bis 5.000 mm","Length of wall from 200 up to 5.000 mm"]
["Wandtyp 1.2.7_6","Wandtiefe von 155 bis 215 mm","Depth of wall from 155 up to 215 mm"]
["Wandtyp 1.2.7_7","angegebene Abmessungen jeweils ohne Beplankung !","Dimensions given exclude the covering !"]
["Wandtyp 1.2.7_8","fließenfertige Oberfläche zzgl. 18 mm Beplankung","Facing prepared for tiling, plus 18 mm covering"]
["Wandtyp 1.2.7_9","Die Materialangaben enthalten keinen Fußbodenaufbau !","The material supply does not include any floor build-up !"]
["Wandtyp 1.2.8_1","Wandtyp 1.2.8","Type of wall 1.2.8"]
["Wandtyp 1.2.8_2","Vorwand vor Massivwand - einseitig befestigt","Installation on a solid wall - one side fixing"]
["Wandtyp 1.2.8_3","Raumhoch, Höhe H ab OKFFB von 1.155 bis 2.600 mm","Room high, Height H from FFL from 1.155 up to 2.600 mm"]
["Wandtyp 1.2.8_4","(Einbau Elemente nur bei Höhe H OKFFB 1155 mm)","(Installation of elements only at Heigt H of 1155 mm)"]
["Wandtyp 1.2.8_5","Wandbreite von 200 bis 5.000 mm","Length of wall from 200 up to 5.000 mm"]
["Wandtyp 1.2.8_6","Wandtiefe von 255 bis 315 mm","Depth of wall from 255 up to 315 mm"]
["Wandtyp 1.2.8_7","angegebene Abmessungen jeweils ohne Beplankung !","Dimensions given exclude the covering !"]
["Wandtyp 1.2.8_8","fließenfertige Oberfläche zzgl. 18 mm Beplankung","Facing prepared for tiling, plus 18 mm covering"]
["Wandtyp 1.2.8_9","Die Materialangaben enthalten keinen Fußbodenaufbau !","The material supply does not include any floor build-up !"]
["Wandtyp 1.2.9_1","Wandtyp 1.2.9","Type of wall 1.2.9"]
["Wandtyp 1.2.9_2","Vorwand vor Massivwand - einseitig befestigt","Installation on a solid wall - one side fixing"]
["Wandtyp 1.2.9_3","Raumhoch, Höhe H ab OKFFB von 1.155 bis 2.600 mm","Room high, Height H from FFL from 1.155 up to 2.600 mm"]
["Wandtyp 1.2.9_4","(Einbau Elemente nur bei Höhe H OKFFB 1155 mm)","(Installation of elements only at Heigt H of 1155 mm)"]
["Wandtyp 1.2.9_5","Wandbreite von 200 bis 5.000 mm","Length of wall from 200 up to 5.000 mm"]
["Wandtyp 1.2.9_6","Wandtiefe von 120 bis 600 mm","Depth of wall from 120 up to 600 mm"]
["Wandtyp 1.2.9_7","angegebene Abmessungen jeweils ohne Beplankung !","Dimensions given exclude the covering !"]
["Wandtyp 1.2.9_8","fließenfertige Oberfläche zzgl. 18 mm Beplankung","Facing prepared for tiling, plus 18 mm covering"]
["Wandtyp 1.2.9_9","Die Materialangaben enthalten keinen Fußbodenaufbau !","The material supply does not include any floor build-up !"]
["Wandtyp 1.2.10_1","Wandtyp 1.2.10","Type of wall 1.2.10"]
["Wandtyp 1.2.10_2","Vorwand vor Massivwand - einseitig befestigt","Installation on a solid wall - one side fixing"]
["Wandtyp 1.2.10_3","Raumhoch, Höhe H ab OKFFB von 2.600 bis 3.300 mm","Room high, Height H from FFL from 2.600 up to 3.300 mm"]
["Wandtyp 1.2.10_4","(Einbau Elemente nur bei Höhe H OKFFB 1155 mm)","(Installation of elements only at Heigt H of 1155 mm)"]
["Wandtyp 1.2.10_5","Wandbreite von 200 bis 5.000 mm","Length of wall from 200 up to 5.000 mm"]
["Wandtyp 1.2.10_6","Wandtiefe von 155 bis 215 mm","Depth of wall from 155 up to 215 mm"]
["Wandtyp 1.2.10_7","angegebene Abmessungen jeweils ohne Beplankung !","Dimensions given exclude the covering !"]
["Wandtyp 1.2.10_8","fließenfertige Oberfläche zzgl. 18 mm Beplankung","Facing prepared for tiling, plus 18 mm covering"]
["Wandtyp 1.2.10_9","Die Materialangaben enthalten keinen Fußbodenaufbau !","The material supply does not include any floor build-up !"]
["Wandtyp 1.2.11_1","Wandtyp 1.2.11","Type of wall 1.2.11"]
["Wandtyp 1.2.11_2","Vorwand vor Massivwand - einseitig befestigt","Installation on a solid wall - one side fixing"]
["Wandtyp 1.2.11_3","Raumhoch, Höhe H ab OKFFB von 2.600 bis 3.300 mm","Room high, Height H from FFL from 2.600 up to 3.300 mm"]
["Wandtyp 1.2.11_4","(Einbau Elemente nur bei Höhe H OKFFB 1155 mm)","(Installation of elements only at Heigt H of 1155 mm)"]
["Wandtyp 1.2.11_5","Wandbreite von 200 bis 5.000 mm","Length of wall from 200 up to 5.000 mm"]
["Wandtyp 1.2.11_6","Wandtiefe von 255 bis 315 mm","Depth of wall from 255 up to 315 mm"]
["Wandtyp 1.2.11_7","angegebene Abmessungen jeweils ohne Beplankung !","Dimensions given exclude the covering !"]
["Wandtyp 1.2.11_8","fließenfertige Oberfläche zzgl. 18 mm Beplankung","Facing prepared for tiling, plus 18 mm covering"]
["Wandtyp 1.2.11_9","Die Materialangaben enthalten keinen Fußbodenaufbau !","The material supply does not include any floor build-up !"]
["Wandtyp 1.2.12_1","Wandtyp 1.2.12","Type of wall 1.2.12"]
["Wandtyp 1.2.12_2","Vorwand vor Massivwand - einseitig befestigt","Installation on a solid wall - one side fixing"]
["Wandtyp 1.2.12_3","Raumhoch, Höhe H ab OKFFB von 2.600 bis 3.300 mm","Room high, Height H from FFL from 2.600 up to 3.300 mm"]
["Wandtyp 1.2.12_4","(Einbau Elemente nur bei Höhe H OKFFB 1155 mm)","(Installation of elements only at Heigt H of 1155 mm)"]
["Wandtyp 1.2.12_5","Wandbreite von 200 bis 5.000 mm","Length of wall from 200 up to 5.000 mm"]
["Wandtyp 1.2.12_6","Wandtiefe von 120 bis 600 mm","Depth of wall from 120 up to 600 mm"]
["Wandtyp 1.2.12_7","angegebene Abmessungen jeweils ohne Beplankung !","Dimensions given exclude the covering !"]
["Wandtyp 1.2.12_8","fließenfertige Oberfläche zzgl. 18 mm Beplankung","Facing prepared for tiling, plus 18 mm covering"]
["Wandtyp 1.2.12_9","Die Materialangaben enthalten keinen Fußbodenaufbau !","The material supply does not include any floor build-up !"]
["Wandtyp 1.2.13_1","Wandtyp 1.2.13","Type of wall 1.2.13"]
["Wandtyp 1.2.13_2","Vorwand vor Massivwand - einseitig befestigt","Installation on a solid wall - one side fixing"]
["Wandtyp 1.2.13_3","Raumhoch, Höhe H ab OKFFB von 3.300 bis 3.900 mm","Room high, Height H from FFL from 3.300 up to 3.900 mm"]
["Wandtyp 1.2.13_4","(Einbau Elemente nur bei Höhe H OKFFB 1155 mm)","(Installation of elements only at Heigt H of 1155 mm)"]
["Wandtyp 1.2.13_5","Wandbreite von 200 bis 5.000 mm","Length of wall from 200 up to 5.000 mm"]
["Wandtyp 1.2.13_6","Wandtiefe von 155 bis 215 mm","Depth of wall from 155 up to 215 mm"]
["Wandtyp 1.2.13_7","angegebene Abmessungen jeweils ohne Beplankung !","Dimensions given exclude the covering !"]
["Wandtyp 1.2.13_8","fließenfertige Oberfläche zzgl. 18 mm Beplankung","Facing prepared for tiling, plus 18 mm covering"]
["Wandtyp 1.2.13_9","Die Materialangaben enthalten keinen Fußbodenaufbau !","The material supply does not include any floor build-up !"]
["Wandtyp 1.2.14_1","Wandtyp 1.2.14","Type of wall 1.2.14"]
["Wandtyp 1.2.14_2","Vorwand vor Massivwand - einseitig befestigt","Installation on a solid wall - one side fixing"]
["Wandtyp 1.2.14_3","Raumhoch, Höhe H ab OKFFB von 3.300 bis 3.900 mm","Room high, Height H from FFL from 3.300 up to 3.900 mm"]
["Wandtyp 1.2.14_4","(Einbau Elemente nur bei Höhe H OKFFB 1155 mm)","(Installation of elements only at Heigt H of 1155 mm)"]
["Wandtyp 1.2.14_5","Wandbreite von 200 bis 5.000 mm","Length of wall from 200 up to 5.000 mm"]
["Wandtyp 1.2.14_6","Wandtiefe von 255 bis 315 mm","Depth of wall from 255 up to 315 mm"]
["Wandtyp 1.2.14_7","angegebene Abmessungen jeweils ohne Beplankung !","Dimensions given exclude the covering !"]
["Wandtyp 1.2.14_8","fließenfertige Oberfläche zzgl. 18 mm Beplankung","Facing prepared for tiling, plus 18 mm covering"]
["Wandtyp 1.2.14_9","Die Materialangaben enthalten keinen Fußbodenaufbau !","The material supply does not include any floor build-up !"]
["Wandtyp 1.2.15_1","Wandtyp 1.2.15","Type of wall 1.2.15"]
["Wandtyp 1.2.15_2","Vorwand vor Massivwand - einseitig befestigt","Installation on a solid wall - one side fixing"]
["Wandtyp 1.2.15_3","Raumhoch, Höhe H ab OKFFB von 3.300 bis 3.900 mm","Room high, Height H from FFL from 3.300 up to 3.900 mm"]
["Wandtyp 1.2.15_4","(Einbau Elemente nur bei Höhe H OKFFB 1155 mm)","(Installation of elements only at Heigt H of 1155 mm)"]
["Wandtyp 1.2.15_5","Wandbreite von 200 bis 5.000 mm","Length of wall from 200 up to 5.000 mm"]
["Wandtyp 1.2.15_6","Wandtiefe von 120 bis 600 mm","Depth of wall from 120 up to 600 mm"]
["Wandtyp 1.2.15_7","angegebene Abmessungen jeweils ohne Beplankung !","Dimensions given exclude the covering !"]
["Wandtyp 1.2.15_8","fließenfertige Oberfläche zzgl. 18 mm Beplankung","Facing prepared for tiling, plus 18 mm covering"]
["Wandtyp 1.2.15_9","Die Materialangaben enthalten keinen Fußbodenaufbau !","The material supply does not include any floor build-up !"]
["Wandtyp 1.3.1_1","Wandtyp 1.3.1","Type of wall 1.3.1"]
["Wandtyp 1.3.1_2","Vorwand vor Massivwand - ohne seitliche Befestigung","Installation on a solid wall - without side fixing"]
["Wandtyp 1.3.1_3","Halbhoch, Höhe H ab OKFFB bis 855 mm","Medium high, Height H from FFL up to 855 mm"]
["Wandtyp 1.3.1_4","(Einbau Elemente nur bei Höhe H OKFFB 855 mm)","(Installation of elements only at Heigt H of 855 mm)"]
["Wandtyp 1.3.1_5","Wandbreite von 200 bis 5.000 mm","Length of wall from 200 up to 5.000 mm"]
["Wandtyp 1.3.1_6","Wandtiefe von 155 bis 215 mm","Depth of wall from 155 up to 215 mm"]
["Wandtyp 1.3.1_7","angegebene Abmessungen jeweils ohne Beplankung !","Dimensions given exclude the covering !"]
["Wandtyp 1.3.1_8","fließenfertige Oberfläche zzgl. 18 mm Beplankung","Facing prepared for tiling, plus 18 mm covering"]
["Wandtyp 1.3.1_9","Die Materialangaben enthalten keinen Fußbodenaufbau !","The material supply does not include any floor build-up !"]
["Wandtyp 1.3.2_1","Wandtyp 1.3.2","Type of wall 1.3.2"]
["Wandtyp 1.3.2_2","Vorwand vor Massivwand - ohne seitliche Befestigung","Installation on a solid wall - without side fixing"]
["Wandtyp 1.3.2_3","Halbhoch, Höhe H ab OKFFB bis 855 mm","Medium high, Height H from FFL up to 855 mm"]
["Wandtyp 1.3.2_4","(Einbau Elemente nur bei Höhe H OKFFB 855 mm)","(Installation of elements only at Heigt H of 855 mm)"]
["Wandtyp 1.3.2_5","Wandbreite von 200 bis 5.000 mm","Length of wall from 200 up to 5.000 mm"]
["Wandtyp 1.3.2_6","Wandtiefe von 255 bis 315 mm","Depth of wall from 255 up to 315 mm"]
["Wandtyp 1.3.2_7","angegebene Abmessungen jeweils ohne Beplankung !","Dimensions given exclude the covering !"]
["Wandtyp 1.3.2_8","fließenfertige Oberfläche zzgl. 18 mm Beplankung","Facing prepared for tiling, plus 18 mm covering"]
["Wandtyp 1.3.2_9","Die Materialangaben enthalten keinen Fußbodenaufbau !","The material supply does not include any floor build-up !"]
["Wandtyp 1.3.3_1","Wandtyp 1.3.3","Type of wall 1.3.3"]
["Wandtyp 1.3.3_2","Vorwand vor Massivwand - ohne seitliche Befestigung","Installation on a solid wall - without side fixing"]
["Wandtyp 1.3.3_3","Halbhoch, Höhe H ab OKFFB bis 855 mm","Medium high, Height H from FFL up to 855 mm"]
["Wandtyp 1.3.3_4","(Einbau Elemente nur bei Höhe H OKFFB 855 mm)","(Installation of elements only at Heigt H of 855 mm)"]
["Wandtyp 1.3.3_5","Wandbreite von 200 bis 5.000 mm","Length of wall from 200 up to 5.000 mm"]
["Wandtyp 1.3.3_6","Wandtiefe von 120 bis 600 mm","Depth of wall from 120 up to 600 mm"]
["Wandtyp 1.3.3_7","angegebene Abmessungen jeweils ohne Beplankung !","Dimensions given exclude the covering !"]
["Wandtyp 1.3.3_8","fließenfertige Oberfläche zzgl. 18 mm Beplankung","Facing prepared for tiling, plus 18 mm covering"]
["Wandtyp 1.3.3_9","Die Materialangaben enthalten keinen Fußbodenaufbau !","The material supply does not include any floor build-up !"]
["Wandtyp 1.3.4_1","Wandtyp 1.3.4","Type of wall 1.3.4"]
["Wandtyp 1.3.4_2","Vorwand vor Massivwand - ohne seitliche Befestigung","Installation on a solid wall - without side fixing"]
["Wandtyp 1.3.4_3","Halbhoch, Höhe H ab OKFFB von 855 bis 1.155 mm","Medium high, Height H from FFL from 855 up to 1.155 mm"]
["Wandtyp 1.3.4_4","(Einbau Elemente nur bei Höhen H OKFFB 855, 1020, 1155 mm)","(Installation of elements only at Heigts H of 855, 1020, 1155 mm)"]
["Wandtyp 1.3.4_5","Wandbreite von 200 bis 5.000 mm","Length of wall from 200 up to 5.000 mm"]
["Wandtyp 1.3.4_6","Wandtiefe von 155 bis 215 mm","Depth of wall from 155 up to 215 mm"]
["Wandtyp 1.3.4_7","angegebene Abmessungen jeweils ohne Beplankung !","Dimensions given exclude the covering !"]
["Wandtyp 1.3.4_8","fließenfertige Oberfläche zzgl. 18 mm Beplankung","Facing prepared for tiling, plus 18 mm covering"]
["Wandtyp 1.3.4_9","Die Materialangaben enthalten keinen Fußbodenaufbau !","The material supply does not include any floor build-up !"]
["Wandtyp 1.3.5_1","Wandtyp 1.3.5","Type of wall 1.3.5"]
["Wandtyp 1.3.5_2","Vorwand vor Massivwand - ohne seitliche Befestigung","Installation on a solid wall - without side fixing"]
["Wandtyp 1.3.5_3","Halbhoch, Höhe H ab OKFFB von 855 bis 1.155 mm","Medium high, Height H from FFL from 855 up to 1.155 mm"]
["Wandtyp 1.3.5_4","(Einbau Elemente nur bei Höhen H OKFFB 855, 1020, 1155 mm)","(Installation of elements only at Heigts H of 855, 1020, 1155 mm)"]
["Wandtyp 1.3.5_5","Wandbreite von 200 bis 5.000 mm","Length of wall from 200 up to 5.000 mm"]
["Wandtyp 1.3.5_6","Wandtiefe von 255 bis 315 mm","Depth of wall from 255 up to 315 mm"]
["Wandtyp 1.3.5_7","angegebene Abmessungen jeweils ohne Beplankung !","Dimensions given exclude the covering !"]
["Wandtyp 1.3.5_8","fließenfertige Oberfläche zzgl. 18 mm Beplankung","Facing prepared for tiling, plus 18 mm covering"]
["Wandtyp 1.3.5_9","Die Materialangaben enthalten keinen Fußbodenaufbau !","The material supply does not include any floor build-up !"]
["Wandtyp 1.3.6_1","Wandtyp 1.3.6","Type of wall 1.3.6"]
["Wandtyp 1.3.6_2","Vorwand vor Massivwand - ohne seitliche Befestigung","Installation on a solid wall - without side fixing"]
["Wandtyp 1.3.6_3","Halbhoch, Höhe H ab OKFFB von 855 bis 1.155 mm","Medium high, Height H from FFL from 855 up to 1.155 mm"]
["Wandtyp 1.3.6_4","(Einbau Elemente nur bei Höhen H OKFFB 855, 1020, 1155 mm)","(Installation of elements only at Heigts H of 855, 1020, 1155 mm)"]
["Wandtyp 1.3.6_5","Wandbreite von 200 bis 5.000 mm","Length of wall from 200 up to 5.000 mm"]
["Wandtyp 1.3.6_6","Wandtiefe von 120 bis 600 mm","Depth of wall from 120 up to 600 mm"]
["Wandtyp 1.3.6_7","angegebene Abmessungen jeweils ohne Beplankung !","Dimensions given exclude the covering !"]
["Wandtyp 1.3.6_8","fließenfertige Oberfläche zzgl. 18 mm Beplankung","Facing prepared for tiling, plus 18 mm covering"]
["Wandtyp 1.3.6_9","Die Materialangaben enthalten keinen Fußbodenaufbau !","The material supply does not include any floor build-up !"]
["Wandtyp 1.3.7_1","Wandtyp 1.3.7","Type of wall 1.3.7"]
["Wandtyp 1.3.7_2","Vorwand vor Massivwand - ohne seitliche Befestigung","Installation on a solid wall - without side fixing"]
["Wandtyp 1.3.7_3","Raumhoch, Höhe H ab OKFFB von 1.155 bis 2.600 mm","Room high, Height H from FFL from 1.155 up to 2.600 mm"]
["Wandtyp 1.3.7_4","(Einbau Elemente nur bei Höhe H OKFFB 1155 mm)","(Installation of elements only at Heigt H of 1155 mm)"]
["Wandtyp 1.3.7_5","Wandbreite von 200 bis 5.000 mm","Length of wall from 200 up to 5.000 mm"]
["Wandtyp 1.3.7_6","Wandtiefe von 155 bis 215 mm","Depth of wall from 155 up to 215 mm"]
["Wandtyp 1.3.7_7","angegebene Abmessungen jeweils ohne Beplankung !","Dimensions given exclude the covering !"]
["Wandtyp 1.3.7_8","fließenfertige Oberfläche zzgl. 18 mm Beplankung","Facing prepared for tiling, plus 18 mm covering"]
["Wandtyp 1.3.7_9","Die Materialangaben enthalten keinen Fußbodenaufbau !","The material supply does not include any floor build-up !"]
["Wandtyp 1.3.8_1","Wandtyp 1.3.8","Type of wall 1.3.8"]
["Wandtyp 1.3.8_2","Vorwand vor Massivwand - ohne seitliche Befestigung","Installation on a solid wall - without side fixing"]
["Wandtyp 1.3.8_3","Raumhoch, Höhe H ab OKFFB von 1.155 bis 2.600 mm","Room high, Height H from FFL from 1.155 up to 2.600 mm"]
["Wandtyp 1.3.8_4","(Einbau Elemente nur bei Höhe H OKFFB 1155 mm)","(Installation of elements only at Heigt H of 1155 mm)"]
["Wandtyp 1.3.8_5","Wandbreite von 200 bis 5.000 mm","Length of wall from 200 up to 5.000 mm"]
["Wandtyp 1.3.8_6","Wandtiefe von 255 bis 315 mm","Depth of wall from 255 up to 315 mm"]
["Wandtyp 1.3.8_7","angegebene Abmessungen jeweils ohne Beplankung !","Dimensions given exclude the covering !"]
["Wandtyp 1.3.8_8","fließenfertige Oberfläche zzgl. 18 mm Beplankung","Facing prepared for tiling, plus 18 mm covering"]
["Wandtyp 1.3.8_9","Die Materialangaben enthalten keinen Fußbodenaufbau !","The material supply does not include any floor build-up !"]
["Wandtyp 1.3.9_1","Wandtyp 1.3.9","Type of wall 1.3.9"]
["Wandtyp 1.3.9_2","Vorwand vor Massivwand - ohne seitliche Befestigung","Installation on a solid wall - without side fixing"]
["Wandtyp 1.3.9_3","Raumhoch, Höhe H ab OKFFB von 1.155 bis 2.600 mm","Room high, Height H from FFL from 1.155 up to 2.600 mm"]
["Wandtyp 1.3.9_4","(Einbau Elemente nur bei Höhe H OKFFB 1155 mm)","(Installation of elements only at Heigt H of 1155 mm)"]
["Wandtyp 1.3.9_5","Wandbreite von 200 bis 5.000 mm","Length of wall from 200 up to 5.000 mm"]
["Wandtyp 1.3.9_6","Wandtiefe von 120 bis 600 mm","Depth of wall from 120 up to 600 mm"]
["Wandtyp 1.3.9_7","angegebene Abmessungen jeweils ohne Beplankung !","Dimensions given exclude the covering !"]
["Wandtyp 1.3.9_8","fließenfertige Oberfläche zzgl. 18 mm Beplankung","Facing prepared for tiling, plus 18 mm covering"]
["Wandtyp 1.3.9_9","Die Materialangaben enthalten keinen Fußbodenaufbau !","The material supply does not include any floor build-up !"]
["Wandtyp 1.3.10_1","Wandtyp 1.3.10","Type of wall 1.3.10"]
["Wandtyp 1.3.10_2","Vorwand vor Massivwand - ohne seitliche Befestigung","Installation on a solid wall - without side fixing"]
["Wandtyp 1.3.10_3","Raumhoch, Höhe H ab OKFFB von 2.600 bis 3.300 mm","Room high, Height H from FFL from 2.600 up to 3.300 mm"]
["Wandtyp 1.3.10_4","(Einbau Elemente nur bei Höhe H OKFFB 1155 mm)","(Installation of elements only at Heigt H of 1155 mm)"]
["Wandtyp 1.3.10_5","Wandbreite von 200 bis 5.000 mm","Length of wall from 200 up to 5.000 mm"]
["Wandtyp 1.3.10_6","Wandtiefe von 155 bis 215 mm","Depth of wall from 155 up to 215 mm"]
["Wandtyp 1.3.10_7","angegebene Abmessungen jeweils ohne Beplankung !","Dimensions given exclude the covering !"]
["Wandtyp 1.3.10_8","fließenfertige Oberfläche zzgl. 18 mm Beplankung","Facing prepared for tiling, plus 18 mm covering"]
["Wandtyp 1.3.10_9","Die Materialangaben enthalten keinen Fußbodenaufbau !","The material supply does not include any floor build-up !"]
["Wandtyp 1.3.11_1","Wandtyp 1.3.11","Type of wall 1.3.11"]
["Wandtyp 1.3.11_2","Vorwand vor Massivwand - ohne seitliche Befestigung","Installation on a solid wall - without side fixing"]
["Wandtyp 1.3.11_3","Raumhoch, Höhe H ab OKFFB von 2.600 bis 3.300 mm","Room high, Height H from FFL from 2.600 up to 3.300 mm"]
["Wandtyp 1.3.11_4","(Einbau Elemente nur bei Höhe H OKFFB 1155 mm)","(Installation of elements only at Heigt H of 1155 mm)"]
["Wandtyp 1.3.11_5","Wandbreite von 200 bis 5.000 mm","Length of wall from 200 up to 5.000 mm"]
["Wandtyp 1.3.11_6","Wandtiefe von 255 bis 315 mm","Depth of wall from 255 up to 315 mm"]
["Wandtyp 1.3.11_7","angegebene Abmessungen jeweils ohne Beplankung !","Dimensions given exclude the covering !"]
["Wandtyp 1.3.11_8","fließenfertige Oberfläche zzgl. 18 mm Beplankung","Facing prepared for tiling, plus 18 mm covering"]
["Wandtyp 1.3.11_9","Die Materialangaben enthalten keinen Fußbodenaufbau !","The material supply does not include any floor build-up !"]
["Wandtyp 1.3.12_1","Wandtyp 1.3.12","Type of wall 1.3.12"]
["Wandtyp 1.3.12_2","Vorwand vor Massivwand - ohne seitliche Befestigung","Installation on a solid wall - without side fixing"]
["Wandtyp 1.3.12_3","Raumhoch, Höhe H ab OKFFB von 2.600 bis 3.300 mm","Room high, Height H from FFL from 2.600 up to 3.300 mm"]
["Wandtyp 1.3.12_4","(Einbau Elemente nur bei Höhe H OKFFB 1155 mm)","(Installation of elements only at Heigt H of 1155 mm)"]
["Wandtyp 1.3.12_5","Wandbreite von 200 bis 5.000 mm","Length of wall from 200 up to 5.000 mm"]
["Wandtyp 1.3.12_6","Wandtiefe von 120 bis 600 mm","Depth of wall from 120 up to 600 mm"]
["Wandtyp 1.3.12_7","angegebene Abmessungen jeweils ohne Beplankung !","Dimensions given exclude the covering !"]
["Wandtyp 1.3.12_8","fließenfertige Oberfläche zzgl. 18 mm Beplankung","Facing prepared for tiling, plus 18 mm covering"]
["Wandtyp 1.3.12_9","Die Materialangaben enthalten keinen Fußbodenaufbau !","The material supply does not include any floor build-up !"]
["Wandtyp 1.3.13_1","Wandtyp 1.3.13","Type of wall 1.3.13"]
["Wandtyp 1.3.13_2","Vorwand vor Massivwand - ohne seitliche Befestigung","Installation on a solid wall - without side fixing"]
["Wandtyp 1.3.13_3","Raumhoch, Höhe H ab OKFFB von 3.300 bis 3.900 mm","Room high, Height H from FFL from 3.300 up to 3.900 mm"]
["Wandtyp 1.3.13_4","(Einbau Elemente nur bei Höhe H OKFFB 1155 mm)","(Installation of elements only at Heigt H of 1155 mm)"]
["Wandtyp 1.3.13_5","Wandbreite von 200 bis 5.000 mm","Length of wall from 200 up to 5.000 mm"]
["Wandtyp 1.3.13_6","Wandtiefe von 155 bis 215 mm","Depth of wall from 155 up to 215 mm"]
["Wandtyp 1.3.13_7","angegebene Abmessungen jeweils ohne Beplankung !","Dimensions given exclude the covering !"]
["Wandtyp 1.3.13_8","fließenfertige Oberfläche zzgl. 18 mm Beplankung","Facing prepared for tiling, plus 18 mm covering"]
["Wandtyp 1.3.13_9","Die Materialangaben enthalten keinen Fußbodenaufbau !","The material supply does not include any floor build-up !"]
["Wandtyp 1.3.14_1","Wandtyp 1.3.14","Type of wall 1.3.14"]
["Wandtyp 1.3.14_2","Vorwand vor Massivwand - ohne seitliche Befestigung","Installation on a solid wall - without side fixing"]
["Wandtyp 1.3.14_3","Raumhoch, Höhe H ab OKFFB von 3.300 bis 3.900 mm","Room high, Height H from FFL from 3.300 up to 3.900 mm"]
["Wandtyp 1.3.14_4","(Einbau Elemente nur bei Höhe H OKFFB 1155 mm)","(Installation of elements only at Heigt H of 1155 mm)"]
["Wandtyp 1.3.14_5","Wandbreite von 200 bis 5.000 mm","Length of wall from 200 up to 5.000 mm"]
["Wandtyp 1.3.14_6","Wandtiefe von 255 bis 315 mm","Depth of wall from 255 up to 315 mm"]
["Wandtyp 1.3.14_7","angegebene Abmessungen jeweils ohne Beplankung !","Dimensions given exclude the covering !"]
["Wandtyp 1.3.14_8","fließenfertige Oberfläche zzgl. 18 mm Beplankung","Facing prepared for tiling, plus 18 mm covering"]
["Wandtyp 1.3.14_9","Die Materialangaben enthalten keinen Fußbodenaufbau !","The material supply does not include any floor build-up !"]
["Wandtyp 1.3.15_1","Wandtyp 1.3.15","Type of wall 1.3.15"]
["Wandtyp 1.3.15_2","Vorwand vor Massivwand - ohne seitliche Befestigung","Installation on a solid wall - without side fixing"]
["Wandtyp 1.3.15_3","Raumhoch, Höhe H ab OKFFB von 3.300 bis 3.900 mm","Room high, Height H from FFL from 3.300 up to 3.900 mm"]
["Wandtyp 1.3.15_4","(Einbau Elemente nur bei Höhe H OKFFB 1155 mm)","(Installation of elements only at Heigt H of 1155 mm)"]
["Wandtyp 1.3.15_5","Wandbreite von 200 bis 5.000 mm","Length of wall from 200 up to 5.000 mm"]
["Wandtyp 1.3.15_6","Wandtiefe von 120 bis 600 mm","Depth of wall from 120 up to 600 mm"]
["Wandtyp 1.3.15_7","angegebene Abmessungen jeweils ohne Beplankung !","Dimensions given exclude the covering !"]
["Wandtyp 1.3.15_8","fließenfertige Oberfläche zzgl. 18 mm Beplankung","Facing prepared for tiling, plus 18 mm covering"]
["Wandtyp 1.3.15_9","Die Materialangaben enthalten keinen Fußbodenaufbau !","The material supply does not include any floor build-up !"]
["Wandtyp 2.1_1","Wandtyp 2.1","Type of wall 2.1"]
["Wandtyp 2.1_2","Installationstrennwand - zweiseitig befestigt","Installation partition wall - fixed on both ends"]
["Wandtyp 2.1_3","Raumhoch, Höhe H ab OKFFB bis 2600 mm","Room high, Height H from FFL up to 2600 mm"]
["Wandtyp 2.1_4","(Einbau Elemente nur bei Höhen H OKFFB 855, 1020, 1155 mm)","(Installation of elements only at Heigts H of 855, 1020, 1155 mm)"]
["Wandtyp 2.1_5","Wandbreite von 200 bis 5.000 mm","Length of wall from 200 up to 5.000 mm"]
["Wandtyp 2.1_6","Wandtiefe von 120 bis 600 mm","Depth of wall from 120 up to 600 mm"]
["Wandtyp 2.1_7","angegebene Abmessungen jeweils ohne Beplankung !","Dimensions given exclude the covering !"]
["Wandtyp 2.1_8","fließenfertige Oberfläche zzgl. 18 mm Beplankung","Facing prepared for tiling, plus 18 mm covering"]
["Wandtyp 2.1_9","Die Materialangaben enthalten keinen Fußbodenaufbau !","The material supply does not include any floor build-up !"]
["Wandtyp 2.2_1","Wandtyp 2.2","Type of wall 2.2"]
["Wandtyp 2.2_2","Installationstrennwand - zweiseitig befestigt","Installation partition wall - fixed on both ends"]
["Wandtyp 2.2_3","Raumhoch, Höhe H ab OKFFB von 2.600 bis 3.300 mm","Room high, Height H from FFL from 2.600 up to 3.300 mm"]
["Wandtyp 2.2_4"]
["Wandtyp 2.2_5","Wandbreite von 200 bis 5.000 mm","Length of wall from 200 up to 5.000 mm"]
["Wandtyp 2.2_6","Wandtiefe von 120 bis 600 mm","Depth of wall from 120 up to 600 mm"]
["Wandtyp 2.2_7","angegebene Abmessungen jeweils ohne Beplankung !","Dimensions given exclude the covering !"]
["Wandtyp 2.2_8","fließenfertige Oberfläche zzgl. 18 mm Beplankung","Facing prepared for tiling, plus 18 mm covering"]
["Wandtyp 2.2_9","Die Materialangaben enthalten keinen Fußbodenaufbau !","The material supply does not include any floor build-up !"]
["Wandtyp 2.3_1","Wandtyp 2.3","Type of wall 2.3"]
["Wandtyp 2.3_2","Installationstrennwand - zweiseitig befestigt","Installation partition wall - fixed on both ends"]
["Wandtyp 2.3_3","Raumhoch, Höhe H ab OKFFB von 3.300 bis 3.900 mm","Room high, Height H from FFL from 3.300 up to 3.900 mm"]
["Wandtyp 2.3_4"]
["Wandtyp 2.3_5","Wandbreite von 200 bis 5.000 mm","Length of wall from 200 up to 5.000 mm"]
["Wandtyp 2.3_6","Wandtiefe von 120 bis 600 mm","Depth of wall from 120 up to 600 mm"]
["Wandtyp 2.3_7","angegebene Abmessungen jeweils ohne Beplankung !","Dimensions given exclude the covering !"]
["Wandtyp 2.3_8","fließenfertige Oberfläche zzgl. 18 mm Beplankung","Facing prepared for tiling, plus 18 mm covering"]
["Wandtyp 2.3_9","Die Materialangaben enthalten keinen Fußbodenaufbau !","The material supply does not include any floor build-up !"]
["Wandtyp 3.1.1_1","Wandtyp 3.1.1","Type of wall 3.1.1"]
["Wandtyp 3.1.1_2","Freistehende Wand - einseitig befestigt","Isolated wall - one side fixing"]
["Wandtyp 3.1.1_3","Halbhoch, Höhe H ab OKFFB von 855 bis 1.155 mm","Medium high, Height H from FFL from 855 up to 1.155 mm"]
["Wandtyp 3.1.1_4","(Einbau Elemente nur bei Höhen H OKFFB 855, 1020, 1155 mm)","(Installation of elements only at Heigts H of 855, 1020, 1155 mm)"]
["Wandtyp 3.1.1_5","Wandbreite von 600 bis 2.600 mm","Length of wall from 600 up to 2.600 mm"]
["Wandtyp 3.1.1_6","Wandtiefe von 200 bis 215 mm","Depth of wall from 200 up to 215 mm"]
["Wandtyp 3.1.1_7","angegebene Abmessungen jeweils ohne Beplankung !","Dimensions given exclude the covering !"]
["Wandtyp 3.1.1_8","fließenfertige Oberfläche zzgl. 18 mm Beplankung","Facing prepared for tiling, plus 18 mm covering"]
["Wandtyp 3.1.1_9","Die Materialangaben enthalten keinen Fußbodenaufbau !","The material supply does not include any floor build-up !"]
["Wandtyp 3.1.2_1","Wandtyp 3.1.2","Type of wall 3.1.2"]
["Wandtyp 3.1.2_2","Freistehende Wand - einseitig befestigt","Isolated wall - one side fixing"]
["Wandtyp 3.1.2_3","Halbhoch, Höhe H ab OKFFB von 855 bis 1.155 mm","Medium high, Height H from FFL from 855 up to 1.155 mm"]
["Wandtyp 3.1.2_4","(Einbau Elemente nur bei Höhen H OKFFB 855, 1020, 1155 mm)","(Installation of elements only at Heigts H of 855, 1020, 1155 mm)"]
["Wandtyp 3.1.2_5","Wandbreite von 600 bis 2.600 mm","Length of wall from 600 up to 2.600 mm"]
["Wandtyp 3.1.2_6","Wandtiefe von 255 bis 315 mm","Depth of wall from 255 up to 315 mm"]
["Wandtyp 3.1.2_7","angegebene Abmessungen jeweils ohne Beplankung !","Dimensions given exclude the covering !"]
["Wandtyp 3.1.2_8","fließenfertige Oberfläche zzgl. 18 mm Beplankung","Facing prepared for tiling, plus 18 mm covering"]
["Wandtyp 3.1.2_9","Die Materialangaben enthalten keinen Fußbodenaufbau !","The material supply does not include any floor build-up !"]
["Wandtyp 3.1.3_1","Wandtyp 3.1.3","Type of wall 3.1.3"]
["Wandtyp 3.1.3_2","Freistehende Wand - einseitig befestigt","Isolated wall - one side fixing"]
["Wandtyp 3.1.3_3","Halbhoch, Höhe H ab OKFFB von 855 bis 1.155 mm","Medium high, Height H from FFL from 855 up to 1.155 mm"]
["Wandtyp 3.1.3_4","(Einbau Elemente nur bei Höhen H OKFFB 855, 1020, 1155 mm)","(Installation of elements only at Heigts H of 855, 1020, 1155 mm)"]
["Wandtyp 3.1.3_5","Wandbreite von 600 bis 2.600 mm","Length of wall from 600 up to 2.600 mm"]
["Wandtyp 3.1.3_6","Wandtiefe von 316 bis 600 mm","Depth of wall from 316 up to 600 mm"]
["Wandtyp 3.1.3_7","angegebene Abmessungen jeweils ohne Beplankung !","Dimensions given exclude the covering !"]
["Wandtyp 3.1.3_8","fließenfertige Oberfläche zzgl. 18 mm Beplankung","Facing prepared for tiling, plus 18 mm covering"]
["Wandtyp 3.1.3_9","Die Materialangaben enthalten keinen Fußbodenaufbau !","The material supply does not include any floor build-up !"]
["Wandtyp 3.2.1_1","Wandtyp 3.2.1","Type of wall 3.2.1"]
["Wandtyp 3.2.1_2","Freistehende Wand - ohne seitliche Befestigung","Isolated wall - without side fixing"]
["Wandtyp 3.2.1_3","Halbhoch, Höhe H ab OKFFB von 855 bis 1.155 mm","Medium high, Height H from FFL from 855 up to 1.155 mm"]
["Wandtyp 3.2.1_4","(Einbau Elemente nur bei Höhen H OKFFB 855, 1020, 1155 mm)","(Installation of elements only at Heigts H of 855, 1020, 1155 mm)"]
["Wandtyp 3.2.1_5","Wandbreite von 600 bis 2.600 mm","Length of wall from 600 up to 2.600 mm"]
["Wandtyp 3.2.1_6","Wandtiefe von 200 bis 215 mm","Depth of wall from 200 up to 215 mm"]
["Wandtyp 3.2.1_7","angegebene Abmessungen jeweils ohne Beplankung !","Dimensions given exclude the covering !"]
["Wandtyp 3.2.1_8","fließenfertige Oberfläche zzgl. 18 mm Beplankung","Facing prepared for tiling, plus 18 mm covering"]
["Wandtyp 3.2.1_9","Die Materialangaben enthalten keinen Fußbodenaufbau !","The material supply does not include any floor build-up !"]
["Wandtyp 3.2.2_1","Wandtyp 3.2.2","Type of wall 3.2.2"]
["Wandtyp 3.2.2_2","Freistehende Wand - ohne seitliche Befestigung","Isolated wall - without side fixing"]
["Wandtyp 3.2.2_3","Halbhoch, Höhe H ab OKFFB von 855 bis 1.155 mm","Medium high, Height H from FFL from 855 up to 1.155 mm"]
["Wandtyp 3.2.2_4","(Einbau Elemente nur bei Höhen H OKFFB 855, 1020, 1155 mm)","(Installation of elements only at Heigts H of 855, 1020, 1155 mm)"]
["Wandtyp 3.2.2_5","Wandbreite von 600 bis 2.600 mm","Length of wall from 600 up to 2.600 mm"]
["Wandtyp 3.2.2_6","Wandtiefe von 255 bis 315 mm","Depth of wall from 255 up to 315 mm"]
["Wandtyp 3.2.2_7","angegebene Abmessungen jeweils ohne Beplankung !","Dimensions given exclude the covering !"]
["Wandtyp 3.2.2_8","fließenfertige Oberfläche zzgl. 18 mm Beplankung","Facing prepared for tiling, plus 18 mm covering"]
["Wandtyp 3.2.2_9","Die Materialangaben enthalten keinen Fußbodenaufbau !","The material supply does not include any floor build-up !"]
["Wandtyp 3.2.3_1","Wandtyp 3.2.3","Type of wall 3.2.3"]
["Wandtyp 3.2.3_2","Freistehende Wand - ohne seitliche Befestigung","Isolated wall - without side fixing"]
["Wandtyp 3.2.3_3","Halbhoch, Höhe H ab OKFFB von 855 bis 1.155 mm","Medium high, Height H from FFL from 855 up to 1.155 mm"]
["Wandtyp 3.2.3_4","(Einbau Elemente nur bei Höhen H OKFFB 855, 1020, 1155 mm)","(Installation of elements only at Heigts H of 855, 1020, 1155 mm)"]
["Wandtyp 3.2.3_5","Wandbreite von 600 bis 2.600 mm","Length of wall from 600 up to 2.600 mm"]
["Wandtyp 3.2.3_6","Wandtiefe von 316 bis 600 mm","Depth of wall from 316 up to 600 mm"]
["Wandtyp 3.2.3_7","angegebene Abmessungen jeweils ohne Beplankung !","Dimensions given exclude the covering !"]
["Wandtyp 3.2.3_8","fließenfertige Oberfläche zzgl. 18 mm Beplankung","Facing prepared for tiling, plus 18 mm covering"]
["Wandtyp 3.2.3_9","Die Materialangaben enthalten keinen Fußbodenaufbau !","The material supply does not include any floor build-up !"]
["Wandtyp 4.1.1_1","Wandtyp 4.1.1","Type of wall 4.1.1"]
["Wandtyp 4.1.1_2","Schachtaufsatz - zweiseitig befestigt","Shaft wall installation - fixed on both ends"]
["Wandtyp 4.1.1_3","Höhe H bis max. 600 mm","Height H max. up to 600 mm"]
["Wandtyp 4.1.1_4"]
["Wandtyp 4.1.1_5","Schachtbreite von 200 bis 5.000 mm","Length of shaft wall from 200 up to 5.000 mm"]
["Wandtyp 4.1.1_6","Schachttiefe von 120 bis 600 mm","Depth of shaft wall from 120 up to 600 mm"]
["Wandtyp 4.1.1_7","angegebene Abmessungen jeweils ohne Beplankung !","Dimensions given exclude the covering !"]
["Wandtyp 4.1.1_8","fließenfertige Oberfläche zzgl. 18 mm Beplankung","Facing prepared for tiling, plus 18 mm covering"]
["Wandtyp 4.1.1_9"]
["Wandtyp 4.1.2_1","Wandtyp 4.1.2","Type of wall 4.1.2"]
["Wandtyp 4.1.2_2","Schachtaufsatz - zweiseitig befestigt","Shaft wall installation - fixed on both ends"]
["Wandtyp 4.1.2_3","Höhe H bis max. 1.445 mm","Height H max. up to 1.445 mm"]
["Wandtyp 4.1.2_4"]
["Wandtyp 4.1.2_5","Schachtbreite von 200 bis 5.000 mm","Length of shaft wall from 200 up to 5.000 mm"]
["Wandtyp 4.1.2_6","Schachttiefe von 155 bis 215 mm","Depth of shaft wall from 155 up to 215 mm"]
["Wandtyp 4.1.2_7","angegebene Abmessungen jeweils ohne Beplankung !","Dimensions given exclude the covering !"]
["Wandtyp 4.1.2_8","fließenfertige Oberfläche zzgl. 18 mm Beplankung","Facing prepared for tiling, plus 18 mm covering"]
["Wandtyp 4.1.2_9"]
["Wandtyp 4.1.3_1","Wandtyp 4.1.3","Type of wall 4.1.3"]
["Wandtyp 4.1.3_2","Schachtaufsatz - zweiseitig befestigt","Shaft wall installation - fixed on both ends"]
["Wandtyp 4.1.3_3","Höhe H bis max. 1.445 mm","Height H max. up to 1.445 mm"]
["Wandtyp 4.1.3_4"]
["Wandtyp 4.1.3_5","Schachtbreite von 200 bis 5.000 mm","Length of shaft wall from 200 up to 5.000 mm"]
["Wandtyp 4.1.3_6","Schachttiefe von 255 bis 315 mm","Depth of shaft wall from 255 up to 315 mm"]
["Wandtyp 4.1.3_7","angegebene Abmessungen jeweils ohne Beplankung !","Dimensions given exclude the covering !"]
["Wandtyp 4.1.3_8","fließenfertige Oberfläche zzgl. 18 mm Beplankung","Facing prepared for tiling, plus 18 mm covering"]
["Wandtyp 4.1.3_9"]
["Wandtyp 4.1.4_1","Wandtyp 4.1.4","Type of wall 4.1.4"]
["Wandtyp 4.1.4_2","Schachtaufsatz - zweiseitig befestigt","Shaft wall installation - fixed on both ends"]
["Wandtyp 4.1.4_3","Höhe H bis max. 1.445 mm","Height H max. up to 1.445 mm"]
["Wandtyp 4.1.4_4"]
["Wandtyp 4.1.4_5","Schachtbreite von 200 bis 5.000 mm","Length of shaft wall from 200 up to 5.000 mm"]
["Wandtyp 4.1.4_6","Schachttiefe von 120 bis 600 mm","Depth of shaft wall from 120 up to 600 mm"]
["Wandtyp 4.1.4_7","angegebene Abmessungen jeweils ohne Beplankung !","Dimensions given exclude the covering !"]
["Wandtyp 4.1.4_8","fließenfertige Oberfläche zzgl. 18 mm Beplankung","Facing prepared for tiling, plus 18 mm covering"]
["Wandtyp 4.1.4_9"]
["Wandtyp 4.1.5_1","Wandtyp 4.1.5","Type of wall 4.1.5"]
["Wandtyp 4.1.5_2","Schachtaufsatz - zweiseitig befestigt","Shaft wall installation - fixed on both ends"]
["Wandtyp 4.1.5_3","Höhe H von 1.445 bis 2.745 mm","Height H from 1.445 up to 2.745 mm"]
["Wandtyp 4.1.5_4"]
["Wandtyp 4.1.5_5","Schachtbreite von 200 bis 5.000 mm","Length of shaft wall from 200 up to 5.000 mm"]
["Wandtyp 4.1.5_6","Schachttiefe von 155 bis 215 mm","Depth of shaft wall from 155 up to 215 mm"]
["Wandtyp 4.1.5_7","angegebene Abmessungen jeweils ohne Beplankung !","Dimensions given exclude the covering !"]
["Wandtyp 4.1.5_8","fließenfertige Oberfläche zzgl. 18 mm Beplankung","Facing prepared for tiling, plus 18 mm covering"]
["Wandtyp 4.1.5_9"]
["Wandtyp 4.1.6_1","Wandtyp 4.1.6","Type of wall 4.1.6"]
["Wandtyp 4.1.6_2","Schachtaufsatz - zweiseitig befestigt","Shaft wall installation - fixed on both ends"]
["Wandtyp 4.1.6_3","Höhe H von 1.445 bis 2.745 mm","Height H from 1.445 up to 2.745 mm"]
["Wandtyp 4.1.6_4"]
["Wandtyp 4.1.6_5","Schachtbreite von 200 bis 5.000 mm","Length of shaft wall from 200 up to 5.000 mm"]
["Wandtyp 4.1.6_6","Schachttiefe von 255 bis 315 mm","Depth of shaft wall from 255 up to 315 mm"]
["Wandtyp 4.1.6_7","angegebene Abmessungen jeweils ohne Beplankung !","Dimensions given exclude the covering !"]
["Wandtyp 4.1.6_8","fließenfertige Oberfläche zzgl. 18 mm Beplankung","Facing prepared for tiling, plus 18 mm covering"]
["Wandtyp 4.1.6_9"]
["Wandtyp 4.1.7_1","Wandtyp 4.1.7","Type of wall 4.1.7"]
["Wandtyp 4.1.7_2","Schachtaufsatz - zweiseitig befestigt","Shaft wall installation - fixed on both ends"]
["Wandtyp 4.1.7_3","Höhe H von 1.445 bis 2.745 mm","Height H from 1.445 up to 2.745 mm"]
["Wandtyp 4.1.7_4"]
["Wandtyp 4.1.7_5","Schachtbreite von 200 bis 5.000 mm","Length of shaft wall from 200 up to 5.000 mm"]
["Wandtyp 4.1.7_6","Schachttiefe von 120 bis 600 mm","Depth of shaft wall from 120 up to 600 mm"]
["Wandtyp 4.1.7_7","angegebene Abmessungen jeweils ohne Beplankung !","Dimensions given exclude the covering !"]
["Wandtyp 4.1.7_8","fließenfertige Oberfläche zzgl. 18 mm Beplankung","Facing prepared for tiling, plus 18 mm covering"]
["Wandtyp 4.1.7_9"]
["Wandtyp 4.2.1_1","Wandtyp 4.2.1","Type of wall 4.2.1"]
["Wandtyp 4.2.1_2","Schachtaufsatz - einseitig befestigt","Shaft wall installation - one side fixing"]
["Wandtyp 4.2.1_3","Höhe H bis max. 600 mm","Height H max. up to 600 mm"]
["Wandtyp 4.2.1_4"]
["Wandtyp 4.2.1_5","Schachtbreite von 200 bis 5.000 mm","Length of shaft wall from 200 up to 5.000 mm"]
["Wandtyp 4.2.1_6","Schachttiefe von 120 bis 600 mm","Depth of shaft wall from 120 up to 600 mm"]
["Wandtyp 4.2.1_7","angegebene Abmessungen jeweils ohne Beplankung !","Dimensions given exclude the covering !"]
["Wandtyp 4.2.1_8","fließenfertige Oberfläche zzgl. 18 mm Beplankung","Facing prepared for tiling, plus 18 mm covering"]
["Wandtyp 4.2.1_9"]
["Wandtyp 4.2.2_1","Wandtyp 4.2.2","Type of wall 4.2.2"]
["Wandtyp 4.2.2_2","Schachtaufsatz - einseitig befestigt","Shaft wall installation - one side fixing"]
["Wandtyp 4.2.2_3","Höhe H bis max. 1.445 mm","Height H max. up to 1.445 mm"]
["Wandtyp 4.2.2_4"]
["Wandtyp 4.2.2_5","Schachtbreite von 200 bis 5.000 mm","Length of shaft wall from 200 up to 5.000 mm"]
["Wandtyp 4.2.2_6","Schachttiefe von 155 bis 215 mm","Depth of shaft wall from 155 up to 215 mm"]
["Wandtyp 4.2.2_7","angegebene Abmessungen jeweils ohne Beplankung !","Dimensions given exclude the covering !"]
["Wandtyp 4.2.2_8","fließenfertige Oberfläche zzgl. 18 mm Beplankung","Facing prepared for tiling, plus 18 mm covering"]
["Wandtyp 4.2.2_9"]
["Wandtyp 4.2.3_1","Wandtyp 4.2.3","Type of wall 4.2.3"]
["Wandtyp 4.2.3_2","Schachtaufsatz - einseitig befestigt","Shaft wall installation - one side fixing"]
["Wandtyp 4.2.3_3","Höhe H bis max. 1.445 mm","Height H max. up to 1.445 mm"]
["Wandtyp 4.2.3_4"]
["Wandtyp 4.2.3_5","Schachtbreite von 200 bis 5.000 mm","Length of shaft wall from 200 up to 5.000 mm"]
["Wandtyp 4.2.3_6","Schachttiefe von 255 bis 315 mm","Depth of shaft wall from 255 up to 315 mm"]
["Wandtyp 4.2.3_7","angegebene Abmessungen jeweils ohne Beplankung !","Dimensions given exclude the covering !"]
["Wandtyp 4.2.3_8","fließenfertige Oberfläche zzgl. 18 mm Beplankung","Facing prepared for tiling, plus 18 mm covering"]
["Wandtyp 4.2.3_9"]
["Wandtyp 4.2.4_1","Wandtyp 4.2.4","Type of wall 4.2.4"]
["Wandtyp 4.2.4_2","Schachtaufsatz - einseitig befestigt","Shaft wall installation - one side fixing"]
["Wandtyp 4.2.4_3","Höhe H bis max. 1.445 mm","Height H max. up to 1.445 mm"]
["Wandtyp 4.2.4_4"]
["Wandtyp 4.2.4_5","Schachtbreite von 200 bis 5.000 mm","Length of shaft wall from 200 up to 5.000 mm"]
["Wandtyp 4.2.4_6","Schachttiefe von 120 bis 600 mm","Depth of shaft wall from 120 up to 600 mm"]
["Wandtyp 4.2.4_7","angegebene Abmessungen jeweils ohne Beplankung !","Dimensions given exclude the covering !"]
["Wandtyp 4.2.4_8","fließenfertige Oberfläche zzgl. 18 mm Beplankung","Facing prepared for tiling, plus 18 mm covering"]
["Wandtyp 4.2.4_9"]
["Wandtyp 4.2.5_1","Wandtyp 4.2.5","Type of wall 4.2.5"]
["Wandtyp 4.2.5_2","Schachtaufsatz - einseitig befestigt","Shaft wall installation - one side fixing"]
["Wandtyp 4.2.5_3","Höhe H von 1.445 bis 2.745 mm","Height H from 1.445 up to 2.745 mm"]
["Wandtyp 4.2.5_4"]
["Wandtyp 4.2.5_5","Schachtbreite von 200 bis 5.000 mm","Length of shaft wall from 200 up to 5.000 mm"]
["Wandtyp 4.2.5_6","Schachttiefe von 155 bis 215 mm","Depth of shaft wall from 155 up to 215 mm"]
["Wandtyp 4.2.5_7","angegebene Abmessungen jeweils ohne Beplankung !","Dimensions given exclude the covering !"]
["Wandtyp 4.2.5_8","fließenfertige Oberfläche zzgl. 18 mm Beplankung","Facing prepared for tiling, plus 18 mm covering"]
["Wandtyp 4.2.5_9"]
["Wandtyp 4.2.6_1","Wandtyp 4.2.6","Type of wall 4.2.6"]
["Wandtyp 4.2.6_2","Schachtaufsatz - einseitig befestigt","Shaft wall installation - one side fixing"]
["Wandtyp 4.2.6_3","Höhe H von 1.445 bis 2.745 mm","Height H from 1.445 up to 2.745 mm"]
["Wandtyp 4.2.6_4"]
["Wandtyp 4.2.6_5","Schachtbreite von 200 bis 5.000 mm","Length of shaft wall from 200 up to 5.000 mm"]
["Wandtyp 4.2.6_6","Schachttiefe von 255 bis 315 mm","Depth of shaft wall from 255 up to 315 mm"]
["Wandtyp 4.2.6_7","angegebene Abmessungen jeweils ohne Beplankung !","Dimensions given exclude the covering !"]
["Wandtyp 4.2.6_8","fließenfertige Oberfläche zzgl. 18 mm Beplankung","Facing prepared for tiling, plus 18 mm covering"]
["Wandtyp 4.2.6_9"]
["Wandtyp 4.2.7_1","Wandtyp 4.2.7","Type of wall 4.2.7"]
["Wandtyp 4.2.7_2","Schachtaufsatz - einseitig befestigt","Shaft wall installation - one side fixing"]
["Wandtyp 4.2.7_3","Höhe H von 1.445 bis 2.745 mm","Height H from 1.445 up to 2.745 mm"]
["Wandtyp 4.2.7_4"]
["Wandtyp 4.2.7_5","Schachtbreite von 200 bis 5.000 mm","Length of shaft wall from 200 up to 5.000 mm"]
["Wandtyp 4.2.7_6","Schachttiefe von 120 bis 600 mm","Depth of shaft wall from 120 up to 600 mm"]
["Wandtyp 4.2.7_7","angegebene Abmessungen jeweils ohne Beplankung !","Dimensions given exclude the covering !"]
["Wandtyp 4.2.7_8","fließenfertige Oberfläche zzgl. 18 mm Beplankung","Facing prepared for tiling, plus 18 mm covering"]
["Wandtyp 4.2.7_9"]
["Wandtyp 4.3.1_1","Wandtyp 4.3.1","Type of wall 4.3.1"]
["Wandtyp 4.3.1_2","Schachtaufsatz - ohne seitliche Befestigung","Shaft wall installation - without side fixing"]
["Wandtyp 4.3.1_3","Höhe H bis max. 600 mm","Height H max. up to 600 mm"]
["Wandtyp 4.3.1_4"]
["Wandtyp 4.3.1_5","Schachtbreite von 200 bis 5.000 mm","Length of shaft wall from 200 up to 5.000 mm"]
["Wandtyp 4.3.1_6","Schachttiefe von 120 bis 600 mm","Depth of shaft wall from 120 up to 600 mm"]
["Wandtyp 4.3.1_7","angegebene Abmessungen jeweils ohne Beplankung !","Dimensions given exclude the covering !"]
["Wandtyp 4.3.1_8","fließenfertige Oberfläche zzgl. 18 mm Beplankung","Facing prepared for tiling, plus 18 mm covering"]
["Wandtyp 4.3.1_9"]
["Wandtyp 4.3.2_1","Wandtyp 4.3.2","Type of wall 4.3.2"]
["Wandtyp 4.3.2_2","Schachtaufsatz - ohne seitliche Befestigung","Shaft wall installation - without side fixing"]
["Wandtyp 4.3.2_3","Höhe H bis max. 1.445 mm","Height H max. up to 1.445 mm"]
["Wandtyp 4.3.2_4"]
["Wandtyp 4.3.2_5","Schachtbreite von 200 bis 5.000 mm","Length of shaft wall from 200 up to 5.000 mm"]
["Wandtyp 4.3.2_6","Schachttiefe von 155 bis 215 mm","Depth of shaft wall from 155 up to 215 mm"]
["Wandtyp 4.3.2_7","angegebene Abmessungen jeweils ohne Beplankung !","Dimensions given exclude the covering !"]
["Wandtyp 4.3.2_8","fließenfertige Oberfläche zzgl. 18 mm Beplankung","Facing prepared for tiling, plus 18 mm covering"]
["Wandtyp 4.3.2_9"]
["Wandtyp 4.3.3_1","Wandtyp 4.3.3","Type of wall 4.3.3"]
["Wandtyp 4.3.3_2","Schachtaufsatz - ohne seitliche Befestigung","Shaft wall installation - without side fixing"]
["Wandtyp 4.3.3_3","Höhe H bis max. 1.445 mm","Height H max. up to 1.445 mm"]
["Wandtyp 4.3.3_4"]
["Wandtyp 4.3.3_5","Schachtbreite von 200 bis 5.000 mm","Length of shaft wall from 200 up to 5.000 mm"]
["Wandtyp 4.3.3_6","Schachttiefe von 255 bis 315 mm","Depth of shaft wall from 255 up to 315 mm"]
["Wandtyp 4.3.3_7","angegebene Abmessungen jeweils ohne Beplankung !","Dimensions given exclude the covering !"]
["Wandtyp 4.3.3_8","fließenfertige Oberfläche zzgl. 18 mm Beplankung","Facing prepared for tiling, plus 18 mm covering"]
["Wandtyp 4.3.3_9"]
["Wandtyp 4.3.4_1","Wandtyp 4.3.4","Type of wall 4.3.4"]
["Wandtyp 4.3.4_2","Schachtaufsatz - ohne seitliche Befestigung","Shaft wall installation - without side fixing"]
["Wandtyp 4.3.4_3","Höhe H bis max. 1.445 mm","Height H max. up to 1.445 mm"]
["Wandtyp 4.3.4_4"]
["Wandtyp 4.3.4_5","Schachtbreite von 200 bis 5.000 mm","Length of shaft wall from 200 up to 5.000 mm"]
["Wandtyp 4.3.4_6","Schachttiefe von 120 bis 600 mm","Depth of shaft wall from 120 up to 600 mm"]
["Wandtyp 4.3.4_7","angegebene Abmessungen jeweils ohne Beplankung !","Dimensions given exclude the covering !"]
["Wandtyp 4.3.4_8","fließenfertige Oberfläche zzgl. 18 mm Beplankung","Facing prepared for tiling, plus 18 mm covering"]
["Wandtyp 4.3.4_9"]
["Wandtyp 4.3.5_1","Wandtyp 4.3.5","Type of wall 4.3.5"]
["Wandtyp 4.3.5_2","Schachtaufsatz - ohne seitliche Befestigung","Shaft wall installation - without side fixing"]
["Wandtyp 4.3.5_3","Höhe H von 1.445 bis 2.745 mm","Height H from 1.445 up to 2.745 mm"]
["Wandtyp 4.3.5_4"]
["Wandtyp 4.3.5_5","Schachtbreite von 200 bis 5.000 mm","Length of shaft wall from 200 up to 5.000 mm"]
["Wandtyp 4.3.5_6","Schachttiefe von 155 bis 215 mm","Depth of shaft wall from 155 up to 215 mm"]
["Wandtyp 4.3.5_7","angegebene Abmessungen jeweils ohne Beplankung !","Dimensions given exclude the covering !"]
["Wandtyp 4.3.5_8","fließenfertige Oberfläche zzgl. 18 mm Beplankung","Facing prepared for tiling, plus 18 mm covering"]
["Wandtyp 4.3.5_9"]
["Wandtyp 4.3.6_1","Wandtyp 4.3.6","Type of wall 4.3.6"]
["Wandtyp 4.3.6_2","Schachtaufsatz - ohne seitliche Befestigung","Shaft wall installation - without side fixing"]
["Wandtyp 4.3.6_3","Höhe H von 1.445 bis 2.745 mm","Height H from 1.445 up to 2.745 mm"]
["Wandtyp 4.3.6_4"]
["Wandtyp 4.3.6_5","Schachtbreite von 200 bis 5.000 mm","Length of shaft wall from 200 up to 5.000 mm"]
["Wandtyp 4.3.6_6","Schachttiefe von 255 bis 315 mm","Depth of shaft wall from 255 up to 315 mm"]
["Wandtyp 4.3.6_7","angegebene Abmessungen jeweils ohne Beplankung !","Dimensions given exclude the covering !"]
["Wandtyp 4.3.6_8","fließenfertige Oberfläche zzgl. 18 mm Beplankung","Facing prepared for tiling, plus 18 mm covering"]
["Wandtyp 4.3.6_9"]
["Wandtyp 4.3.7_1","Wandtyp 4.3.7","Type of wall 4.3.7"]
["Wandtyp 4.3.7_2","Schachtaufsatz - ohne seitliche Befestigung","Shaft wall installation - without side fixing"]
["Wandtyp 4.3.7_3","Höhe H von 1.445 bis 2.745 mm","Height H from 1.445 up to 2.745 mm"]
["Wandtyp 4.3.7_4"]
["Wandtyp 4.3.7_5","Schachtbreite von 200 bis 5.000 mm","Length of shaft wall from 200 up to 5.000 mm"]
["Wandtyp 4.3.7_6","Schachttiefe von 120 bis 600 mm","Depth of shaft wall from 120 up to 600 mm"]
["Wandtyp 4.3.7_7","angegebene Abmessungen jeweils ohne Beplankung !","Dimensions given exclude the covering !"]
["Wandtyp 4.3.7_8","fließenfertige Oberfläche zzgl. 18 mm Beplankung","Facing prepared for tiling, plus 18 mm covering"]
["Wandtyp 4.3.7_9"]
[]
[null,"Deckblatt / Anleitung"]
[]
["A1","Materialbedarfsermittlung","Determination of supply"]
["A2","und Montagezeiten für","and assembly time for"]
["A3","SANIT Schienensystem 996 für Trockenbau","SANIT 996 dry wall construction system"]
["A4","Version: 03/2023","Version: 03/2023"]
["A5","Weiter mit Tabellenblatt \"Nutzungsbed._terms of use\" (siehe unten)","Forward with spreadsheet \"Nutzungsbed._terms of use\" (see below)"]
["A6","Kurzanleitung :","Short instructions :"]
["A7","Grundsätzlich gilt : In allen gelb hinterlegten Felder können oder müssen Sie Eingaben machen.","In general : You can do or you have to do inputs in all cells with yellow backround."]
["A8","1. Im Tabellenblatt \"Wandtypen_Walltypes\" den gewünschten Wandtyp durch Klick auf die Schaltfläche","1. In the spreadsheet \"Wandtypen_Walltypes\" select the type of wall you like to calculate by clicking on"]
["A9","des Wandtyps wählen und im erscheinenden Tabellenblatt die Abmessungen der Wand und die","the button of the wall. In the appearing spreadsheet input all dimensions of the wall and the installations"]
["A10","gewünschten Einbauten angeben.","that you like to have. Attend to the faults displayed!"]
["A11","   Beachten Sie dabei bitte die angezeigten Fehlermeldungen!","2. Repeat step 1 for all walls you want to calculate."]
["A12","2. Schritt 1 für alle zu kalkulierenden Wände wiederholen.","3. In the spreadsheet \"Preise_Prices\" you can choose to what prices your calculation should refer to."]
["A13","3. Im Tabellenblatt \"Preise_Prices\" auswählen, welche Preise Ihrer Kalkulation zugrunde liegen sollen.","4. In the spreadsheet \"Übersicht_Summary\" the results of your calculation are shown."]
["A14","4. Im Tabellenblatt \"Übersicht_Summary\" werden die Ergebnisse ihrer Kalkulation angezeigt.","5. The spreadsheet \"Bestellung_Order\" contains the neccessary order sizes for your calculation and"]
["A15","5. Das Tabellenblatt \"Bestellung_Order\" enthält die notwendigen Bestellmengen und dient als Vorlage.","     can be used as a template for your order."]
[]
[null,"Nutzungsbedingungen"]
[]
["B1","Endbenutzer Lizenzvereinbarung für \"SANIT Schienensystem 996 für Trockenbau\"","End user license agreement for \"SANIT 996 dry wall construction system\""]
["B2","Stand : 31.03.2023","Date : 31/03/2023"]
["B3","Bitte lesen Sie diese Vereinbarung sorgfältig durch bevor Sie die Software nutzen.","Please read this agreement carefully before using the software."]
["B4","Eine Nutzung der Software in jeglicher Form setzt die Zustimmung zu folgender Vereinbarung voraus.","Any use of this software requires your compliance with the following aggreement. "]
["B5","Bei Nichtzustimmung wird die Nutzung untersagt und die Software muss von all Ihren Speichermedien entfernt werden.","While refusing this terms of use you are obligated to delete the software from all your storage media."]
["B6","Rechte :","Rights :"]
["B7","Alle Rechte an dieser Software unterliegen dem Urheberrecht und sind Eigentum der :","All rights in regard to this software are subject to copyright law and are property of :"]
["B8","Telefon:","Phone:"]
["B9","Fax:","Fax:"]
["B10","E-Mail:","e-mail:"]
["B11","Handelsregister :","Trade register :"]
["B12","Rechte, welche nachfolgend nicht ausdrücklich freigegeben werden, verbleiben bei der SANITÄRTECHNIK","Rights that are not authorized explicitly in the following terms remain with the SANITÄRTECHNIK EISENBERG GMBH."]
["B13","EISENBERG GMBH."]
["B14","Die Nutzung der Software unterliegt deutschem Recht. Für Nutzungen ausserhalb der","Any use of this program is subject to German law. For any use outside of the Federal Republic of Germany"]
["B15","Bundesrepublik wird anerkannt, dass dies ausschliesslich nach deutschem Recht geschieht.","the German law is acknowledged as to be applied exclusively."]
["B16","Für den Fall der Weitergabe dieser Software durch den jeweiligen Nutzer an nachfolgende Nutzer tritt dieser mit","In case any user hands over this software to other users, he has to assign the rights and the responsibilities instead of "]
["B17","allen Rechten und Pflichten an die Stelle der SANITÄRTECHNIK EISENBERG GMBH.","the SANITÄRTECHNIK EISENBERG GMBH."]
["B18","Gewährleistung auf die Nutzung des Programms :","Warranty for the use of the program :"]
["B19","Die SANITÄRTECHNIK EISENBERG GMBH gewährleistet, dass die Software auf einem geprüften Datenträger","SANITÄRTECHNIK EISENBERG GMBH guarantees, that the software is stored properly on a certificated data storage"]
["B20","ordnungsgemäß aufgezeichnet ist.","medium."]
["B21","Die SANITÄRTECHNIK EISENBERG GMBH weist darauf hin, dass es nicht möglich ist, eine Software so zu","SANITÄRTECHNIK EISENBERG GMBH advises, that it is not possible to design a software for all applications accurately."]
["B22","konzipieren, dass sie für alle Anwendungen fehlerfrei nutzbar ist.","The company gives no warranty that the software fullfills the individual needs of the user."]
["B23","Es wird keine Gewährleistung dafür übernommen, dass die Software die individuellen Anforderungen des Nutzers"]
["B24","erfüllt."]
["B25","Der Nutzer ist selbst für die Installation und anschließende Nutzung des Programms verantwortlich.","The user is responsible for the set up and the subsequent use of the program. "]
["B26","Die SANITÄRTECHNIK EISENBERG GMBH übernimmt keinerlei Gewährleistung für Bearbeitungen und Ver-","SANITÄRTECHNIK EISENBERG GMBH is not liable for changes and modifications made to the software by means of"]
["B27","änderungen der Software, welche mit Hilfe von Funktionen erfolgen, die zum Zeitpunkt der Auslieferung nicht","functions that were not included in the program at time it was handed over to the user."]
["B28","Bestandteil der Software sind."]
["B29","Die Ergebnisse, welche die Software liefert, sind nur als unverbindlich und richtungsweisend aufzufassen.","The results calculated by the software must be understood as non-committal."]
["B30","Der Nutzer hat diese Ergebnisse vor der Nutzung im Geschäftsverkehr eigenverantwortlich auf ihre Richtigkeit zu","The user has to proove the results by his own responsibility before using them in his business."]
["B31","überprüfen."]
["B32","Die SANITÄRTECHNIK EISENBERG GMBH übernimmt keinerlei Haftung für den Verlust von Daten, entgangene","SANITÄRTECHNIK EISENBERG GMBH is not liable for the loss of data, lost profits or any other financial damages"]
["B33","Gewinne oder sonstige Schäden, die durch die Nutzung des Programms entstehen.","resulting from the use of this software."]
["B34","Der vorstehende Haftungsausschluss gilt nicht bei nachweisbarem Vorsatz oder grober Fahrlässigkeit seitens","The limitation of liability set forth above shall not apply to damages caused by misconduct or gross negligence on the part of"]
["B35","der SANITÄRTECHNIK EISENBERG GMBH.","SANITÄRTECHNIK EISENBERG GMBH."]
["B36","Sollte eine oder mehrere Bestimmungen dieser Vereinbarung unwirksam sein, so sind die übrigen Bestimmungen","Should one ore more of the terms set above be ineffective the remaining terms will be unaffected."]
["B37","davon unberührt."]
["B38","Im Übrigen gelten die AGB der SANITÄRTECHNIK EISENBERG GMBH.","Incidentally the standard business conditions of SANITÄRTECHNIK EISENBERG GMBH should be applied."]
["B39","Mit dem Vorliegen dieser Version der Software verlieren alle früheren Versionen ihre Gültigkeit.","With this version existing, all prior versions of the software are invalid."]
["B40","Allgemeine Gewährleistung :","Warranty in general :"]
["B41","Die Software ermittelt im Rahmen des SANIT Schienensystem 996 für Trockenbau den Materialbedarf","The software determines the material requirements for installation walls within the SANIT 996 dry wall construction system."]
["B42","für Installationswände."]
["B43","Es besteht die Wahlmöglichkeit, auf die Verwendung der Originalbeplankung des Systems zu verzichten.","There is the option to pass on the original covering of the System."]
["B44","Für diesen Fall gilt :","In this case the following applies :"]
["B45","Bei Verwendung einer anderen Beplankung als der vom SANIT Schienensystem 996 für Trockenbau wird vom","While using another covering than the one of the SANIT 996 dry wall construction system the manufacturer gives no"]
["B46","Hersteller keine Gewährleistung für die Installationswände übernommen, da durch das Weglassen der Original-","warranty for the installation walls, because leaving out the original covering means that an important component of the "]
["B47","Beplankung eine wichtige Systemkomponente, die Einfluss auf die Statik der Installationswände hat, verloren geht.","system, that influences the statics of the installation walls is lost."]
["B48","Ja, ich akzeptiere die Nutzungs- und Gewährleistungsbedingungen","Yes, I do accept the terms of use of this software and the warranty conditions"]
["B49","Hinweis ( ! ) : ","Note ( ! ) : "]
["B50","Bitte Bestätigen Sie die Kenntnisnahme der","Please confirm the acceptance of this terms"]
["B51","Nutzungsbedingungen am Ende des Textes.","of use at the end of the text."]
[]
[null,"Information"]
[]
["C1","Informationen zum SANIT Schienensystem 996 für Trockenbau","Information for the SANIT 996 dry wall construction system"]
["C2","Stand : 31.03.2023","Date : 31/03/2023"]
["C3","Schacht- und Vorwandsystem zur Trockenverkleidung für Sanitär-, Heizungs-, Lüftungs- und  Elektroinstallationen für innenliegende","Prewall-installation system for sanitary-, heating-, ventilating- and electrical installations into rooms with dry wall covering."]
["C4","Räume im Hochbau."]
["C5","System für selbsttragende Sanitär-Montageelemente und Sanitär-Montagemodule, bestehend aus symmetrischem Spezialprofil","System for self-supporting mounted sanitary elements and modules, consisting of symmetric profiles made of steel (35 x 35 mm),"]
["C6","35 x 35 mm, Eckverbindern, Bauwerksanschlüssen, Multiverbindern, mit Verbindungsset zur Vorwandelementmontage in das","corner connectors, rail fixtures, multi connectors, connecting sets for mounting installations into the system,"]
["C7","System. Trennstreifen für Putzanschluss, GKBI System Platte 18 mm dick, mit selbstbohrenden Schrauben und Spachtelmasse. ","insulation strips, universal plaster board cladding panels ( thickness 18 mm), self-cutting screws and universal filler."]
["C8"]
["C9","Das SANIT Schienensystem 996 für Trockenbau eignet sich für folgende Wandtypen:","The SANIT 996 dry wall construction system is designed for the following kinds of installation walls:"]
["C10","halbhohe oder raumhohe ein- oder zweiseitig befestigte Installationswände sowie Installationswände ohne seitliche Befestigung,","walls fixed on both ends or with one side fixing as well as walls without side fixing, medium high or room high"]
["C11","Höhe ab OKFFB von 855 bis 3900 mm, Breite von 200 bis 5000 mm, Tiefe von 120 bis 600 mm","Height H from  FFL from 855 up to 3900 mm, length from 200 up to 5000 mm, depth from 120 up to 600 mm"]
["C12","raumhohe, beidseitig befestigte Installationstrennwände,","room high partition walls, fixed on both ends, "]
["C13","max. Höhe ab OKFFB 3900 mm, Tiefe 120 bis 600 mm","max. Height from FFL up to 3900 mm, Depth 120 up to 600 mm"]
["C14","halbhohe freistehende Installationswände mit oder ohne seitliche Befestigung,","medium high isolated walls with and without side fixing"]
["C15","Höhe 855 bis 1155 mm, max. Breite 2600 mm, Wandtiefe 200 bis 600 mm","Height H from 855 up to 1155 mm, max. Length 2600, Depth 200 bis 600 mm"]
["C16","Schachtaufsätze mit Deckenbefestigung","shaft walls with one side fixing and fixing on ceiling"]
["C17","max. Höhe 2745 mm, Breite 200 bis 5000 mm, 120 bis 600 mm","maximum height H of 2745 mm, length from 200 up to 5000 mm, depth from 120 up to 600 mm"]
["C18","Die Angaben zum Materialbedarf beinhalten keinen Fußbodenaufbau!","The calculated material supply does not include any floor build-up!"]
["C19","Alle angegebenen Abmessungen sind ohne Berücksichtigung von Trockenverkleidungen und Wandbelägen.","All measures given exclude any coverings."]
["C20","Das SANIT Schienensystem 996 für Trockenbau kann ohne / mit 18 mm dicker Systembeplankung bzw. ohne / mit","the SANIT 996 dry wall construction system can be calculated with / without the original covering and with / without"]
["C21","Trennstreifen berechnet werden. ","the original insulation strips."]
["C22","das SANIT Schienensystem 996 für Trockenbau kann als vom Auftragnehmer vormontierte Einheit auf die Baustelle","the SANIT 996 dry wall construction system can be brought to the construction site as a pre-assembled unit by the customer."]
["C23","eingebracht werden."]
["C24","tatsächliche Wandgrößen sind durch vorheriges Aufmass vor Ort zu prüfen.","the actual dimensions of each wall must by verified via measurement before."]
["C25","die Verlegerichtlinien des SANIT Schienensystem 996 für Trockenbau gemäß technischer Information in der aktuellsten","when assembling the SANIT 996 dry wall construction system, the guidelines and instructions according to the technical"]
["C26","Form sowie die beigepackten Montageanleitungen sind zu beachten.","information in it's most current version as well as the mounting instructions have to be attended."]
["C27","Die Software ist für eine maximale Anzahl von 30 verschiedenen, zu kalkulierenden Wandtypen pro Datei ausgelegt.","The software is programmed for a maximum number of 30 different types of walls to be calculated in one file."]
["C28","Die über diese Anzahl hinausgehend kalkulierten Wände werden zwar berechnet, jedoch nicht in der Übersicht","All walls exceeding this number are calculated, but not included in the summary."]
["C29","berücksichtigt. Bauvorhaben mit mehr als 30 Wänden sollten mit Hilfe von mehreren Dateien kalkuliert werden.","Construction projects with more than 30 walls should be calculated in more than one file."]
["C30","Die Software ermittelt auf der Grundlage der Eingaben des jeweiligen Nutzers Montagezeiten für Installationswände.","The software detemines the neccessary asssembly times for installation walls, based on"]
["C31","Für diese Montagezeiten gilt die folgende Definition :","the inputs made by any user. For this assembly times the following applies :"]
["C32","Montagezeit :","Assembly time :"]
["C33","Die Montagezeit pro Installationswand ist die notwendige Zeit, um diese Wand einschließlich gewählter Einbauten","The assembly time of an installation wall is the time neccessary to assemble the wall professionally, including all fixtures,"]
["C34","mit dem zum Lieferumfang gehörenden Zubehör (ohne Medienanschlüsse) unter Voraussetzung tragfähiger Bau-","by means of accessories included in the delivery (without connections ) and under condition of a sustainable structure"]
["C35","körper fachgerecht zu montieren. Die ermittelten Montagezeiten sind Richtwerte und beinhalten nicht die Zeiten für","The assembly times determined are standard values and do not include times neccessary for setting up the construction"]
["C36","Baustelleneinrichtung, Transporte, Anreißen von Wandabmessungen sowie das Bohren in verschiedene","site, transportation, marking of wall dimensions as well as drilling into different structures."]
["C37","Baukörpermaterialien."]
["C38","Um korrekte Materialberechnungen zu gewährleisten ist die Eingabe von Elementen und Modulen in den Eingabemasken","to assure proper calculations of the material supply needed, the input of elements and modules into the entry mask"]
["C39","der einzelnen Wandtypen erforderlich. ","of each wall type is neccessary."]
["C40","Das System prüft, wieviele Elemente bzw. Module sich bei einer bestimmten Wandbreite montieren lassen.","the software verifys how many elements or modules can be installed in a given length of a wall."]
["C41","Mindestbewegungsflächen sanitärer Objekte werden jedoch nicht berücksichtigt.","The system does not consider minimum movement areas for sanitary objects."]
["C42","Änderungen im Sinne technischer Weiterentwicklungen sind vorbehalten.","Information and data are subject to changes due to technical improvement."]
[]
[null,"Basis"]
[]
["D1","Die Anzahl der zu berechnenden Wände muss mindestens ","The number of walls calculated has to be  "]
["D2"," betragen ! Bitte Eingabe prüfen.","at least ! Please check your inputs."]
["D3","Es können nur Wandbreiten zwischen ","You're only allowed to calculate a length of wall between "]
["D4","Es können nur Wandtiefen zwischen ","You're only allowed to calculate a depth of wall between "]
["D5","Dieser Wandtyp umfasst nur Bauhöhen ab OKFFB zwischen ","This type of wall only includes a Height H from FFL between "]
["D6"," mm und "," mm and "]
["D7"," mm berechnet werden ! Bitte Eingabe prüfen."," mm ! Please check your inputs."]
["D8"," mm ! Bitte Eingabe prüfen."," mm ! Please check your inputs."]
[]
[null,"Wandtypenauswahl"]
[]
["E1","Angaben zum Bauvorhaben/ Projekt :","Information to the construction project :"]
["E2","( *freiwillig )","( *optional)"]
["E3","Auswahl der Wandtypen :","Choice of types of walls"]
["E4","(Auswahl durch Klick auf entsprechende Schaltfläche !)","( Choose by clicking on the corresponding button!)"]
["E5","Bauvorhaben / Projekt :","Construction project :"]
["E6","Sachbearbeiter :","Person in charge :"]
["E7","Projekt-Nr. :","Project-nr. :"]
["E8","Datum :","Date :"]
["E9","Wandtyp","Type of wall"]
["E10","Halbhohe Wände:","Medium high walls:"]
["E11","Raumhohe Wände","Room high walls:"]
["E12","Bauhöhe ab OKFFB :","Height H from FFL:"]
["E13","Wandtiefe :","Depth of wall :"]
["E14","Vorwand vor Massivwand ","Installation on a solid wall"]
["E15","Installationstrennwand","Installation partition wall"]
["E16","Freistehende Wand","Isolated wall"]
["E17","Schachtaufsatz","Shaft wall installation"]
["E18","zweiseitig befestigt","fixed on both ends"]
["E19","einseitig befestigt","one side fixing"]
["E20","ohne seitliche Befestigung","without side fixing"]
["E21","Verwendung falls die Zuordnung der Elemente und Module auf einzelne Wände nicht bekannt ist.","For use  if the allocation of elements and modules to single walls is not known"]
["E22","bis 600","up to 600"]
["E23","bis 855","up to 855"]
["E24","bis 1155","up to 1155"]
["E25","bis 2600","up to 2600"]
["E26","bis 3300","up to 3300"]
["E27","bis 3900","up to 3900"]
["E28","855 bis 1155","855 up to 1155"]
["E29","bis 1445","up to 1445"]
["E30","bis 2745","up to 2745"]
[]
[]
[]
[null,"Preise"]
[]
["F1","Auswahl der Artikelpreise und Stundensätze als Preisbasis für die Kalkulation","Choice of prices and hourly wage rates as basis for the calculation"]
["F2"]
["F3","Preise 1","Prices 1"]
["F4","Preise 2","Prices 2"]
["F5","Preis","Price"]
["F6","Preis-","Price-"]
["F7","einheit","unit"]
["F8","Einheit","Unit"]
["F9","Stundensatz für Montagearbeiten","Hourly wage rate for assembly"]
["F10","Kalkulation von Montagekosten :","Calculating costs for the assembly :"]
["F11","Stundensatz","Hourly wage rate"]
["F12","Fehler (!) : ","Fault (!) : "]
["F13","- Ihre Kalkulation enthält Artikel, für die bei der aktuell gewählten Preisbasis keine Preise angegeben wurden. Es werden deshalb keine Kosten ermittelt!","- Your calculation includes articles, for which in the currently chosen Price basis no prices are entered. Therefore no costs are calculated! Please check your"]
["F14","  Bitte prüfen Sie ihre Auswahl an Artikeln oder ihre Eingaben im Tabellenblatt \"Preise_Prices\" und korrigieren Sie dort die orange markierten Felder !","  choice of articles or the inputs in the spreadsheet \"Preise_Prices\" and correct the cells with orange backround there !"]
["F15","- Im Tabellenblatt \"Preise_Prices\" wurde angegeben, dass die Kosten für die Montage ermittelt werden sollen. Es wurde jedoch kein Stundensatz angegeben.","- In the spreadsheet \"Preise_Prices\" You chose to calculate the costs for assembling. But no hourly wage rate was entered."]
["F16","  Es werden deshalb keine Kosten ermittelt! Bitte prüfen sie Ihre Eingaben im Tabellenblatt \"Preise_Prices\" und korrigieren sie die dort orange markierten Felder !","  Therefore no costs are calculated! Please check your inputs in the spreadsheet \"Preise_Prices\" and correct the cells with orange backround there !"]
["F17","ohne Preise kalkulieren","calculate without prices"]
[]
[null,"Material, Einbauten, Basis, Wandtypformular"]
[]
["02.208.00..0000","Stab (5m)","Rail (5m)"]
["02.596.00..0000","Universalspachtelmasse ( ca. 0,25 Kg/m2 )","Universal Filler ( ca. 0.25 Kg/ m2 )"]
["02.597.00..0000","Senkkopf-Kreuzschlitzschraube zur Verkleidungsplatte","Recessed counter sunk screw for cladding panel"]
["03.332.00..0000","Eckverbinder","Corner connector"]
["03.333.00..0000","Modulverbinder","Module connector"]
["03.346.00..0000","Trennstreifen für Putzanschluss 20m","insulation strip for concrete floor 20m"]
["03.545.00..0000","Bauwerksanschluss","Rail fixture"]
["03.723.00..0000","Multiverbinder (Tiefe 155-215 mm)","Multi-connector (Depth 155-215 mm)"]
["03.723.00..S000","Multiverbinder (Tiefe 255-315 mm)","Multi-connector (Depth 255-315 mm)"]
["03.754.00..0000","Verbindungsset für VW-Elemente","Set of connectors for dry wall concealed cisterns"]
["04.070.00..0000","Stützfuß für freistehende Wände","Support foot for isolated walls without fixation"]
["05.132.00..0000","Dachschrägen-Anschluss","Roof pitch connection"]
["05.201.00..0000","Rohrschellenbefestigung","Pipe clamp mounting M8"]
["16.032.00..0000","Schallschutzset zu INEO plus, 996","Noise reduction set for elements"]
["17.115.00..S000","GKBI-Universalverkleidungsplatte ( 1300x600x18 mm )","Uni. plaster board cladding panel (1300x600x18mm)"]
["03.877.00..0000","Modul für Waschtisch und Ausgussbecken mit AP-Armatur","Module for wash basin and sinks with exposed mixers"]
["17.216.00..0000","Befestigungsmodul für schwere Gegenstände, Griffe u.ä.","Module for fixing handles, heavy items, etc."]
["17.239.00..0000","Ergänzungsmodul für Sitzbefestigung","Module for seat fixation"]
["17.268.00..0000","Modul für UP- oder AP-Armaturen","Universal module for mixers"]
["17.275.00..0000","Modul für Aufputzwandbatterien","Module for exposed mixers"]
["17.276.00..0000","WT-Modul für Einloch- und AP-Wandarmaturen","Module f. wash basin,for single hole mixers/  wall mounted mixers"]
["17.279.00..0000","Befestigungsmodul für Griff- und Haltesysteme","Module for handle or support fixation"]
["17.280.00..0000","Befestigungsmodul für Küchenanschlüsse","Module for fixing kitchen connections"]
["17.281.00..0000","Modul für Wandscheiben","Module for water connection"]
["17.282.00..0000","Modul für Waschmaschinenanschluss","Module for washing machine connection"]
["17.286.00..0000","Waschtisch-Modul für Einlocharmaturen","Washbasin module for single hole mixers"]
["17.287.00..0000","Modul für UP- oder AP-Armaturen","Module for concealed or exposed mixers"]
["17.288.00..0000","Waschtisch-Modul behindertengerecht","Washbasin module, handicapped-accessible"]
["17.289.00..0000","Befestigungs-Modul für Griff- und Haltesysteme","Module for fixing handles and supports"]
["90.659.00..0000","INEO-Fäkalausguss-El. für Ausguss \"Publica\", kl. RÖ, Betät. v. vorn, BH 1530 mm","INEO special el. for \"Publica\" wall-h. WC, small acc. op., H 1530 mm"]
["90.662.00..T000","INEO Bidet-Element, BH 985 mm","INEO Bidet-element, H 985 mm"]
["90.663.00..T000","INEO Bidet-Element, BH 820 mm","INEO Bidet-element, H 820 mm"]
["90.668.00..T000","INEO Urinal-Element, für Urinal-Kartuschenventiltechnik, BH 1120 - 1185 mm","INEO Urinal-el. f. urinal-cartridge valve technology, H 1120 - 1185 mm"]
["90.669.00..T000","INEO WT-Element für Einlocharmaturen, BH 985 mm","INEO el. f. basins with single hole mixers, H 985 mm"]
["90.671.00..T000","INEO WT-Element für AP-Wandarmaturen, BH 1120 - 1185 mm","INEO el. f. basins with wall-mounted mixers, H 1120 - 1185 mm"]
["90.672.00..T000","INEO WT-Element für Einlocharmaturen, BH 820 mm","INEO el. f. basins with single hole mixers, H 820 mm"]
["90.673.00..T000","INEO WT-El. für Einloch- o. AP-Wandarmaturen, behinderteng., BH 1120 - 1185 mm","INEO el. f. basins w. single h./wall mount. mixers, handicap. acc., H 1120 - 1185 mm"]
["90.675.00..T000","INEO Urinal-Element für Aufputzdruckspüler, BH 1120 - 1185 mm","INEO Urinal-el. f. urinals with exposed flush valves, H 1120 - 1185 mm"]
["90.676.00..T000","INEO Bidet-Element, BH 1120 mm","INEO Bidet-element, H 1120 mm"]
["90.677.00..T000","INEO Ausguss-Element für Wandarmaturen, BH 1120 - 1185 mm","INEO el. f. basins & sinks with wall mounted mixers, H 1120 - 1185 mm"]
["90.680.00..TR00","Befest.-El. rechts für Griff- u. Haltesysteme, BH 1185 mm","Element f. fixing handles / supports (right s.), H 1185 mm"]
["90.680.00..TL00","Befest.-El. links für Griff- u. Haltesysteme, BH 1185 mm","Element f. fixing handles / supports (left s.), H 1185 mm"]
["90.681.00..T000","INEO BW-Element  für Aufputzwandarmaturen, BH 1120-1185 mm","INEO el. f. bath and shower trays, for exposed mixers, H 1120-1185 mm"]
["90.682.00..T000","INEO BW-Element für UP-Armaturen, BH 1120-1185 mm","INEO el. f. bath and shower trays, for concealed mixers, H 1120-1185 mm"]
["90.685.00..T000","INEO WT-Element für Einlocharmaturen, behinderteng. BH 820 mm","INEO el. f. basins with single hole mixers, handicap. acc., H 820 mm"]
["90.687.00..T000","INEO WT-El. für Einlocharmaturen mit 2 UP-Wasserzählerstrecken, BH 1120 mm","INEO el. f. basins w. single hole mixers with 2 conceal. water meters, H 1120 mm"]
["90.688.00..T000","INEO LINNUM  Leer-Element, BH 1120 mm","INEO LINNUM Empty frame, H 1120 mm"]
["90.689.00..T000","INEO WT-El. für Einlocharmaturen, UP-Montage v. Durchlauferhitzern, BH 1120 mm","INEO el. f. basins w. single hole mix., conceal. install. flow-type heaters, H 1120 mm"]
["90.691.00..T000","INEO WT-El. für Einlocharmaturen mit 2 UP-Wasserzählerstrecken, BH 985 mm","INEO el. f. basins w. single hole mixers with 2 conceal. water meters, H 985 mm"]
["90.696.00..T000","INEO WT-Element für Einlocharmaturen, BH 1120 mm","INEO el. f. basins with single hole mixers, H 1120 mm"]
["90.733.00..T000","INEO PLUS WC-El., kl. RÖ, Betät. v. vorn, BH 1120 mm, Breite 450 mm o. Wandhalter","INEO PLUS WC-el.,small acc., front-op., H 1120 mm,width 450 mm no wall brackets"]
["90.735.00..T000","INEO WC-El. für Stand-/Kinder-WC, kl. RÖ, Betät. v. vorn, BH 1120 mm","INEO WC-El. f. floor standing & children's WC, small acc. op., front-op., H 1120 mm"]
["90.738.00..T000","INEO FRONTOP WC-El., kl. RÖ, Betät. v.vorn/oben, BH 985 mm","INEO FRONTOP WC-El., small access op., front-/top-operated, H 985 mm"]
["90.743.00..T000","INEO PLUS WC-El., kl. RÖ, Betät. v. vorn, BH 1120 mm, Breite 450 mm o. Wandhalter","INEO PLUS WC-el.,small acc., front-op., H 1120 mm,width 450 mm no wall brackets"]
["90.744.00..T000","INEO PLUS WC-El., kl. RÖ, Betät. v. vorn, behindertengerecht, BH 1120 mm","INEO PLUS WC-el., small access op., front-oper., handicap. acc., H 1120 mm"]
["90.745.00..T000","INEO FRONTOP WC-El., kl. RÖ, Betät. v.vorn/oben, BH 820 mm","INEO FRONTOP WC-El., small access op., front-/top-operated, H 820 mm"]
["G1","Stück","Pieces"]
["G2","m","m"]
["G3","Kg","Kg"]
["G4","WC-Elemente","WC-elements"]
["G5","Waschtisch- und Ausgussbecken-Elemente","Elements for wash basins and belfast sinks"]
["G6","Bidet- und Urinal-Elemente","Elements for bidets and urinals"]
["G7","Bade-und Brausewannen","Elements for bath and shower trays"]
["G8","Waschtisch- und Urinal-Module (Sanitärfunktion ohne Trockenbaurahmen)","Modules for wash basins and urinals"]
["G9","Weitere Module (Sanitärfunktion ohne Trockenbaurahmen) & Zubehör","Other Modules & Accessories"]
["G10","barrierefreie Elemente und Module","Handicapped accessible elements and modules"]
["G11","Wandbezeichnung :","Description of wall :"]
["G12","Anzahl der Wände :","Number of walls :"]
["G13","Bauhöhe ab OKFFB :","Height H from FFL:"]
["G14","Schachthöhe :","Height of shaft wall :"]
["G15","Wandbreite :","Length of wall :"]
["G16","Schachtbreite :","Length of shaft wall :"]
["G17","Wandtiefe :","Depth of wall :"]
["G18","Schachttiefe :","Depth of shaft wall :"]
["G19","Elemente und Module für den Einbau :","Elements and modules in the wall :"]
["G20","(*Betätigungsplatten, Steuerungen, etc. sind separat zu bestellen):","(*operating plates, controls, etc. must be ordered separatly) :"]
["G21","Artikel-Nr.","Article-nr."]
["G22","Bezeichnung","Description"]
["G23","Anzahl","Number"]
["G24","1 Wand","1 wall"]
["G25","alle Wd.","all walls"]
["G26","Einheit","Unit"]
["G27","Preis","Price"]
["G28","Materialbedarf für Tragwerk und Beplankung","Material requirements for bearing structure and covering"]
["G29","Benötigte Montagezeit","Time required for assembling"]
["G30","Materialkosten","Cost of material"]
["G31","Tragwerk","bearing structure"]
["G32","Elemente und Module","elements and modules"]
["G33","Beplankung","covering"]
["G34","Fehler (!) : ","Fault (!) : "]
["G35","Bitte geben Sie zuerst alle Abmessungen der Wand ein !","Please input all dimensions of the wall first !"]
["G36","Die für alle Einbauten benötigte Baubreite übersteigt die Gesamtbreite der Wand ! Bitte Eingabe prüfen.","The width necessary for all elements chosen exceeds the length of the wall ! Please check your inputs."]
["G37","Kalkulation ohne Beplankung :","Calculation without covering :"]
["G38","Kalkulation mit Trennstreifen","Calculation incl. insulation strip"]
["G39","Hinweis ( ! ) : ","Note ( ! ) : "]
["G40","Mit Hilfe des Feldes \"Anzahl der Wände\" können Wände mit gleichen","With the option \"Number of walls\" walls with same dimensions"]
["G41","Abmessungen und ! gleichen Einbauten zusammengefasst werden","and ! same fixtures can be summarized"]
["G42","Bitte geben Sie zuerst alle Abmessungen der Wand ein !","Please input all dimensions of the wall first !"]
["G43","In Abhängigkeit von der gewählten Bauhöhe OKFFB werden die","Depending on the installation height H from FFL chosen, the inputing fields"]
["G44","Eingabefelder der technisch möglichen Elemente gelb hinter-","for numbers will turn yellow for all elements being technically"]
["G45","legt. Achten Sie darauf, dass in nicht gelb markierten Feldern","feasible. Pay attention that cells without yellow backround do not "]
["G46","keine Werte enthalten sind! ( Diese werden nicht berechnet )","contain any values ! ( these won't be calculated )"]
["G47","Dieser Wandtyp wird  inklusive der Beplankung des SANIT Schienensystem 996","This type of wall is calculated including the covering of the SANIT 996 dry wall"]
["G48","berechnet. Sie haben die Möglichkeit, die Berechnung ohne diese Beplankung","construction system. You have the option to calculate this type of wall"]
["G49","durchzuführen. Setzen Sie dafür bitte den Haken im Feld links.","without this covering.Therefore please click into the field on the left."]
["G50","Bei Verwendung einer anderen Beplankung als der des SANIT Schienensystem 996","While using another covering than the one of the SANIT 996 dry wall construction system"]
["G51","wird vom Hersteller keine Gewährleistung für die Installationswände übernommen, ","the manufacturer gives no warranty for the installation walls, because leaving out the"]
["G52","da durch das Weglassen der Original-Beplankung eine wichtige Systemkomponente, die","original covering means that an important component of the system, that influences"]
["G53","Einfluss auf die Statik der Installationswände hat, verloren geht.","the statics of the installation walls is lost."]
["G54","Der Trennstreifen und das Schallschutzset sind in der Kalkulation enthalten!","The insulation strip and the noise reduction set are included in calculation!"]
["G55","* Kosten auf Basis ","Costs based on "]
["G56",", siehe \"Preise_Prices\"",", see \"Preise_Prices\""]
["G57","* Für jeden in dieser Installationswand gewählten Einbau wurde der veränderte Materialbedarf automatisch berücksichtigt.","For each installation chosen for this wall, the changed material supply for this wall was automatically calculated"]
["G58","* Für jeden gewählten Einbau wird der veränderte Materialbedarf ggü. Wänden ohne Einbauten automatisch berücksichtigt.","For each installation chosen for this wall, the changed material supply compared to walls without installations is automatically calculated."]
["G59","Positionsbezeichnung :","Description of position :"]
["G60","* Durch jeden hier ausgewählten Einbau verändert sich der Materialbedarf für das Tragwerk einer Wand.","For each installation chosen, the material supply for the bearing structure of a dry wall changes."]
["G61","Beidseitig Sanitärinstallationen?:","Installations on both sides of wall?:"]
["G62","(nur für freistehende Wände und Installationstrennwände)","(only possible for isolated walls and installation partition walls)"]
["G63","Die Elemente und Module werden auf beiden Seiten der Wand installiert.","The elements and modules are installed on both sides of the wall"]
["G64","Die entgültige Prüfung auf technische Realisierbarkeit obliegt dem Nutzer!","The user is responsible for the final check on the technical feasability!"]
["G65","Diese Option ist für den gewählten Wandtyp nicht zulässig!","This option is not valid for the choosen type of wall!"]
["G66","und Schallschutzset 996:","and noise reduction set:"]
["G67","Kollisionsprüfung für Nutzbreite der Wand:","Interference check length of wall:"]
["G68","Kollisionsprüfung für Nutzbreite Schacht:","Interference check length of shaft wall:"]
["G69","Die Nutzbreite der Wand wird nicht auf Umsetzbarkeit der gewählten Einbauten geprüft!","The effective length of the wall will not be checked on feasibility of all installations chosen!"]
["G70","Die Nutzbreite des Schachtes wird nicht auf Umsetzbarkeit der gewählten Einbauten geprüft!","The effective length of the shaft wall will not be checked on feasibility of all installations chosen!"]
[]
[null,"Übersicht/ Summary"]
[]
["02.208.00..0000_1","Stab (5m)","Rail (5m)"]
["02.596.00..0000_1","Universalspachtelmasse","Universal Filler"]
["02.597.00..0000_1","Senkkopf-Kreuzschlitzschr.","Reces. counter sunk s."]
["03.332.00..0000_1","Eckverbinder","Corner connector"]
["03.333.00..0000_1","Modulverbinder","Module connector"]
["03.346.00..0000_1","Trennstreifen","Insulation strip"]
["03.545.00..0000_1","Bauwerksanschluss","Rail fixture"]
["03.723.00..0000_1","Multiverbinder (Tiefe 155-215 mm)","Multi-connector (Depth 155-215 mm)"]
["03.723.00..S000_1","Multiverbinder (Tiefe 255-315 mm)","Multi-connector (Depth 255-315 mm)"]
["03.754.00..0000_1","Verbindungsset","Set of connectors"]
["04.070.00..0000_1","Stützfuß","Support foot"]
["05.132.00..0000_1","Dachschrägen-Anschluss","Roof pitch connection"]
["05.201.00..0000_1","Rohrschellenbefestigung","Pipe clamp mounting M8"]
["16.032.00..0000_1","Schallschutzset zu INEO plus, 996","Noise reduction set for elements"]
["17.115.00..S000_1","GKBI-Universalverkleidungsplatte","Uni.  plaster board cladding panel"]
["03.877.00..0000_1","Modul für WT und Ausgussb. mit AP-Armatur","Module for wash b. and sinks w. exp. mixers"]
["17.216.00..0000_1","Befestigungsmodul f. schwere Gegenstände","Module for fixing handles"]
["17.239.00..0000_1","Modul für Sitzbefestigung","Module for seat fixation"]
["17.268.00..0000_1","Modul für UP- oder AP-Armaturen","Universal module for mixers"]
["17.275.00..0000_1","Modul für Aufputzwandbatterien","Module for exposed mixers"]
["17.276.00..0000_1","WT für Einloch- und AP-Wandarmaturen","WB module, f. single h. or wall mounted mixers"]
["17.279.00..0000_1","Befestigungsmodul für Griffe","Module for handle fixation"]
["17.280.00..0000_1","Befestigungsmodul für Küchenanschlüsse","Module for fixing kitchen connections"]
["17.281.00..0000_1","Modul für Wandscheiben","Module for water connection"]
["17.282.00..0000_1","Modul für Waschmaschinenanschluss","Module for washing machine connection"]
["17.286.00..0000_1","Waschtisch-Modul für Einlocharmaturen","Washbasin module for single hole mixers"]
["17.287.00..0000_1","Modul für UP- oder AP-Armaturen","Module for concealed or exposed mixers"]
["17.288.00..0000_1","Waschtisch-Modul behindertengerecht","Washbasin module, handicapped-accessible"]
["17.289.00..0000_1","Befestigungsmodul für Griff- und Haltesysteme","Module for fixing handles and supports"]
["90.659.00..0000_1","INEO-El. für Ausguss \"Publica\", BH 1530","INEO-El. for \"Publica\" sink, H 1530"]
["90.662.00..T000_1","INEO Bidget, BH 985","INEO Bidget, H 985"]
["90.663.00..T000_1","INEO Bidet, BH 820","INEO Bidet, H 820"]
["90.668.00..T000_1","INEO Urinal, BH 1120 - 1185","INEO WB urinal, H 1120 - 1185"]
["90.669.00..T000_1","INEO WT f. Einlocharm, BH 985","INEO WB f. single hole mixers, H 985"]
["90.671.00..T000_1","INEO WT f. AP-Wandarm., BH 1120 - 1185","INEO WB f. wall-mounted mix., H 1120-1185"]
["90.672.00..T000_1","INEO WT f. Einlocharm., BH 820","INEO WB f. single hole mixers, H 820"]
["90.673.00..T000_1","INEO WT f. Einlocharm, behindg. BH 1120 - 1185","INEO WB f. single h. mix.,handic.,H 1120 - 1185"]
["90.675.00..T000_1","INEO Urinal AP-Druckspül. BH 1120-1185","INEO Urinal exposed flush v., H 1120-1185"]
["90.676.00..T000_1","INEO Bidet, BH 1120","INEO Bidet, H 1120"]
["90.677.00..T000_1","INEO Ausg.-El. für Wandarm., BH 1120-1185","INEO WB f. wall mounted mix., H 1120-1185"]
["90.680.00..TR00_1","Befestigung. rechts","El. f. fixing handles/supports (right)"]
["90.680.00..TL00_1","Befestigung. links","El. f. fixing handles/upports (left)"]
["90.681.00..T000_1","INEO BW-Element AP","INEO bath element, for exposed mix."]
["90.682.00..T000_1","INEO BW-Element UP","INEO bath element, for concealed mix."]
["90.685.00..T000_1","INEO WT f. Einlocharm., behinderteng. BH 820","INEO WB f. single hole mixers, handic., H 820"]
["90.687.00..T000_1","INEO WT f.Einlocharm., Wasserz., BH 1120","INEO WB f. single h. mix.,2 water meter, H 1120"]
["90.688.00..T000_1","INEO LINNUM  Leer-Element, BH 1120","INEO LINNUM Empty frame, H 1120"]
["90.689.00..T000_1","INEO WT f. Einlocharm., Durchlauferh., BH 1120","INEO WB f. single h. mix.,flow-type heat.,H 1120"]
["90.691.00..T000_1","INEO WT f.Einlocharm., Wasserz., BH 985","INEO WB f. single h. mix.,2 water meter, H 985"]
["90.696.00..T000_1","INEO WT f. Einlocharm, BH 1120","INEO WB f. single hole mixers, H 1120"]
["90.735.00..T000_1","INEO WC-El.,  f. Stand-/Kinder-WC, BH 1185","INEO WC-El.  floor standing WC, H 1120"]
["90.738.00..T000_1","INEO FRONTOP WC, kl. RÖ, v./o., BH 985","INEO FRONTOP WC-El., front-/top-op., H 985"]
["90.743.00..T000_1","INEO PLUS WC-El., BH 1120 , B=450","INEO PLUS WC-el., H 1120 mm B=450"]
["90.744.00..T000_1","INEO PLUS WC-El., behindg., BH 1120","INEO PLUS WC-el., f. disabled, H 1120"]
["90.745.00..T000_1","INEO FRONTOP WC, kl. RÖ, v./o., BH 820","INEO FRONTOP WC-El., front-/top-op., H 820"]
["H1","Projekt insgesamt","Project total "]
["H2","Wandtyp","Type of wall"]
["H3","Abmessungen der Wand","Dimensions of the wall"]
["H4","Bauhöhe ab OKFFB (mm) / Schachthöhe","Height from FFL (mm) / Height of shaft wall"]
["H5","Wandbreite (mm) / Schachtbreite","Length of wall (mm) / Length of shaft wall"]
["H6","Montagezeit","Assembly time"]
["H7","Tragwerk (min)","bearing structure (min)"]
["H8","Elemente und Module (min.)","elements and modules (min.)"]
["H9","Beplankung (min)","covering (min)"]
["H10","Gesamt (min)","total (min)"]
["H11","Montagekosten","Assembly cost"]
["H12","( Stundensatz =","( hourly wage rate ="]
["H13"," Euro/ h )"," Euro/ h )"]
["H14","Materialkosten","Cost of material"]
["H15","Tragwerk","bearing structure"]
["H16","Elemente und Module","elements and modules"]
["H17","Beplankung","covering"]
["H18","Gesamt","total"]
["H19","- In den orange markierten Wänden sind ihre Angaben fehlerhaft. Für diese Wand wird deshalb keine Berechnung durchgeführt ! Bitte beachten Sie die Fehleranzeige","- For the installation walls with orange background your inputs are incorrect. Therefore this wall is not calculated! Please attend the faults displayed in the"]
["H20","  im Tabellenblatt dieser Wand und korrigieren Sie ihre Angaben.","  spreadsheet of this wall and correct your inputs."]
["H21","Für Ausdrucke bitte die Anzahl der benötigten Seiten eingeben (Anzeige über das Menü  Datei > Seitenansicht möglich, Druck über das Menü Datei > Drucken > Druckbereich).","For print-outs please input the number of neccessary pages first (displayed under the Menu File > print preview, Printing under the Menu > Print > Print range)"]
["H22","Ansonsten werden alle Seiten ausgedruckt (max. 6 Seiten) !","Otherwise all pages are printed ( max. 6 pages) !"]
["H23","Achtung (!) :","Attention ( ! ) :"]
["H24","Bei einigen der von Ihnen kalkulierten Wände wurde auf die","For some of the walls you' ve calculated, you have chosen to"]
["H25","SANIT 996 Beplankung verzichtet.","pass on the covering of the SANIT 996-system."]
["H26","Bei Verwendung einer anderen Beplankung als der des SANIT-","While using another covering than the one of the SANIT 996 dry wall"]
["H27","Schienensystem 996 wird vom Hersteller keine Gewährleistung","construction system the manufacturer gives no warranty for"]
["H28","übernommen, da durch das Weglassen der Original-Beplankung","the installation walls, because leaving out the original covering"]
["H29","eine wichtige Systemkomponente, die Einfluss auf die Statik","means that an important component of the system, that influences"]
["H30","der Installationswände hat, verloren geht.","the statics of the installation walls is lost."]
["H31","Anzahl der Wände :","Number of walls :"]
[]
[null,"Bestellung"]
[]
["I1","Bestellung für SANIT Schienensystem 996 für Trockenbau","Order for SANIT 996 dry wall construction system"]
["I2","Firma :","Company :"]
["I3","Kundennummer :","Customer number :"]
["I4","Besteller / Ansprechpartner :","Purchaser / Contact person :"]
["I5","Telefon :","Phone :"]
["I6","Fax :","Fax :"]
["I7","e-mail :","e-mail :"]
["I8","Bestellnummer :","Order number :"]
["I9","Bestelldatum :","Purchase order date :"]
["I10","Terminwunsch Lieferung :","Date of delivery expected :"]
["I11","Kommission :","Commission :"]
["I12","Lieferanschrift :","Delivery address :"]
["I13","*Bitte wenden Sie sich mit Ihrer Bestellung","*Please contact your whole saler to place"]
["I14"," an ihren Großhandelspartner !"," your order !"]
["I15","Ihr Großhandelspartner:","Your whole saler :"]
["I16","Zusätze ( z.B. Betätigungsplatten, WC-und Urinal-Steuerungen, etc. ):","Extras (e.g. operating plates, wc- and urinal controls, etc.)"]
["I17","Ihre Kalkulation weist noch Fehler auf! Bitte prüfen Sie das Tabellenblatt \"Übersicht_Summary\" und beheben Sie die angezeigten Fehler."]
["I18","* abweichend von den in dieser Bestellung exakt ausgewiesenen Mengen erfolgt die Auslieferung nur in kompletten Verpackungseinheiten !","* in difference to the exactly calculated amounts and numbers in this order, the delivery will be based on the packaging units offered by SANIT !"]

{"sheet":"Einbauten_Installations","index":7,"n_rows":127,"n_cols":40,"rows_kept":127,"cut":false,"hidden":true,"merged":[[6,13,11,13],[7,1,7,2],[12,11,12,12],[1,1,1,2],[1,3,1,6],[3,1,3,2],[3,3,3,6],[5,1,5,2],[5,3,5,6],[34,1,35,1],[34,9,34,10],[34,11,35,11],[108,1,110,1],[115,1,117,1]]}
[null,{"$f":"IF(AND(D10=\"\",D11=\"\",D12=\"\",W19=0),\"\",IF(AND(D10=\"\",D11=\"\",D12=\"\",W19<>0),Y6&Y19,IF(X7=TRUE,IF(AND(X12=TRUE,X13=TRUE),IF(AND(X8=TRUE,X9=TRUE),IF(AND(X10=TRUE,X11=TRUE),IF(X23=TRUE,\"\",Y6&Y23),Y6&Y10),Y6&Y9),Y6&Y13),Y6&Y7)))","v":""},null,null,null,null,null,null,null,null,null,null,null,null,null,null,null,null,null,"Projekt :","Wandtyp","1.1.1",{"$f":"getpiktogramm($V$1)","v":"OK"},"Basis_WT_","WBreite_"]
[null,{"$f":"Wandtypen_Walltypes!E1","v":"Bauvorhaben / Projekt :"},null,{"$f":"Wandtypen_Walltypes!G1","v":0},null,null,null,{"$f":"Wandtypen_Walltypes!K1","v":"Projekt-Nr. :"},{"$f":"Wandtypen_Walltypes!L1","v":0}]
[]
[null,{"$f":"Wandtypen_Walltypes!E2","v":"Sachbearbeiter :"},null,{"$f":"Wandtypen_Walltypes!G2","v":0},null,null,null,{"$f":"Wandtypen_Walltypes!K2","v":"Datum :"},{"$f":"Wandtypen_Walltypes!L2","v":"00:00:00"}]
[]
[null,{"$f":"gettext(\"G59\",Sprache!$D$1)","v":"Positionsbezeichnung :"}]
[]
[null,{"$f":"gettext(\"G12\",Sprache!$D$1)","v":"Anzahl der Wände :"},null,1]
[]
[]
[]
[]
[]
[]
[]
[]
[]
[]
[]
[]
[null,null,null,null,null,null,null,null,null,null,null,null,null,null,null,null,null,null,null,null,"Alle Checks",null,null,true,"Alle Checks vor technischer Prüfung!"]
[]
[null,null,null,null,null,null,null,null,null,null,null,null,null,null,null,null,null,null,null,null,"Nutzbreite Wand >= Baubreite El.",{"$f":"IF(NOT(D11=\"\"),IF(AND(W113=TRUE,OR(VALUE(V33)=3,VALUE(V33)=2)),2*INDEX(INDIRECT(CONCATENATE($X$1,$V$1)),MATCH($D$11,INDIRECT(CONCATENATE($Y$1,$V$1)),-1),13),INDEX(INDIRECT(CONCATENATE($X$1,$V$1)),MATCH($D$11,INDIRECT(CONCATENATE($Y$1,$V$1)),-1),13)),0)","v":0},{"$f":"SUM(X38:X85)","v":0},true,{"$f":"gettext(\"G36\",Sprache!$D$1)","v":"Die für alle Einbauten benötigte Baubreite übersteigt die Gesamtbreite der Wand ! Bitte Eingabe prüfen."}]
[]
[]
[]
[]
[null,null,null,null,null,null,null,null,null,null,null,null,null,null,null,null,null,null,null,null,"Alle Checks"]
[]
[]
[]
[]
[null,{"$f":"gettext(\"G19\",Sprache!$D$1)","v":"Elemente und Module für den Einbau :"},null,null,null,{"$f":"gettext(\"G20\",Sprache!$D$1)","v":"(*Betätigungsplatten, Steuerungen, etc. sind separat zu bestellen):"},null,null,null,null,null,null,null,null,null,null,null,null,null,null,"Elemente erlaubt?",{"$f":"LEFT(V1,1)","v":"1"},{"$f":"VALUE(V33)<4","v":true}]
[]
[null,{"$f":"gettext(\"G21\",Sprache!$D$1)","v":"Artikel-Nr."},{"$f":"gettext(\"G22\",Sprache!$D$1)","v":"Bezeichnung"},null,null,null,null,null,null,{"$f":"gettext(\"G23\",Sprache!$D$1)","v":"Anzahl"},null,{"$f":"gettext(\"G26\",Sprache!$D$1)","v":"Einheit"},{"$f":"gettext(\"G27\",Sprache!$D$1)","v":"Preis"}]
[null,"keine Elemente",null,null,null,null,null,null,null,{"$f":"gettext(\"G24\",Sprache!$D$1)","v":"1 Wand"},{"$f":"gettext(\"G25\",Sprache!$D$1)","v":"alle Wd."},null,{"$f":"K36","v":"alle Wd."},null,null,null,null,null,null,null,"BH Element","WT Element","El. Zulässig ?","Breite Elemente","Menge Wand",{"$f":"Einbauten!H2","v":"02.208.00..0000"},{"$f":"Einbauten!I2","v":"03.332.00..0000"},{"$f":"Einbauten!J2","v":"03.333.00..0000"},{"$f":"Einbauten!K2","v":"03.754.00..0000"},{"$f":"Einbauten!L2","v":"02.208.00..0000"},{"$f":"Einbauten!G2","v":"Einbauzeit"},"Preis/Einheit","Preis/Wand",null,null,null,null,null,null,"Filter Druck"]
[null,{"$f":"Einbauten!A3","v":"WC-Elemente"},null,null,null,null,null,null,null,null,null,null,null,null,null,null,null,null,null,null,null,null,null,null,null,null,null,null,null,null,null,null,null,null,null,null,null,null,null,0]
[null,{"$f":"Einbauten!A4","v":"90.745.00..T000"},{"$f":"gettext(B38,Sprache!$D$1)","v":"INEO FRONTOP WC-El., kl. RÖ, Betät. v.vorn/oben, BH 820 mm"},null,null,null,null,null,null,null,{"$f":"IF(AND(W38=TRUE,$X$23=TRUE),$D$8*J38,0)","v":0},{"$f":"Einbauten!B4","v":"Stück"},{"$f":"K38*AF38","v":0},null,null,null,null,null,null,null,{"$f":"IF(Einbauten!D4=\"\",$V$16,Einbauten!D4)","v":855},{"$f":"IF(Einbauten!F4=\"\",$V$17,Einbauten!F4)","v":155},true,{"$f":"IF(W38=TRUE,J38*Einbauten!E4,0)","v":0},{"$f":"IF(AND(W38=TRUE,$X$23=TRUE),J38,0)","v":0},{"$f":"$Y38*Einbauten!H4","v":0},{"$f":"$Y38*Einbauten!I4","v":0},{"$f":"$Y38*Einbauten!J4","v":0},{"$f":"$Y38*Einbauten!K4","v":0},{"$f":"$Y38*Einbauten!L4","v":0},{"$f":"$Y38*Einbauten!G4","v":0},{"$f":"CHOOSE(Preise_Prices!$X$9,0,Preise_Prices!O16,Preise_Prices!T16)","v":0},{"$f":"AF38*Y38","v":0},null,null,null,null,null,null,{"$f":"K38","v":0}]
[null,{"$f":"Einbauten!A5","v":"90.738.00..T000"},{"$f":"gettext(B39,Sprache!$D$1)","v":"INEO FRONTOP WC-El., kl. RÖ, Betät. v.vorn/oben, BH 985 mm"},null,null,null,null,null,null,null,{"$f":"IF(AND(W39=TRUE,$X$23=TRUE),$D$8*J39,0)","v":0},{"$f":"Einbauten!B5","v":"Stück"},{"$f":"K39*AF39","v":0},null,null,null,null,null,null,null,{"$f":"IF(Einbauten!D5=\"\",$V$16,Einbauten!D5)","v":1020},{"$f":"IF(Einbauten!F5=\"\",$V$17,Einbauten!F5)","v":155},true,{"$f":"IF(W39=TRUE,J39*Einbauten!E5,0)","v":0},{"$f":"IF(AND(W39=TRUE,$X$23=TRUE),J39,0)","v":0},{"$f":"$Y39*Einbauten!H5","v":0},{"$f":"$Y39*Einbauten!I5","v":0},{"$f":"$Y39*Einbauten!J5","v":0},{"$f":"$Y39*Einbauten!K5","v":0},{"$f":"$Y39*Einbauten!L5","v":0},{"$f":"$Y39*Einbauten!G5","v":0},{"$f":"CHOOSE(Preise_Prices!$X$9,0,Preise_Prices!O17,Preise_Prices!T17)","v":0},{"$f":"AF39*Y39","v":0},null,null,null,null,null,null,{"$f":"K39","v":0}]
[null,{"$f":"Einbauten!A6","v":"90.743.00..T000"},{"$f":"gettext(B40,Sprache!$D$1)","v":"INEO PLUS WC-El., kl. RÖ, Betät. v. vorn, BH 1120 mm, Breite 450 mm o. Wandhalter"},null,null,null,null,null,null,null,{"$f":"IF(AND(W40=TRUE,$X$23=TRUE),$D$8*J40,0)","v":0},{"$f":"Einbauten!B6","v":"Stück"},{"$f":"K40*AF40","v":0},null,null,null,null,null,null,null,{"$f":"IF(Einbauten!D6=\"\",$V$16,Einbauten!D6)","v":1155},{"$f":"IF(Einbauten!F6=\"\",$V$17,Einbauten!F6)","v":135},true,{"$f":"IF(W40=TRUE,J40*Einbauten!E6,0)","v":0},{"$f":"IF(AND(W40=TRUE,$X$23=TRUE),J40,0)","v":0},{"$f":"$Y40*Einbauten!H6","v":0},{"$f":"$Y40*Einbauten!I6","v":0},{"$f":"$Y40*Einbauten!J6","v":0},{"$f":"$Y40*Einbauten!K6","v":0},{"$f":"$Y40*Einbauten!L6","v":0},{"$f":"$Y40*Einbauten!G6","v":0},{"$f":"CHOOSE(Preise_Prices!$X$9,0,Preise_Prices!O18,Preise_Prices!T18)","v":0},0,null,null,null,null,null,null,{"$f":"K40","v":0}]
[null,{"$f":"Einbauten!A7","v":"90.735.00..T000"},{"$f":"gettext(B41,Sprache!$D$1)","v":"INEO WC-El. für Stand-/Kinder-WC, kl. RÖ, Betät. v. vorn, BH 1120 mm"},null,null,null,null,null,null,null,{"$f":"IF(AND(W41=TRUE,$X$23=TRUE),$D$8*J41,0)","v":0},{"$f":"Einbauten!B7","v":"Stück"},{"$f":"K41*AF41","v":0},null,null,null,null,null,null,null,{"$f":"IF(Einbauten!D7=\"\",$V$16,Einbauten!D7)","v":1155},{"$f":"IF(Einbauten!F7=\"\",$V$17,Einbauten!F7)","v":135},true,{"$f":"IF(W41=TRUE,J41*Einbauten!E7,0)","v":0},{"$f":"IF(AND(W41=TRUE,$X$23=TRUE),J41,0)","v":0},{"$f":"$Y41*Einbauten!H7","v":0},{"$f":"$Y41*Einbauten!I7","v":0},{"$f":"$Y41*Einbauten!J7","v":0},{"$f":"$Y41*Einbauten!K7","v":0},{"$f":"$Y41*Einbauten!L7","v":0},{"$f":"$Y41*Einbauten!G7","v":0},{"$f":"CHOOSE(Preise_Prices!$X$9,0,Preise_Prices!O19,Preise_Prices!T19)","v":0},0,null,null,null,null,null,null,{"$f":"K41","v":0}]
[null,{"$f":"Einbauten!A8","v":"Waschtisch- und Ausgussbecken-Elemente"},null,null,null,null,null,null,null,null,null,null,null,null,null,null,null,null,null,null,null,null,null,null,null,null,null,null,null,null,null,null,null,null,null,null,null,null,null,0]
[null,{"$f":"Einbauten!A9","v":"90.672.00..T000"},{"$f":"gettext(B43,Sprache!$D$1)","v":"INEO WT-Element für Einlocharmaturen, BH 820 mm"},null,null,null,null,null,null,null,{"$f":"IF(AND(W43=TRUE,$X$23=TRUE),$D$8*J43,0)","v":0},{"$f":"Einbauten!B9","v":"Stück"},{"$f":"K43*AF43","v":0},null,null,null,null,null,null,null,{"$f":"IF(Einbauten!D9=\"\",$V$16,Einbauten!D9)","v":855},{"$f":"IF(Einbauten!F9=\"\",$V$17,Einbauten!F9)","v":0},true,{"$f":"IF(W43=TRUE,J43*Einbauten!E9,0)","v":0},{"$f":"IF(AND(W43=TRUE,$X$23=TRUE),J43,0)","v":0},{"$f":"$Y43*Einbauten!H9","v":0},{"$f":"$Y43*Einbauten!I9","v":0},{"$f":"$Y43*Einbauten!J9","v":0},{"$f":"$Y43*Einbauten!K9","v":0},{"$f":"$Y43*Einbauten!L9","v":0},{"$f":"$Y43*Einbauten!G9","v":0},{"$f":"CHOOSE(Preise_Prices!$X$9,0,Preise_Prices!O21,Preise_Prices!T21)","v":0},{"$f":"AF43*Y43","v":0},null,null,null,null,null,null,{"$f":"K43","v":0}]
[null,{"$f":"Einbauten!A10","v":"90.669.00..T000"},{"$f":"gettext(B44,Sprache!$D$1)","v":"INEO WT-Element für Einlocharmaturen, BH 985 mm"},null,null,null,null,null,null,null,0,{"$f":"Einbauten!B10","v":"Stück"},0,null,null,null,null,null,null,null,{"$f":"IF(Einbauten!D10=\"\",$V$16,Einbauten!D10)","v":1020},{"$f":"IF(Einbauten!F10=\"\",$V$17,Einbauten!F10)","v":0},true,{"$f":"IF(W44=TRUE,J44*Einbauten!E10,0)","v":0},0,{"$f":"$Y44*Einbauten!H10","v":0},{"$f":"$Y44*Einbauten!I10","v":0},{"$f":"$Y44*Einbauten!J10","v":0},{"$f":"$Y44*Einbauten!K10","v":0},{"$f":"$Y44*Einbauten!L10","v":0},{"$f":"$Y44*Einbauten!G10","v":0},{"$f":"CHOOSE(Preise_Prices!$X$9,0,Preise_Prices!O22,Preise_Prices!T22)","v":0},0,null,null,null,null,null,null,0]
[null,{"$f":"Einbauten!A11","v":"90.696.00..T000"},{"$f":"gettext(B45,Sprache!$D$1)","v":"INEO WT-Element für Einlocharmaturen, BH 1120 mm"},null,null,null,null,null,null,null,0,{"$f":"Einbauten!B11","v":"Stück"},0,null,null,null,null,null,null,null,{"$f":"IF(Einbauten!D11=\"\",$V$16,Einbauten!D11)","v":1155},{"$f":"IF(Einbauten!F11=\"\",$V$17,Einbauten!F11)","v":0},true,{"$f":"IF(W45=TRUE,J45*Einbauten!E11,0)","v":0},0,{"$f":"$Y45*Einbauten!H11","v":0},{"$f":"$Y45*Einbauten!I11","v":0},{"$f":"$Y45*Einbauten!J11","v":0},{"$f":"$Y45*Einbauten!K11","v":0},{"$f":"$Y45*Einbauten!L11","v":0},{"$f":"$Y45*Einbauten!G11","v":0},{"$f":"CHOOSE(Preise_Prices!$X$9,0,Preise_Prices!O23,Preise_Prices!T23)","v":0},0,null,null,null,null,null,null,0]
[null,{"$f":"Einbauten!A12","v":"90.671.00..T000"},{"$f":"gettext(B46,Sprache!$D$1)","v":"INEO WT-Element für AP-Wandarmaturen, BH 1120 - 1185 mm"},null,null,null,null,null,null,null,0,{"$f":"Einbauten!B12","v":"Stück"},0,null,null,null,null,null,null,null,{"$f":"IF(Einbauten!D12=\"\",$V$16,Einbauten!D12)","v":1155},{"$f":"IF(Einbauten!F12=\"\",$V$17,Einbauten!F12)","v":0},true,{"$f":"IF(W46=TRUE,J46*Einbauten!E12,0)","v":0},0,{"$f":"$Y46*Einbauten!H12","v":0},{"$f":"$Y46*Einbauten!I12","v":0},{"$f":"$Y46*Einbauten!J12","v":0},{"$f":"$Y46*Einbauten!K12","v":0},{"$f":"$Y46*Einbauten!L12","v":0},{"$f":"$Y46*Einbauten!G12","v":0},{"$f":"CHOOSE(Preise_Prices!$X$9,0,Preise_Prices!O24,Preise_Prices!T24)","v":0},0,null,null,null,null,null,null,0]
[null,{"$f":"Einbauten!A13","v":"90.677.00..T000"},{"$f":"gettext(B47,Sprache!$D$1)","v":"INEO Ausguss-Element für Wandarmaturen, BH 1120 - 1185 mm"},null,null,null,null,null,null,null,0,{"$f":"Einbauten!B13","v":"Stück"},0,null,null,null,null,null,null,null,{"$f":"IF(Einbauten!D13=\"\",$V$16,Einbauten!D13)","v":1155},{"$f":"IF(Einbauten!F13=\"\",$V$17,Einbauten!F13)","v":0},true,{"$f":"IF(W47=TRUE,J47*Einbauten!E13,0)","v":0},0,{"$f":"$Y47*Einbauten!H13","v":0},{"$f":"$Y47*Einbauten!I13","v":0},{"$f":"$Y47*Einbauten!J13","v":0},{"$f":"$Y47*Einbauten!K13","v":0},{"$f":"$Y47*Einbauten!L13","v":0},{"$f":"$Y47*Einbauten!G13","v":0},{"$f":"CHOOSE(Preise_Prices!$X$9,0,Preise_Prices!O25,Preise_Prices!T25)","v":0},0,null,null,null,null,null,null,0]
[null,{"$f":"Einbauten!A14","v":"90.691.00..T000"},{"$f":"gettext(B48,Sprache!$D$1)","v":"INEO WT-El. für Einlocharmaturen mit 2 UP-Wasserzählerstrecken, BH 985 mm"},null,null,null,null,null,null,null,0,{"$f":"Einbauten!B14","v":"Stück"},0,null,null,null,null,null,null,null,{"$f":"IF(Einbauten!D14=\"\",$V$16,Einbauten!D14)","v":1020},{"$f":"IF(Einbauten!F14=\"\",$V$17,Einbauten!F14)","v":0},true,{"$f":"IF(W48=TRUE,J48*Einbauten!E14,0)","v":0},0,{"$f":"$Y48*Einbauten!H14","v":0},{"$f":"$Y48*Einbauten!I14","v":0},{"$f":"$Y48*Einbauten!J14","v":0},{"$f":"$Y48*Einbauten!K14","v":0},{"$f":"$Y48*Einbauten!L14","v":0},{"$f":"$Y48*Einbauten!G14","v":0},{"$f":"CHOOSE(Preise_Prices!$X$9,0,Preise_Prices!O26,Preise_Prices!T26)","v":0},0,null,null,null,null,null,null,0]
[null,{"$f":"Einbauten!A15","v":"90.687.00..T000"},{"$f":"gettext(B49,Sprache!$D$1)","v":"INEO WT-El. für Einlocharmaturen mit 2 UP-Wasserzählerstrecken, BH 1120 mm"},null,null,null,null,null,null,null,0,{"$f":"Einbauten!B15","v":"Stück"},0,null,null,null,null,null,null,null,{"$f":"IF(Einbauten!D15=\"\",$V$16,Einbauten!D15)","v":1155},{"$f":"IF(Einbauten!F15=\"\",$V$17,Einbauten!F15)","v":0},true,{"$f":"IF(W49=TRUE,J49*Einbauten!E15,0)","v":0},0,{"$f":"$Y49*Einbauten!H15","v":0},{"$f":"$Y49*Einbauten!I15","v":0},{"$f":"$Y49*Einbauten!J15","v":0},{"$f":"$Y49*Einbauten!K15","v":0},{"$f":"$Y49*Einbauten!L15","v":0},{"$f":"$Y49*Einbauten!G15","v":0},{"$f":"CHOOSE(Preise_Prices!$X$9,0,Preise_Prices!O27,Preise_Prices!T27)","v":0},0,null,null,null,null,null,null,0]
[null,{"$f":"Einbauten!A16","v":"90.689.00..T000"},{"$f":"gettext(B50,Sprache!$D$1)","v":"INEO WT-El. für Einlocharmaturen, UP-Montage v. Durchlauferhitzern, BH 1120 mm"},null,null,null,null,null,null,null,0,{"$f":"Einbauten!B16","v":"Stück"},0,null,null,null,null,null,null,null,{"$f":"IF(Einbauten!D16=\"\",$V$16,Einbauten!D16)","v":1155},{"$f":"IF(Einbauten!F16=\"\",$V$17,Einbauten!F16)","v":0},true,{"$f":"IF(W50=TRUE,J50*Einbauten!E16,0)","v":0},0,{"$f":"$Y50*Einbauten!H16","v":0},{"$f":"$Y50*Einbauten!I16","v":0},{"$f":"$Y50*Einbauten!J16","v":0},{"$f":"$Y50*Einbauten!K16","v":0},{"$f":"$Y50*Einbauten!L16","v":0},{"$f":"$Y50*Einbauten!G16","v":0},{"$f":"CHOOSE(Preise_Prices!$X$9,0,Preise_Prices!O28,Preise_Prices!T28)","v":0},0,null,null,null,null,null,null,0]
[null,{"$f":"Einbauten!A17","v":"90.688.00..T000"},{"$f":"gettext(B51,Sprache!$D$1)","v":"INEO LINNUM  Leer-Element, BH 1120 mm"},null,null,null,null,null,null,null,0,{"$f":"Einbauten!B17","v":"Stück"},0,null,null,null,null,null,null,null,{"$f":"IF(Einbauten!D17=\"\",$V$16,Einbauten!D17)","v":1155},{"$f":"IF(Einbauten!F17=\"\",$V$17,Einbauten!F17)","v":0},true,{"$f":"IF(W51=TRUE,J51*Einbauten!E17,0)","v":0},0,{"$f":"$Y51*Einbauten!H17","v":0},{"$f":"$Y51*Einbauten!I17","v":0},{"$f":"$Y51*Einbauten!J17","v":0},{"$f":"$Y51*Einbauten!K17","v":0},{"$f":"$Y51*Einbauten!L17","v":0},{"$f":"$Y51*Einbauten!G17","v":0},{"$f":"CHOOSE(Preise_Prices!$X$9,0,Preise_Prices!O29,Preise_Prices!T29)","v":0},0,null,null,null,null,null,null,0]
[null,{"$f":"Einbauten!A18","v":"90.659.00..0000"},{"$f":"gettext(B52,Sprache!$D$1)","v":"INEO-Fäkalausguss-El. für Ausguss \"Publica\", kl. RÖ, Betät. v. vorn, BH 1530 mm"},null,null,null,null,null,null,null,0,{"$f":"Einbauten!B18","v":"Stück"},0,null,null,null,null,null,null,null,{"$f":"IF(Einbauten!D18=\"\",$V$16,Einbauten!D18)","v":1565},{"$f":"IF(Einbauten!F18=\"\",$V$17,Einbauten!F18)","v":155},true,{"$f":"IF(W52=TRUE,J52*Einbauten!E18,0)","v":0},0,{"$f":"$Y52*Einbauten!H18","v":0},{"$f":"$Y52*Einbauten!I18","v":0},{"$f":"$Y52*Einbauten!J18","v":0},{"$f":"$Y52*Einbauten!K18","v":0},{"$f":"$Y52*Einbauten!L18","v":0},{"$f":"$Y52*Einbauten!G18","v":0},{"$f":"CHOOSE(Preise_Prices!$X$9,0,Preise_Prices!O30,Preise_Prices!T30)","v":0},0,null,null,null,null,null,null,0]
[null,{"$f":"Einbauten!A19","v":"Bidet- und Urinal-Elemente"},null,null,null,null,null,null,null,null,null,null,null,null,null,null,null,null,null,null,null,null,null,null,null,null,null,null,null,null,null,null,null,null,null,null,null,null,null,0]
[null,{"$f":"Einbauten!A20","v":"90.663.00..T000"},{"$f":"gettext(B54,Sprache!$D$1)","v":"INEO Bidet-Element, BH 820 mm"},null,null,null,null,null,null,null,{"$f":"IF(AND(W54=TRUE,$X$23=TRUE),$D$8*J54,0)","v":0},{"$f":"Einbauten!B20","v":"Stück"},{"$f":"K54*AF54","v":0},null,null,null,null,null,null,null,{"$f":"IF(Einbauten!D20=\"\",$V$16,Einbauten!D20)","v":855},{"$f":"IF(Einbauten!F20=\"\",$V$17,Einbauten!F20)","v":135},true,{"$f":"IF(W54=TRUE,J54*Einbauten!E20,0)","v":0},{"$f":"IF(AND(W54=TRUE,$X$23=TRUE),J54,0)","v":0},{"$f":"$Y54*Einbauten!H20","v":0},{"$f":"$Y54*Einbauten!I20","v":0},{"$f":"$Y54*Einbauten!J20","v":0},{"$f":"$Y54*Einbauten!K20","v":0},{"$f":"$Y54*Einbauten!L20","v":0},{"$f":"$Y54*Einbauten!G20","v":0},{"$f":"CHOOSE(Preise_Prices!$X$9,0,Preise_Prices!O32,Preise_Prices!T32)","v":0},{"$f":"AF54*Y54","v":0},null,null,null,null,null,null,{"$f":"K54","v":0}]
[null,{"$f":"Einbauten!A21","v":"90.662.00..T000"},{"$f":"gettext(B55,Sprache!$D$1)","v":"INEO Bidet-Element, BH 985 mm"},null,null,null,null,null,null,null,{"$f":"IF(AND(W55=TRUE,$X$23=TRUE),$D$8*J55,0)","v":0},{"$f":"Einbauten!B21","v":"Stück"},{"$f":"K55*AF55","v":0},null,null,null,null,null,null,null,{"$f":"IF(Einbauten!D21=\"\",$V$16,Einbauten!D21)","v":1020},{"$f":"IF(Einbauten!F21=\"\",$V$17,Einbauten!F21)","v":135},true,{"$f":"IF(W55=TRUE,J55*Einbauten!E21,0)","v":0},{"$f":"IF(AND(W55=TRUE,$X$23=TRUE),J55,0)","v":0},{"$f":"$Y55*Einbauten!H21","v":0},{"$f":"$Y55*Einbauten!I21","v":0},{"$f":"$Y55*Einbauten!J21","v":0},{"$f":"$Y55*Einbauten!K21","v":0},{"$f":"$Y55*Einbauten!L21","v":0},{"$f":"$Y55*Einbauten!G21","v":0},{"$f":"CHOOSE(Preise_Prices!$X$9,0,Preise_Prices!O33,Preise_Prices!T33)","v":0},0,null,null,null,null,null,null,{"$f":"K55","v":0}]
[null,{"$f":"Einbauten!A22","v":"90.676.00..T000"},{"$f":"gettext(B56,Sprache!$D$1)","v":"INEO Bidet-Element, BH 1120 mm"},null,null,null,null,null,null,null,{"$f":"IF(AND(W56=TRUE,$X$23=TRUE),$D$8*J56,0)","v":0},{"$f":"Einbauten!B22","v":"Stück"},{"$f":"K56*AF56","v":0},null,null,null,null,null,null,null,{"$f":"IF(Einbauten!D22=\"\",$V$16,Einbauten!D22)","v":1155},{"$f":"IF(Einbauten!F22=\"\",$V$17,Einbauten!F22)","v":135},true,{"$f":"IF(W56=TRUE,J56*Einbauten!E22,0)","v":0},{"$f":"IF(AND(W56=TRUE,$X$23=TRUE),J56,0)","v":0},{"$f":"$Y56*Einbauten!H22","v":0},{"$f":"$Y56*Einbauten!I22","v":0},{"$f":"$Y56*Einbauten!J22","v":0},{"$f":"$Y56*Einbauten!K22","v":0},{"$f":"$Y56*Einbauten!L22","v":0},{"$f":"$Y56*Einbauten!G22","v":0},{"$f":"CHOOSE(Preise_Prices!$X$9,0,Preise_Prices!O34,Preise_Prices!T34)","v":0},0,null,null,null,null,null,null,{"$f":"K56","v":0}]
[null,{"$f":"Einbauten!A23","v":"90.668.00..T000"},{"$f":"gettext(B57,Sprache!$D$1)","v":"INEO Urinal-Element, für Urinal-Kartuschenventiltechnik, BH 1120 - 1185 mm"},null,null,null,null,null,null,null,{"$f":"IF(AND(W57=TRUE,$X$23=TRUE),$D$8*J57,0)","v":0},{"$f":"Einbauten!B23","v":"Stück"},{"$f":"K57*AF57","v":0},null,null,null,null,null,null,null,{"$f":"IF(Einbauten!D23=\"\",$V$16,Einbauten!D23)","v":1155},{"$f":"IF(Einbauten!F23=\"\",$V$17,Einbauten!F23)","v":0},true,{"$f":"IF(W57=TRUE,J57*Einbauten!E23,0)","v":0},{"$f":"IF(AND(W57=TRUE,$X$23=TRUE),J57,0)","v":0},{"$f":"$Y57*Einbauten!H23","v":0},{"$f":"$Y57*Einbauten!I23","v":0},{"$f":"$Y57*Einbauten!J23","v":0},{"$f":"$Y57*Einbauten!K23","v":0},{"$f":"$Y57*Einbauten!L23","v":0},{"$f":"$Y57*Einbauten!G23","v":0},{"$f":"CHOOSE(Preise_Prices!$X$9,0,Preise_Prices!O35,Preise_Prices!T35)","v":0},0,null,null,null,null,null,null,{"$f":"K57","v":0}]
[null,{"$f":"Einbauten!A24","v":"90.675.00..T000"},{"$f":"gettext(B58,Sprache!$D$1)","v":"INEO Urinal-Element für Aufputzdruckspüler, BH 1120 - 1185 mm"},null,null,null,null,null,null,null,{"$f":"IF(AND(W58=TRUE,$X$23=TRUE),$D$8*J58,0)","v":0},{"$f":"Einbauten!B24","v":"Stück"},{"$f":"K58*AF58","v":0},null,null,null,null,null,null,null,{"$f":"IF(Einbauten!D24=\"\",$V$16,Einbauten!D24)","v":1155},{"$f":"IF(Einbauten!F24=\"\",$V$17,Einbauten!F24)","v":0},true,{"$f":"IF(W58=TRUE,J58*Einbauten!E24,0)","v":0},{"$f":"IF(AND(W58=TRUE,$X$23=TRUE),J58,0)","v":0},{"$f":"$Y58*Einbauten!H24","v":0},{"$f":"$Y58*Einbauten!I24","v":0},{"$f":"$Y58*Einbauten!J24","v":0},{"$f":"$Y58*Einbauten!K24","v":0},{"$f":"$Y58*Einbauten!L24","v":0},{"$f":"$Y58*Einbauten!G24","v":0},{"$f":"CHOOSE(Preise_Prices!$X$9,0,Preise_Prices!O36,Preise_Prices!T36)","v":0},0,null,null,null,null,null,null,{"$f":"K58","v":0}]
[null,{"$f":"Einbauten!A25","v":"Bade-und Brausewannen"},null,null,null,null,null,null,null,null,null,null,null,null,null,null,null,null,null,null,null,null,null,null,null,null,null,null,null,null,null,null,null,null,null,null,null,null,null,0]
[null,{"$f":"Einbauten!A26","v":"90.681.00..T000"},{"$f":"gettext(B60,Sprache!$D$1)","v":"INEO BW-Element  für Aufputzwandarmaturen, BH 1120-1185 mm"},null,null,null,null,null,null,null,{"$f":"IF(AND(W60=TRUE,$X$23=TRUE),$D$8*J60,0)","v":0},{"$f":"Einbauten!B26","v":"Stück"},{"$f":"K60*AF60","v":0},null,null,null,null,null,null,null,{"$f":"IF(Einbauten!D26=\"\",$V$16,Einbauten!D26)","v":1155},{"$f":"IF(Einbauten!F26=\"\",$V$17,Einbauten!F26)","v":0},true,{"$f":"IF(W60=TRUE,J60*Einbauten!E26,0)","v":0},{"$f":"IF(AND(W60=TRUE,$X$23=TRUE),J60,0)","v":0},{"$f":"$Y60*Einbauten!H26","v":0},{"$f":"$Y60*Einbauten!I26","v":0},{"$f":"$Y60*Einbauten!J26","v":0},{"$f":"$Y60*Einbauten!K26","v":0},{"$f":"$Y60*Einbauten!L26","v":0},{"$f":"$Y60*Einbauten!G26","v":0},{"$f":"CHOOSE(Preise_Prices!$X$9,0,Preise_Prices!O38,Preise_Prices!T38)","v":0},{"$f":"AF60*Y60","v":0},null,null,null,null,null,null,{"$f":"K60","v":0}]
[null,{"$f":"Einbauten!A27","v":"90.682.00..T000"},{"$f":"gettext(B61,Sprache!$D$1)","v":"INEO BW-Element für UP-Armaturen, BH 1120-1185 mm"},null,null,null,null,null,null,null,{"$f":"IF(AND(W61=TRUE,$X$23=TRUE),$D$8*J61,0)","v":0},{"$f":"Einbauten!B27","v":"Stück"},{"$f":"K61*AF61","v":0},null,null,null,null,null,null,null,{"$f":"IF(Einbauten!D27=\"\",$V$16,Einbauten!D27)","v":1155},{"$f":"IF(Einbauten!F27=\"\",$V$17,Einbauten!F27)","v":0},true,{"$f":"IF(W61=TRUE,J61*Einbauten!E27,0)","v":0},{"$f":"IF(AND(W61=TRUE,$X$23=TRUE),J61,0)","v":0},{"$f":"$Y61*Einbauten!H27","v":0},{"$f":"$Y61*Einbauten!I27","v":0},{"$f":"$Y61*Einbauten!J27","v":0},{"$f":"$Y61*Einbauten!K27","v":0},{"$f":"$Y61*Einbauten!L27","v":0},{"$f":"$Y61*Einbauten!G27","v":0},{"$f":"CHOOSE(Preise_Prices!$X$9,0,Preise_Prices!O39,Preise_Prices!T39)","v":0},0,null,null,null,null,null,null,{"$f":"K61","v":0}]
[null,{"$f":"Einbauten!A28","v":"Waschtisch- und Urinal-Module (Sanitärfunktion ohne Trockenbaurahmen)"},null,null,null,null,null,null,null,null,null,null,null,null,null,null,null,null,null,null,null,null,null,null,null,null,null,null,null,null,null,null,null,null,null,null,null,null,null,0]
[null,{"$f":"Einbauten!A29","v":"17.276.00..0000"},{"$f":"gettext(B63,Sprache!$D$1)","v":"WT-Modul für Einloch- und AP-Wandarmaturen"},null,null,null,null,null,null,null,{"$f":"IF(AND(W63=TRUE,$X$23=TRUE),$D$8*J63,0)","v":0},{"$f":"Einbauten!B29","v":"Stück"},{"$f":"K63*AF63","v":0},null,null,null,null,null,null,null,{"$f":"IF(Einbauten!D29=\"\",$V$16,Einbauten!D29)","v":0},{"$f":"IF(Einbauten!F29=\"\",$V$17,Einbauten!F29)","v":0},true,{"$f":"IF(W63=TRUE,J63*Einbauten!E29,0)","v":0},{"$f":"IF(AND(W63=TRUE,$X$23=TRUE),J63,0)","v":0},{"$f":"$Y63*Einbauten!H29","v":0},{"$f":"$Y63*Einbauten!I29","v":0},{"$f":"$Y63*Einbauten!J29","v":0},{"$f":"$Y63*Einbauten!K29","v":0},{"$f":"$Y63*Einbauten!L29","v":0},{"$f":"$Y63*Einbauten!G29","v":0},{"$f":"CHOOSE(Preise_Prices!$X$9,0,Preise_Prices!O41,Preise_Prices!T41)","v":0},{"$f":"AF63*Y63","v":0},null,null,null,null,null,null,{"$f":"K63","v":0}]
[null,{"$f":"Einbauten!A30","v":"17.286.00..0000"},{"$f":"gettext(B64,Sprache!$D$1)","v":"Waschtisch-Modul für Einlocharmaturen"},null,null,null,null,null,null,null,{"$f":"IF(AND(W64=TRUE,$X$23=TRUE),$D$8*J64,0)","v":0},{"$f":"Einbauten!B30","v":"Stück"},{"$f":"K64*AF64","v":0},null,null,null,null,null,null,null,{"$f":"IF(Einbauten!D30=\"\",$V$16,Einbauten!D30)","v":0},{"$f":"IF(Einbauten!F30=\"\",$V$17,Einbauten!F30)","v":0},true,{"$f":"IF(W64=TRUE,J64*Einbauten!E30,0)","v":0},{"$f":"IF(AND(W64=TRUE,$X$23=TRUE),J64,0)","v":0},{"$f":"$Y64*Einbauten!H30","v":0},{"$f":"$Y64*Einbauten!I30","v":0},{"$f":"$Y64*Einbauten!J30","v":0},{"$f":"$Y64*Einbauten!K30","v":0},{"$f":"$Y64*Einbauten!L30","v":0},{"$f":"$Y64*Einbauten!G30","v":0},{"$f":"CHOOSE(Preise_Prices!$X$9,0,Preise_Prices!O42,Preise_Prices!T42)","v":0},0,null,null,null,null,null,null,{"$f":"K64","v":0}]
[null,{"$f":"Einbauten!A31","v":"03.877.00..0000"},{"$f":"gettext(B65,Sprache!$D$1)","v":"Modul für Waschtisch und Ausgussbecken mit AP-Armatur"},null,null,null,null,null,null,null,{"$f":"IF(AND(W65=TRUE,$X$23=TRUE),$D$8*J65,0)","v":0},{"$f":"Einbauten!B31","v":"Stück"},{"$f":"K65*AF65","v":0},null,null,null,null,null,null,null,{"$f":"IF(Einbauten!D31=\"\",$V$16,Einbauten!D31)","v":0},{"$f":"IF(Einbauten!F31=\"\",$V$17,Einbauten!F31)","v":0},true,{"$f":"IF(W65=TRUE,J65*Einbauten!E31,0)","v":0},{"$f":"IF(AND(W65=TRUE,$X$23=TRUE),J65,0)","v":0},{"$f":"$Y65*Einbauten!H31","v":0},{"$f":"$Y65*Einbauten!I31","v":0},{"$f":"$Y65*Einbauten!J31","v":0},{"$f":"$Y65*Einbauten!K31","v":0},{"$f":"$Y65*Einbauten!L31","v":0},{"$f":"$Y65*Einbauten!G31","v":0},{"$f":"CHOOSE(Preise_Prices!$X$9,0,Preise_Prices!O43,Preise_Prices!T43)","v":0},0,null,null,null,null,null,null,{"$f":"K65","v":0}]
[null,{"$f":"Einbauten!A32","v":"Weitere Module (Sanitärfunktion ohne Trockenbaurahmen) & Zubehör"},null,null,null,null,null,null,null,null,null,null,null,null,null,null,null,null,null,null,null,null,null,null,null,null,null,null,null,null,null,null,null,null,null,null,null,null,null,0]
[null,{"$f":"Einbauten!A33","v":"17.268.00..0000"},{"$f":"gettext(B67,Sprache!$D$1)","v":"Modul für UP- oder AP-Armaturen"},null,null,null,null,null,null,null,{"$f":"IF(AND(W67=TRUE,$X$23=TRUE),$D$8*J67,0)","v":0},{"$f":"Einbauten!B33","v":"Stück"},{"$f":"K67*AF67","v":0},null,null,null,null,null,null,null,{"$f":"IF(Einbauten!D33=\"\",$V$16,Einbauten!D33)","v":0},{"$f":"IF(Einbauten!F33=\"\",$V$17,Einbauten!F33)","v":0},true,{"$f":"IF(W67=TRUE,J67*Einbauten!E33,0)","v":0},{"$f":"IF(AND(W67=TRUE,$X$23=TRUE),J67,0)","v":0},{"$f":"$Y67*Einbauten!H33","v":0},{"$f":"$Y67*Einbauten!I33","v":0},{"$f":"$Y67*Einbauten!J33","v":0},{"$f":"$Y67*Einbauten!K33","v":0},{"$f":"$Y67*Einbauten!L33","v":0},{"$f":"$Y67*Einbauten!G33","v":0},{"$f":"CHOOSE(Preise_Prices!$X$9,0,Preise_Prices!O45,Preise_Prices!T45)","v":0},{"$f":"AF67*Y67","v":0},null,null,null,null,null,null,{"$f":"K67","v":0}]
[null,{"$f":"Einbauten!A34","v":"17.287.00..0000"},{"$f":"gettext(B68,Sprache!$D$1)","v":"Modul für UP- oder AP-Armaturen"},null,null,null,null,null,null,null,0,{"$f":"Einbauten!B34","v":"Stück"},0,null,null,null,null,null,null,null,{"$f":"IF(Einbauten!D34=\"\",$V$16,Einbauten!D34)","v":0},{"$f":"IF(Einbauten!F34=\"\",$V$17,Einbauten!F34)","v":0},true,{"$f":"IF(W68=TRUE,J68*Einbauten!E34,0)","v":0},0,{"$f":"$Y68*Einbauten!H34","v":0},{"$f":"$Y68*Einbauten!I34","v":0},{"$f":"$Y68*Einbauten!J34","v":0},{"$f":"$Y68*Einbauten!K34","v":0},{"$f":"$Y68*Einbauten!L34","v":0},{"$f":"$Y68*Einbauten!G34","v":0},{"$f":"CHOOSE(Preise_Prices!$X$9,0,Preise_Prices!O46,Preise_Prices!T46)","v":0},0,null,null,null,null,null,null,0]
[null,{"$f":"Einbauten!A35","v":"17.275.00..0000"},{"$f":"gettext(B69,Sprache!$D$1)","v":"Modul für Aufputzwandbatterien"},null,null,null,null,null,null,null,0,{"$f":"Einbauten!B35","v":"Stück"},0,null,null,null,null,null,null,null,{"$f":"IF(Einbauten!D35=\"\",$V$16,Einbauten!D35)","v":0},{"$f":"IF(Einbauten!F35=\"\",$V$17,Einbauten!F35)","v":0},true,{"$f":"IF(W69=TRUE,J69*Einbauten!E35,0)","v":0},0,{"$f":"$Y69*Einbauten!H35","v":0},{"$f":"$Y69*Einbauten!I35","v":0},{"$f":"$Y69*Einbauten!J35","v":0},{"$f":"$Y69*Einbauten!K35","v":0},{"$f":"$Y69*Einbauten!L35","v":0},{"$f":"$Y69*Einbauten!G35","v":0},{"$f":"CHOOSE(Preise_Prices!$X$9,0,Preise_Prices!O47,Preise_Prices!T47)","v":0},0,null,null,null,null,null,null,0]
[null,{"$f":"Einbauten!A36","v":"17.282.00..0000"},{"$f":"gettext(B70,Sprache!$D$1)","v":"Modul für Waschmaschinenanschluss"},null,null,null,null,null,null,null,0,{"$f":"Einbauten!B36","v":"Stück"},0,null,null,null,null,null,null,null,{"$f":"IF(Einbauten!D36=\"\",$V$16,Einbauten!D36)","v":0},{"$f":"IF(Einbauten!F36=\"\",$V$17,Einbauten!F36)","v":0},true,{"$f":"IF(W70=TRUE,J70*Einbauten!E36,0)","v":0},0,{"$f":"$Y70*Einbauten!H36","v":0},{"$f":"$Y70*Einbauten!I36","v":0},{"$f":"$Y70*Einbauten!J36","v":0},{"$f":"$Y70*Einbauten!K36","v":0},{"$f":"$Y70*Einbauten!L36","v":0},{"$f":"$Y70*Einbauten!G36","v":0},{"$f":"CHOOSE(Preise_Prices!$X$9,0,Preise_Prices!O48,Preise_Prices!T48)","v":0},0,null,null,null,null,null,null,0]
[null,{"$f":"Einbauten!A37","v":"17.216.00..0000"},{"$f":"gettext(B71,Sprache!$D$1)","v":"Befestigungsmodul für schwere Gegenstände, Griffe u.ä."},null,null,null,null,null,null,null,0,{"$f":"Einbauten!B37","v":"Stück"},0,null,null,null,null,null,null,null,{"$f":"IF(Einbauten!D37=\"\",$V$16,Einbauten!D37)","v":0},{"$f":"IF(Einbauten!F37=\"\",$V$17,Einbauten!F37)","v":0},true,{"$f":"IF(W71=TRUE,J71*Einbauten!E37,0)","v":0},0,{"$f":"$Y71*Einbauten!H37","v":0},{"$f":"$Y71*Einbauten!I37","v":0},{"$f":"$Y71*Einbauten!J37","v":0},{"$f":"$Y71*Einbauten!K37","v":0},{"$f":"$Y71*Einbauten!L37","v":0},{"$f":"$Y71*Einbauten!G37","v":0},{"$f":"CHOOSE(Preise_Prices!$X$9,0,Preise_Prices!O49,Preise_Prices!T49)","v":0},0,null,null,null,null,null,null,0]
[null,{"$f":"Einbauten!A38","v":"17.280.00..0000"},{"$f":"gettext(B72,Sprache!$D$1)","v":"Befestigungsmodul für Küchenanschlüsse"},null,null,null,null,null,null,null,0,{"$f":"Einbauten!B38","v":"Stück"},0,null,null,null,null,null,null,null,{"$f":"IF(Einbauten!D38=\"\",$V$16,Einbauten!D38)","v":0},{"$f":"IF(Einbauten!F38=\"\",$V$17,Einbauten!F38)","v":0},true,{"$f":"IF(W72=TRUE,J72*Einbauten!E38,0)","v":0},0,{"$f":"$Y72*Einbauten!H38","v":0},{"$f":"$Y72*Einbauten!I38","v":0},{"$f":"$Y72*Einbauten!J38","v":0},{"$f":"$Y72*Einbauten!K38","v":0},{"$f":"$Y72*Einbauten!L38","v":0},{"$f":"$Y72*Einbauten!G38","v":0},{"$f":"CHOOSE(Preise_Prices!$X$9,0,Preise_Prices!O50,Preise_Prices!T50)","v":0},0,null,null,null,null,null,null,0]
[null,{"$f":"Einbauten!A39","v":"17.239.00..0000"},{"$f":"gettext(B73,Sprache!$D$1)","v":"Ergänzungsmodul für Sitzbefestigung"},null,null,null,null,null,null,null,0,{"$f":"Einbauten!B39","v":"Stück"},0,null,null,null,null,null,null,null,{"$f":"IF(Einbauten!D39=\"\",$V$16,Einbauten!D39)","v":0},{"$f":"IF(Einbauten!F39=\"\",$V$17,Einbauten!F39)","v":0},true,{"$f":"IF(W73=TRUE,J73*Einbauten!E39,0)","v":0},0,{"$f":"$Y73*Einbauten!H39","v":0},{"$f":"$Y73*Einbauten!I39","v":0},{"$f":"$Y73*Einbauten!J39","v":0},{"$f":"$Y73*Einbauten!K39","v":0},{"$f":"$Y73*Einbauten!L39","v":0},{"$f":"$Y73*Einbauten!G39","v":0},{"$f":"CHOOSE(Preise_Prices!$X$9,0,Preise_Prices!O51,Preise_Prices!T51)","v":0},0,null,null,null,null,null,null,0]
[null,{"$f":"Einbauten!A40","v":"17.281.00..0000"},{"$f":"gettext(B74,Sprache!$D$1)","v":"Modul für Wandscheiben"},null,null,null,null,null,null,null,0,{"$f":"Einbauten!B40","v":"Stück"},0,null,null,null,null,null,null,null,{"$f":"IF(Einbauten!D40=\"\",$V$16,Einbauten!D40)","v":0},{"$f":"IF(Einbauten!F40=\"\",$V$17,Einbauten!F40)","v":0},true,{"$f":"IF(W74=TRUE,J74*Einbauten!E40,0)","v":0},0,{"$f":"$Y74*Einbauten!H40","v":0},{"$f":"$Y74*Einbauten!I40","v":0},{"$f":"$Y74*Einbauten!J40","v":0},{"$f":"$Y74*Einbauten!K40","v":0},{"$f":"$Y74*Einbauten!L40","v":0},{"$f":"$Y74*Einbauten!G40","v":0},{"$f":"CHOOSE(Preise_Prices!$X$9,0,Preise_Prices!O52,Preise_Prices!T52)","v":0},0,null,null,null,null,null,null,0]
[null,{"$f":"Einbauten!A41","v":"05.132.00..0000"},{"$f":"gettext(B75,Sprache!$D$1)","v":"Dachschrägen-Anschluss"},null,null,null,null,null,null,null,{"$f":"IF(AND(W75=TRUE,$X$23=TRUE),$D$8*J75,0)","v":0},{"$f":"Einbauten!B41","v":"Stück"},{"$f":"K75*AF75","v":0},null,null,null,null,null,null,null,{"$f":"IF(Einbauten!D41=\"\",$V$16,Einbauten!D41)","v":0},{"$f":"IF(Einbauten!F41=\"\",$V$17,Einbauten!F41)","v":0},true,{"$f":"IF(W75=TRUE,J75*Einbauten!E41,0)","v":0},{"$f":"IF(AND(W75=TRUE,$X$23=TRUE),J75,0)","v":0},{"$f":"$Y75*Einbauten!H41","v":0},{"$f":"$Y75*Einbauten!I41","v":0},{"$f":"$Y75*Einbauten!J41","v":0},{"$f":"$Y75*Einbauten!K41","v":0},{"$f":"$Y75*Einbauten!L41","v":0},{"$f":"$Y75*Einbauten!G41","v":0},{"$f":"CHOOSE(Preise_Prices!$X$9,0,Preise_Prices!O53,Preise_Prices!T53)","v":0},{"$f":"AF75*Y75","v":0},null,null,null,null,null,null,{"$f":"K75","v":0}]
[null,{"$f":"Einbauten!A42","v":"05.201.00..0000"},{"$f":"gettext(B76,Sprache!$D$1)","v":"Rohrschellenbefestigung"},null,null,null,null,null,null,null,0,{"$f":"Einbauten!B42","v":"Stück"},0,null,null,null,null,null,null,null,{"$f":"IF(Einbauten!D42=\"\",$V$16,Einbauten!D42)","v":0},{"$f":"IF(Einbauten!F42=\"\",$V$17,Einbauten!F42)","v":0},true,{"$f":"IF(W76=TRUE,J76*Einbauten!E42,0)","v":0},0,{"$f":"$Y76*Einbauten!H42","v":0},{"$f":"$Y76*Einbauten!I42","v":0},{"$f":"$Y76*Einbauten!J42","v":0},{"$f":"$Y76*Einbauten!K42","v":0},{"$f":"$Y76*Einbauten!L42","v":0},{"$f":"$Y76*Einbauten!G42","v":0},{"$f":"CHOOSE(Preise_Prices!$X$9,0,Preise_Prices!O54,Preise_Prices!T54)","v":0},0,null,null,null,null,null,null,0]
[null,{"$f":"Einbauten!A43","v":"barrierefreie Elemente und Module"},null,null,null,null,null,null,null,null,null,null,null,null,null,null,null,null,null,null,null,null,null,null,null,null,null,null,null,null,null,null,null,null,null,null,null,null,null,0]
[null,{"$f":"Einbauten!A44","v":"90.685.00..T000"},{"$f":"gettext(B78,Sprache!$D$1)","v":"INEO WT-Element für Einlocharmaturen, behinderteng. BH 820 mm"},null,null,null,null,null,null,null,{"$f":"IF(AND(W78=TRUE,$X$23=TRUE),$D$8*J78,0)","v":0},{"$f":"Einbauten!B44","v":"Stück"},{"$f":"K78*AF78","v":0},null,null,null,null,null,null,null,{"$f":"IF(Einbauten!D44=\"\",$V$16,Einbauten!D44)","v":855},{"$f":"IF(Einbauten!F44=\"\",$V$17,Einbauten!F44)","v":0},true,{"$f":"IF(W78=TRUE,J78*Einbauten!E44,0)","v":0},{"$f":"IF(AND(W78=TRUE,$X$23=TRUE),J78,0)","v":0},{"$f":"$Y78*Einbauten!H44","v":0},{"$f":"$Y78*Einbauten!I44","v":0},{"$f":"$Y78*Einbauten!J44","v":0},{"$f":"$Y78*Einbauten!K44","v":0},{"$f":"$Y78*Einbauten!L44","v":0},{"$f":"$Y78*Einbauten!G44","v":0},{"$f":"CHOOSE(Preise_Prices!$X$9,0,Preise_Prices!O56,Preise_Prices!T56)","v":0},{"$f":"AF78*Y78","v":0},null,null,null,null,null,null,{"$f":"K78","v":0}]
[null,{"$f":"Einbauten!A45","v":"90.673.00..T000"},{"$f":"gettext(B79,Sprache!$D$1)","v":"INEO WT-El. für Einloch- o. AP-Wandarmaturen, behinderteng., BH 1120 - 1185 mm"},null,null,null,null,null,null,null,0,{"$f":"Einbauten!B45","v":"Stück"},0,null,null,null,null,null,null,null,{"$f":"IF(Einbauten!D45=\"\",$V$16,Einbauten!D45)","v":1155},{"$f":"IF(Einbauten!F45=\"\",$V$17,Einbauten!F45)","v":0},true,{"$f":"IF(W79=TRUE,J79*Einbauten!E45,0)","v":0},0,{"$f":"$Y79*Einbauten!H45","v":0},{"$f":"$Y79*Einbauten!I45","v":0},{"$f":"$Y79*Einbauten!J45","v":0},{"$f":"$Y79*Einbauten!K45","v":0},{"$f":"$Y79*Einbauten!L45","v":0},{"$f":"$Y79*Einbauten!G45","v":0},{"$f":"CHOOSE(Preise_Prices!$X$9,0,Preise_Prices!O57,Preise_Prices!T57)","v":0},0,null,null,null,null,null,null,0]
[null,{"$f":"Einbauten!A46","v":"90.744.00..T000"},{"$f":"gettext(B80,Sprache!$D$1)","v":"INEO PLUS WC-El., kl. RÖ, Betät. v. vorn, behindertengerecht, BH 1120 mm"},null,null,null,null,null,null,null,0,{"$f":"Einbauten!B46","v":"Stück"},0,null,null,null,null,null,null,null,{"$f":"IF(Einbauten!D46=\"\",$V$16,Einbauten!D46)","v":1155},{"$f":"IF(Einbauten!F46=\"\",$V$17,Einbauten!F46)","v":135},true,{"$f":"IF(W80=TRUE,J80*Einbauten!E46,0)","v":0},0,{"$f":"$Y80*Einbauten!H46","v":0},{"$f":"$Y80*Einbauten!I46","v":0},{"$f":"$Y80*Einbauten!J46","v":0},{"$f":"$Y80*Einbauten!K46","v":0},{"$f":"$Y80*Einbauten!L46","v":0},{"$f":"$Y80*Einbauten!G46","v":0},{"$f":"CHOOSE(Preise_Prices!$X$9,0,Preise_Prices!O58,Preise_Prices!T58)","v":0},0,null,null,null,null,null,null,0]
[null,{"$f":"Einbauten!A47","v":"90.680.00..TR00"},{"$f":"gettext(B81,Sprache!$D$1)","v":"Befest.-El. rechts für Griff- u. Haltesysteme, BH 1185 mm"},null,null,null,null,null,null,null,0,{"$f":"Einbauten!B47","v":"Stück"},0,null,null,null,null,null,null,null,{"$f":"IF(Einbauten!D47=\"\",$V$16,Einbauten!D47)","v":1155},{"$f":"IF(Einbauten!F47=\"\",$V$17,Einbauten!F47)","v":0},true,{"$f":"IF(W81=TRUE,J81*Einbauten!E47,0)","v":0},0,{"$f":"$Y81*Einbauten!H47","v":0},{"$f":"$Y81*Einbauten!I47","v":0},{"$f":"$Y81*Einbauten!J47","v":0},{"$f":"$Y81*Einbauten!K47","v":0},{"$f":"$Y81*Einbauten!L47","v":0},{"$f":"$Y81*Einbauten!G47","v":0},{"$f":"CHOOSE(Preise_Prices!$X$9,0,Preise_Prices!O59,Preise_Prices!T59)","v":0},0,null,null,null,null,null,null,0]
[null,{"$f":"Einbauten!A48","v":"90.680.00..TL00"},{"$f":"gettext(B82,Sprache!$D$1)","v":"Befest.-El. links für Griff- u. Haltesysteme, BH 1185 mm"},null,null,null,null,null,null,null,0,{"$f":"Einbauten!B48","v":"Stück"},0,null,null,null,null,null,null,null,{"$f":"IF(Einbauten!D48=\"\",$V$16,Einbauten!D48)","v":1155},{"$f":"IF(Einbauten!F48=\"\",$V$17,Einbauten!F48)","v":0},true,{"$f":"IF(W82=TRUE,J82*Einbauten!E48,0)","v":0},0,{"$f":"$Y82*Einbauten!H48","v":0},{"$f":"$Y82*Einbauten!I48","v":0},{"$f":"$Y82*Einbauten!J48","v":0},{"$f":"$Y82*Einbauten!K48","v":0},{"$f":"$Y82*Einbauten!L48","v":0},{"$f":"$Y82*Einbauten!G48","v":0},{"$f":"CHOOSE(Preise_Prices!$X$9,0,Preise_Prices!O60,Preise_Prices!T60)","v":0},0,null,null,null,null,null,null,0]
[null,{"$f":"Einbauten!A49","v":"17.288.00..0000"},{"$f":"gettext(B83,Sprache!$D$1)","v":"Waschtisch-Modul behindertengerecht"},null,null,null,null,null,null,null,0,{"$f":"Einbauten!B49","v":"Stück"},0,null,null,null,null,null,null,null,{"$f":"IF(Einbauten!D49=\"\",$V$16,Einbauten!D49)","v":0},{"$f":"IF(Einbauten!F49=\"\",$V$17,Einbauten!F49)","v":0},true,{"$f":"IF(W83=TRUE,J83*Einbauten!E49,0)","v":0},0,{"$f":"$Y83*Einbauten!H49","v":0},{"$f":"$Y83*Einbauten!I49","v":0},{"$f":"$Y83*Einbauten!J49","v":0},{"$f":"$Y83*Einbauten!K49","v":0},{"$f":"$Y83*Einbauten!L49","v":0},{"$f":"$Y83*Einbauten!G49","v":0},{"$f":"CHOOSE(Preise_Prices!$X$9,0,Preise_Prices!O61,Preise_Prices!T61)","v":0},0,null,null,null,null,null,null,0]
[null,{"$f":"Einbauten!A50","v":"17.279.00..0000"},{"$f":"gettext(B84,Sprache!$D$1)","v":"Befestigungsmodul für Griff- und Haltesysteme"},null,null,null,null,null,null,null,0,{"$f":"Einbauten!B50","v":"Stück"},0,null,null,null,null,null,null,null,{"$f":"IF(Einbauten!D50=\"\",$V$16,Einbauten!D50)","v":0},{"$f":"IF(Einbauten!F50=\"\",$V$17,Einbauten!F50)","v":0},true,{"$f":"IF(W84=TRUE,J84*Einbauten!E50,0)","v":0},0,{"$f":"$Y84*Einbauten!H50","v":0},{"$f":"$Y84*Einbauten!I50","v":0},{"$f":"$Y84*Einbauten!J50","v":0},{"$f":"$Y84*Einbauten!K50","v":0},{"$f":"$Y84*Einbauten!L50","v":0},{"$f":"$Y84*Einbauten!G50","v":0},{"$f":"CHOOSE(Preise_Prices!$X$9,0,Preise_Prices!O62,Preise_Prices!T62)","v":0},0,null,null,null,null,null,null,0]
[null,{"$f":"Einbauten!A51","v":"17.289.00..0000"},{"$f":"gettext(B85,Sprache!$D$1)","v":"Befestigungs-Modul für Griff- und Haltesysteme"},null,null,null,null,null,null,null,0,{"$f":"Einbauten!B51","v":"Stück"},0,null,null,null,null,null,null,null,{"$f":"IF(Einbauten!D51=\"\",$V$16,Einbauten!D51)","v":0},{"$f":"IF(Einbauten!F51=\"\",$V$17,Einbauten!F51)","v":0},true,{"$f":"IF(W85=TRUE,J85*Einbauten!E51,0)","v":0},0,{"$f":"$Y85*Einbauten!H51","v":0},{"$f":"$Y85*Einbauten!I51","v":0},{"$f":"$Y85*Einbauten!J51","v":0},{"$f":"$Y85*Einbauten!K51","v":0},{"$f":"$Y85*Einbauten!L51","v":0},{"$f":"$Y85*Einbauten!G51","v":0},{"$f":"CHOOSE(Preise_Prices!$X$9,0,Preise_Prices!O63,Preise_Prices!T63)","v":0},0,null,null,null,null,null,null,0]
[]
[null,null,null,null,null,null,null,null,null,null,null,null,null,null,null,null,null,null,null,null,"Summe",null,null,{"$f":"SUM(X38:X85)","v":0},0,0,0,0,0,0,0,null,{"$f":"SUM(AG38:AG85)","v":0},null,null,null,null,null,null,{"$f":"SUM(AN90:AN102)","v":0}]
[null,{"$f":"gettext(\"G28\",Sprache!$D$1)","v":"Materialbedarf für Tragwerk und Beplankung"},null,null,null,null,null,null,null,null,null,null,null,null,null,null,null,null,null,null,null,null,null,null,null,null,null,null,null,null,null,null,null,null,null,null,null,null,null,{"$f":"SUM(AN90:AN102)","v":0}]
[null,null,null,null,null,null,null,null,null,null,null,null,null,null,null,null,null,null,null,null,"Material","1 Wand",null,"Wandaufbau","o. Beplank/m.SS","Red. Stab Wand","Material Wand","Material Einb.","Gesamt MatWand","Zeitbedarf/ Wand","Zeitbed./Einbaut.","Gesamt Zeit/Wand","Preis/Einheit","Preis/Wand","Preis/Einbauten","Preis Gesamt",null,null,null,{"$f":"SUM(AN90:AN102)","v":0}]
[null,{"$f":"Basismaterial!A3","v":"02.208.00..0000"},{"$f":"gettext(B90,Sprache!$D$1)","v":"Stab (5m)"},null,null,null,null,null,null,{"$f":"AC90","v":0},{"$f":"$D$8*J90","v":0},{"$f":"Basismaterial!C3","v":"m"},{"$f":"K90*AG90","v":0},null,null,null,null,null,null,null,{"$f":"B90","v":"02.208.00..0000"},"Tragwerk",null,{"$f":"IF($X$28=TRUE,INDEX(INDIRECT(CONCATENATE($X$1,$V$1)),MATCH($D$11,INDIRECT(CONCATENATE($Y$1,$V$1)),-1),2),0)","v":0},null,{"$f":"AD87","v":0},{"$f":"SUM(X90:Z90)","v":0},{"$f":"Z87","v":0},{"$f":"AA90+AB90","v":0},{"$f":"Basismaterial!$D3*AA90","v":0},{"$f":"Basismaterial!$D3*AB90","v":0},{"$f":"AD90+AE90","v":0},{"$f":"CHOOSE(Preise_Prices!$X$9,0,Preise_Prices!O68,Preise_Prices!T68)","v":0},{"$f":"AA90*AG90","v":0},{"$f":"AG90*AB90","v":0},{"$f":"AH90+AI90","v":0},"Tragwerk",null,null,{"$f":"K90","v":0}]
[null,{"$f":"Basismaterial!A4","v":"02.596.00..0000"},{"$f":"gettext(B91,Sprache!$D$1)","v":"Universalspachtelmasse ( ca. 0,25 Kg/m2 )"},null,null,null,null,null,null,{"$f":"AC91","v":0},{"$f":"$D$8*J91","v":0},{"$f":"Basismaterial!C4","v":"Kg"},{"$f":"K91*AG91","v":0},null,null,null,null,null,null,null,{"$f":"B91","v":"02.596.00..0000"},"Beplankung",null,{"$f":"IF($X$28=TRUE,INDEX(INDIRECT(CONCATENATE($X$1,$V$1)),MATCH($D$11,INDIRECT(CONCATENATE($Y$1,$V$1)),-1),3),0)","v":0},{"$f":"IF(W111=TRUE,-X91,0)","v":0},null,{"$f":"SUM(X91:Z91)","v":0},null,{"$f":"AA91+AB91","v":0},{"$f":"Basismaterial!$D4*AA91","v":0},{"$f":"Basismaterial!$D4*AB91","v":0},{"$f":"AD91+AE91","v":0},{"$f":"CHOOSE(Preise_Prices!$X$9,0,Preise_Prices!O69,Preise_Prices!T69)","v":0},{"$f":"AA91*AG91","v":0},{"$f":"AG91*AB91","v":0},{"$f":"AH91+AI91","v":0},"Beplankung",null,null,0]
[null,{"$f":"Basismaterial!A5","v":"02.597.00..0000"},{"$f":"gettext(B92,Sprache!$D$1)","v":"Senkkopf-Kreuzschlitzschraube zur Verkleidungsplatte"},null,null,null,null,null,null,0,0,{"$f":"Basismaterial!C5","v":"Stück"},0,null,null,null,null,null,null,null,"02.597.00..0000","Beplankung",null,{"$f":"IF($X$28=TRUE,INDEX(INDIRECT(CONCATENATE($X$1,$V$1)),MATCH($D$11,INDIRECT(CONCATENATE($Y$1,$V$1)),-1),4),0)","v":0},{"$f":"IF(W111=TRUE,-X92,0)","v":0},null,0,null,0,{"$f":"Basismaterial!$D5*AA92","v":0},{"$f":"Basismaterial!$D5*AB92","v":0},0,{"$f":"CHOOSE(Preise_Prices!$X$9,0,Preise_Prices!O70,Preise_Prices!T70)","v":0},0,0,0,"Beplankung",null,null,0]
[null,{"$f":"Basismaterial!A6","v":"03.332.00..0000"},{"$f":"gettext(B93,Sprache!$D$1)","v":"Eckverbinder"},null,null,null,null,null,null,0,0,{"$f":"Basismaterial!C6","v":"Stück"},0,null,null,null,null,null,null,null,"03.332.00..0000","Tragwerk",null,{"$f":"IF($X$28=TRUE,INDEX(INDIRECT(CONCATENATE($X$1,$V$1)),MATCH($D$11,INDIRECT(CONCATENATE($Y$1,$V$1)),-1),5),0)","v":0},null,null,0,{"$f":"AA87","v":0},0,{"$f":"Basismaterial!$D6*AA93","v":0},{"$f":"Basismaterial!$D6*AB93","v":0},0,{"$f":"CHOOSE(Preise_Prices!$X$9,0,Preise_Prices!O71,Preise_Prices!T71)","v":0},0,0,0,"Tragwerk",null,null,0]
[null,{"$f":"Basismaterial!A7","v":"03.333.00..0000"},{"$f":"gettext(B94,Sprache!$D$1)","v":"Modulverbinder"},null,null,null,null,null,null,0,0,{"$f":"Basismaterial!C7","v":"Stück"},0,null,null,null,null,null,null,null,"03.333.00..0000"," nur Einbauten",null,null,null,null,null,{"$f":"AB87","v":0},0,{"$f":"Basismaterial!$D7*AA94","v":0},{"$f":"Basismaterial!$D7*AB94","v":0},0,{"$f":"CHOOSE(Preise_Prices!$X$9,0,Preise_Prices!O72,Preise_Prices!T72)","v":0},0,0,0," nur Einbauten",null,null,0]
[null,{"$f":"Basismaterial!A8","v":"03.346.00..0000"},{"$f":"gettext(B95,Sprache!$D$1)","v":"Trennstreifen für Putzanschluss 20m"},null,null,null,null,null,null,0,0,{"$f":"Basismaterial!C8","v":"m"},0,null,null,null,null,null,null,null,"03.346.00..0000","Tragwerk",null,{"$f":"IF($X$28=TRUE,INDEX(INDIRECT(CONCATENATE($X$1,$V$1)),MATCH($D$11,INDIRECT(CONCATENATE($Y$1,$V$1)),-1),6),0)","v":0},{"$f":"IF(W112=FALSE,-X95,0)","v":0},null,0,null,0,{"$f":"Basismaterial!$D8*AA95","v":0},{"$f":"Basismaterial!$D8*AB95","v":0},0,{"$f":"CHOOSE(Preise_Prices!$X$9,0,Preise_Prices!O73,Preise_Prices!T73)","v":0},0,0,0,"Tragwerk",null,null,0]
[null,{"$f":"Basismaterial!A9","v":"03.545.00..0000"},{"$f":"gettext(B96,Sprache!$D$1)","v":"Bauwerksanschluss"},null,null,null,null,null,null,0,0,{"$f":"Basismaterial!C9","v":"Stück"},0,null,null,null,null,null,null,null,"03.545.00..0000","Tragwerk",null,{"$f":"IF($X$28=TRUE,INDEX(INDIRECT(CONCATENATE($X$1,$V$1)),MATCH($D$11,INDIRECT(CONCATENATE($Y$1,$V$1)),-1),7),0)","v":0},null,null,0,null,0,{"$f":"Basismaterial!$D9*AA96","v":0},{"$f":"Basismaterial!$D9*AB96","v":0},0,{"$f":"CHOOSE(Preise_Prices!$X$9,0,Preise_Prices!O74,Preise_Prices!T74)","v":0},0,0,0,"Tragwerk",null,null,0]
[null,{"$f":"Basismaterial!A10","v":"03.723.00..0000"},{"$f":"gettext(B97,Sprache!$D$1)","v":"Multiverbinder (Tiefe 155-215 mm)"},null,null,null,null,null,null,0,0,{"$f":"Basismaterial!C10","v":"Stück"},0,null,null,null,null,null,null,null,"03.723.00..0000","Tragwerk",null,{"$f":"IF($X$28=TRUE,INDEX(INDIRECT(CONCATENATE($X$1,$V$1)),MATCH($D$11,INDIRECT(CONCATENATE($Y$1,$V$1)),-1),8),0)","v":0},null,null,0,null,0,{"$f":"Basismaterial!$D10*AA97","v":0},{"$f":"Basismaterial!$D10*AB97","v":0},0,{"$f":"CHOOSE(Preise_Prices!$X$9,0,Preise_Prices!O75,Preise_Prices!T75)","v":0},0,0,0,"Tragwerk",null,null,0]
[null,{"$f":"Basismaterial!A11","v":"03.723.00..S000"},{"$f":"gettext(B98,Sprache!$D$1)","v":"Multiverbinder (Tiefe 255-315 mm)"},null,null,null,null,null,null,0,0,{"$f":"Basismaterial!C11","v":"Stück"},0,null,null,null,null,null,null,null,"03.723.00..S000","Tragwerk",null,{"$f":"IF($X$28=TRUE,INDEX(INDIRECT(CONCATENATE($X$1,$V$1)),MATCH($D$11,INDIRECT(CONCATENATE($Y$1,$V$1)),-1),9),0)","v":0},null,null,0,null,0,{"$f":"Basismaterial!$D11*AA98","v":0},{"$f":"Basismaterial!$D11*AB98","v":0},0,{"$f":"CHOOSE(Preise_Prices!$X$9,0,Preise_Prices!O76,Preise_Prices!T76)","v":0},0,0,0,"Tragwerk",null,null,0]
[null,{"$f":"Basismaterial!A12","v":"03.754.00..0000"},{"$f":"gettext(B99,Sprache!$D$1)","v":"Verbindungsset für VW-Elemente"},null,null,null,null,null,null,0,0,{"$f":"Basismaterial!C12","v":"Stück"},0,null,null,null,null,null,null,null,"03.754.00..0000"," nur Einbauten",null,null,null,null,null,{"$f":"AC87","v":0},0,{"$f":"Basismaterial!$D12*AA99","v":0},{"$f":"Basismaterial!$D12*AB99","v":0},0,{"$f":"CHOOSE(Preise_Prices!$X$9,0,Preise_Prices!O77,Preise_Prices!T77)","v":0},0,0,0," nur Einbauten",null,null,0]
[null,{"$f":"Basismaterial!A13","v":"04.070.00..0000"},{"$f":"gettext(B100,Sprache!$D$1)","v":"Stützfuß für freistehende Wände"},null,null,null,null,null,null,{"$f":"AC100","v":0},0,{"$f":"Basismaterial!C13","v":"Stück"},0,null,null,null,null,null,null,null,"04.070.00..0000","Tragwerk",null,{"$f":"IF($X$28=TRUE,INDEX(INDIRECT(CONCATENATE($X$1,$V$1)),MATCH($D$11,INDIRECT(CONCATENATE($Y$1,$V$1)),-1),10),0)","v":0},null,null,0,null,0,{"$f":"Basismaterial!$D13*AA100","v":0},{"$f":"Basismaterial!$D13*AB100","v":0},0,{"$f":"CHOOSE(Preise_Prices!$X$9,0,Preise_Prices!O78,Preise_Prices!T78)","v":0},0,0,0,"Tragwerk",null,null,0]
[null,{"$f":"Basismaterial!A14","v":"16.032.00..0000"},{"$f":"gettext(B101,Sprache!$D$1)","v":"Schallschutzset zu INEO plus, 996"},null,null,null,null,null,null,0,0,{"$f":"Basismaterial!C14","v":"Stück"},0,null,null,null,null,null,null,null,"16.032.00..0000","Tragwerk",null,{"$f":"IF($X$28=TRUE,INDEX(INDIRECT(CONCATENATE($X$1,$V$1)),MATCH($D$11,INDIRECT(CONCATENATE($Y$1,$V$1)),-1),11),0)","v":0},{"$f":"IF(W112=FALSE,-X101,0)","v":0},null,0,null,0,{"$f":"Basismaterial!$D14*AA101","v":0},{"$f":"Basismaterial!$D14*AB101","v":0},0,{"$f":"CHOOSE(Preise_Prices!$X$9,0,Preise_Prices!O79,Preise_Prices!T79)","v":0},0,0,0,"Tragwerk",null,null,0]
[null,{"$f":"Basismaterial!A15","v":"17.115.00..S000"},{"$f":"gettext(B102,Sprache!$D$1)","v":"GKBI-Universalverkleidungsplatte ( 1300x600x18 mm )"},null,null,null,null,null,null,0,0,{"$f":"Basismaterial!C15","v":"Stück"},0,null,null,null,null,null,null,null,"17.115.00..S000","Beplankung",null,{"$f":"IF($X$28=TRUE,INDEX(INDIRECT(CONCATENATE($X$1,$V$1)),MATCH($D$11,INDIRECT(CONCATENATE($Y$1,$V$1)),-1),12),0)","v":0},{"$f":"IF(W111=TRUE,-X102,0)","v":0},null,0,null,0,{"$f":"Basismaterial!$D15*AA102","v":0},{"$f":"Basismaterial!$D15*AB102","v":0},0,{"$f":"CHOOSE(Preise_Prices!$X$9,0,Preise_Prices!O80,Preise_Prices!T80)","v":0},0,0,0,"Beplankung",null,null,0]
[]
[null,{"$f":"IF(AD87<0,gettext(\"G57\",Sprache!$D$1),gettext(\"G58\",Sprache!$D$1))","v":"* Für jeden gewählten Einbau wird der veränderte Materialbedarf ggü. Wänden ohne Einbauten automatisch berücksichtigt."},null,null,null,null,null,null,null,null,null,null,null,null,null,null,null,null,null,null,"Summen","Tragwerk",null,{"$f":"X90+X93+X95+X96+X97+X98+X100+X101","v":0},{"$f":"Y90+Y93+Y95+Y96+Y97+Y98+Y100+Y101","v":0},{"$f":"Z90+Z93+Z95+Z96+Z97+Z98+Z100+Z101","v":0},{"$f":"AA90+AA93+AA95+AA96+AA97+AA98+AA100+AA101","v":0},null,null,{"$f":"AD90+AD93+AD95+AD96+AD97+AD98+AD100+AD101","v":0},null,null,null,{"$f":"AH90+AH93+AH95+AH96+AH98+AH99+AH100+AH101","v":0},null,null,"Tragwerk"]
[null,null,null,null,null,null,null,null,null,null,null,null,null,null,null,null,null,null,null,null,null,"Einbauten",null,null,null,null,null,{"$f":"SUM(AB90:AB102)","v":0},null,null,{"$f":"SUM(AE90:AE102)","v":0},null,null,null,{"$f":"SUM(AI90:AI102)","v":0},null,"Einbauten"]
[null,null,null,null,null,null,null,null,null,null,null,null,null,null,null,null,null,null,null,null,null,"Beplankung",null,{"$f":"X91+X92+X102","v":0},{"$f":"Y91+Y92+Y102","v":0},{"$f":"Z91+Z92+Z102","v":0},{"$f":"AA91+AA92+AA102","v":0},null,null,{"$f":"AD91+AD92+AD102","v":0},null,null,null,{"$f":"AH91+AH92+AH102","v":0},null,null,"Beplankung"]
[null,{"$f":"gettext(\"G29\",Sprache!$D$1)","v":"Benötigte Montagezeit"},null,null,null,null,null,null,null,{"$f":"gettext(\"G24\",Sprache!$D$1)","v":"1 Wand"},{"$f":"gettext(\"G25\",Sprache!$D$1)","v":"alle Wd."},null,null,null,null,null,null,null,null,null,null,"Elemente/Module",null,null,null,null,null,null,null,null,{"$f":"AE87","v":0},null,null,null,{"$f":"AG87","v":0},null,"Elemente/Module"]
[]
[null,null,{"$f":"gettext(\"G31\",Sprache!$D$1)","v":"Tragwerk"},null,null,null,null,null,null,{"$f":"IF(X21=TRUE,AD104,0)","v":0},{"$f":"$D$8*J109","v":0},"Min.",null,null,null,null,null,null,null,null,null,"Elem.+Zubehör",null,null,null,null,null,null,null,null,{"$f":"AE105+AE107","v":0},null,null,null,{"$f":"AI105+AI107","v":0},null,"Elem.+Zubehör"]
[null,null,{"$f":"gettext(\"G32\",Sprache!$D$1)","v":"Elemente und Module"},null,null,null,null,null,null,{"$f":"IF(X21=TRUE,AE109,0)","v":0},{"$f":"$D$8*J110","v":0},"Min."]
[null,null,{"$f":"gettext(\"G33\",Sprache!$D$1)","v":"Beplankung"},null,null,null,null,null,null,{"$f":"IF(X21=TRUE,AD106,0)","v":0},{"$f":"$D$8*J111","v":0},"Min.",null,null,null,null,null,null,null,null,null,"Beplankung Ja/Nein",false]
[null,null,null,null,null,null,null,null,null,{"$f":"SUM(J109:J111)","v":0},{"$f":"SUM(K109:K111)","v":0},"Min.",null,null,null,null,null,null,null,null,null,"Schallschutz Ja/Nein",true]
[null,null,null,null,null,null,null,null,null,null,null,null,null,null,null,null,null,null,null,null,null,"Beideseitig Ja/Nein",false]
[null,{"$f":"gettext(\"G30\",Sprache!$D$1)","v":"Materialkosten"},null,null,null,null,null,null,null,{"$f":"J107","v":"1 Wand"},{"$f":"K107","v":"alle Wd."},null,null,null,null,null,null,null,null,null,null,"Kollisionsprüfung",true]
[]
[null,null,{"$f":"gettext(\"G31\",Sprache!$D$1)","v":"Tragwerk"},null,null,null,null,null,null,{"$f":"IF(X21=TRUE,AH104,0)","v":0},{"$f":"$D$8*J116","v":0},"EUR",null,null,null,null,null,null,null,null,null,"Montagekosten berechnen und Angaben ok ?",{"$f":"Preise_Prices!$X$89","v":true}]
[null,null,{"$f":"gettext(\"G32\",Sprache!$D$1)","v":"Elemente und Module"},null,null,null,null,null,null,{"$f":"IF(X21=TRUE,AI109,0)","v":0},{"$f":"$D$8*J117","v":0},"EUR",null,null,null,null,null,null,null,null,null,"Stundensatz in EUR/ min ?",{"$f":"IF(W116=TRUE,ROUND(Preise_Prices!L89/60,2),0)","v":0}]
[null,null,{"$f":"gettext(\"G33\",Sprache!$D$1)","v":"Beplankung"},null,null,null,null,null,null,{"$f":"IF(X21=TRUE,AH106,0)","v":0},{"$f":"$D$8*J118","v":0},"EUR",null,null,null,null,null,null,null,null,null,"Montagekosten insgesamt",{"$f":"W117*$K$112","v":0}]
[null,null,null,null,null,null,null,null,null,{"$f":"SUM(J116:J118)","v":0},{"$f":"SUM(K116:K118)","v":0},"EUR"]
[null,{"$f":"gettext(\"G55\",Sprache!$D$1)&CHOOSE(Preise_Prices!$X$9,Preise_Prices!C3,Preise_Prices!C4,Preise_Prices!C5)&gettext(\"G56\",Sprache!$D$1)","v":"* Kosten auf Basis ohne Preise kalkulieren, siehe \"Preise_Prices\""}]
[]
[]
[]
[]
[]
[null,{"$f":"IF(Preise_Prices!$Y$82>0,gettext(\"F16\",Sprache!$D$1),\"\")","v":""}]
[null,{"$f":"IF(Preise_Prices!$Y$82>0,gettext(\"F17\",Sprache!$D$1),\"\")","v":""}]

{"sheet":"Information","index":8,"n_rows":64,"n_cols":4,"rows_kept":64,"cut":false,"hidden":false,"merged":[]}
[null,{"$f":"gettext(\"C1\",Sprache!$D$1)","v":"Informationen zum SANIT Schienensystem 996 für Trockenbau"}]
[]
[]
[null,{"$f":"gettext(\"C2\",Sprache!$D$1)","v":"Stand : 31.03.2023"}]
[]
[null,"-",{"$f":"gettext(\"C3\",Sprache!$D$1)","v":"Schacht- und Vorwandsystem zur Trockenverkleidung für Sanitär-, Heizungs-, Lüftungs- und  Elektroinstallationen für innenliegende"}]
[null,null,{"$f":"gettext(\"C4\",Sprache!$D$1)","v":"Räume im Hochbau."}]
[]
[null,"-",{"$f":"gettext(\"C5\",Sprache!$D$1)","v":"System für selbsttragende Sanitär-Montageelemente und Sanitär-Montagemodule, bestehend aus symmetrischem Spezialprofil"}]
[null,null,{"$f":"gettext(\"C6\",Sprache!$D$1)","v":"35 x 35 mm, Eckverbindern, Bauwerksanschlüssen, Multiverbindern, mit Verbindungsset zur Vorwandelementmontage in das"}]
[null,null,{"$f":"gettext(\"C7\",Sprache!$D$1)","v":"System. Trennstreifen für Putzanschluss, GKBI System Platte 18 mm dick, mit selbstbohrenden Schrauben und Spachtelmasse. "}]
[null,null,{"$f":"gettext(\"C8\",Sprache!$D$1)","v":0}]
[]
[null,"-",{"$f":"gettext(\"C9\",Sprache!$D$1)","v":"Das SANIT Schienensystem 996 für Trockenbau eignet sich für folgende Wandtypen:"}]
[]
[null,null,"-",{"$f":"gettext(\"C10\",Sprache!$D$1)","v":"halbhohe oder raumhohe ein- oder zweiseitig befestigte Installationswände sowie Installationswände ohne seitliche Befestigung,"}]
[null,null,null,{"$f":"gettext(\"C11\",Sprache!$D$1)","v":"Höhe ab OKFFB von 855 bis 3900 mm, Breite von 200 bis 5000 mm, Tiefe von 120 bis 600 mm"}]
[]
[null,null,"-",{"$f":"gettext(\"C12\",Sprache!$D$1)","v":"raumhohe, beidseitig befestigte Installationstrennwände,"}]
[null,null,null,{"$f":"gettext(\"C13\",Sprache!$D$1)","v":"max. Höhe ab OKFFB 3900 mm, Tiefe 120 bis 600 mm"}]
[]
[null,null,"-",{"$f":"gettext(\"C14\",Sprache!$D$1)","v":"halbhohe freistehende Installationswände mit oder ohne seitliche Befestigung,"}]
[null,null,null,{"$f":"gettext(\"C15\",Sprache!$D$1)","v":"Höhe 855 bis 1155 mm, max. Breite 2600 mm, Wandtiefe 200 bis 600 mm"}]
[]
[null,null,"-",{"$f":"gettext(\"C16\",Sprache!$D$1)","v":"Schachtaufsätze mit Deckenbefestigung"}]
[null,null,null,{"$f":"gettext(\"C17\",Sprache!$D$1)","v":"max. Höhe 2745 mm, Breite 200 bis 5000 mm, 120 bis 600 mm"}]
[]
[]
[null,"-",{"$f":"gettext(\"C18\",Sprache!$D$1)","v":"Die Angaben zum Materialbedarf beinhalten keinen Fußbodenaufbau!"}]
[]
[null,"-",{"$f":"gettext(\"C19\",Sprache!$D$1)","v":"Alle angegebenen Abmessungen sind ohne Berücksichtigung von Trockenverkleidungen und Wandbelägen."}]
[null,null,{"$f":"gettext(\"C20\",Sprache!$D$1)","v":"Das SANIT Schienensystem 996 für Trockenbau kann ohne / mit 18 mm dicker Systembeplankung bzw. ohne / mit"}]
[null,null,{"$f":"gettext(\"C21\",Sprache!$D$1)","v":"Trennstreifen berechnet werden. "}]
[]
[null,"-",{"$f":"gettext(\"C22\",Sprache!$D$1)","v":"das SANIT Schienensystem 996 für Trockenbau kann als vom Auftragnehmer vormontierte Einheit auf die Baustelle"}]
[null,null,{"$f":"gettext(\"C23\",Sprache!$D$1)","v":"eingebracht werden."}]
[null,null,{"$f":"gettext(\"C24\",Sprache!$D$1)","v":"tatsächliche Wandgrößen sind durch vorheriges Aufmass vor Ort zu prüfen."}]
[]
[null,"-",{"$f":"gettext(\"C25\",Sprache!$D$1)","v":"die Verlegerichtlinien des SANIT Schienensystem 996 für Trockenbau gemäß technischer Information in der aktuellsten"}]
[null,null,{"$f":"gettext(\"C26\",Sprache!$D$1)","v":"Form sowie die beigepackten Montageanleitungen sind zu beachten."}]
[]
[null,"-",{"$f":"gettext(\"C27\",Sprache!$D$1)","v":"Die Software ist für eine maximale Anzahl von 30 verschiedenen, zu kalkulierenden Wandtypen pro Datei ausgelegt."}]
[null,null,{"$f":"gettext(\"C28\",Sprache!$D$1)","v":"Die über diese Anzahl hinausgehend kalkulierten Wände werden zwar berechnet, jedoch nicht in der Übersicht"}]
[null,null,{"$f":"gettext(\"C29\",Sprache!$D$1)","v":"berücksichtigt. Bauvorhaben mit mehr als 30 Wänden sollten mit Hilfe von mehreren Dateien kalkuliert werden."}]
[]
[null,"-",{"$f":"gettext(\"C30\",Sprache!$D$1)","v":"Die Software ermittelt auf der Grundlage der Eingaben des jeweiligen Nutzers Montagezeiten für Installationswände."}]
[]
[null,null,null,{"$f":"gettext(\"C31\",Sprache!$D$1)","v":"Für diese Montagezeiten gilt die folgende Definition :"}]
[]
[null,null,null,{"$f":"gettext(\"C32\",Sprache!$D$1)","v":"Montagezeit :"}]
[null,null,null,{"$f":"gettext(\"C33\",Sprache!$D$1)","v":"Die Montagezeit pro Installationswand ist die notwendige Zeit, um diese Wand einschließlich gewählter Einbauten"}]
[null,null,null,{"$f":"gettext(\"C34\",Sprache!$D$1)","v":"mit dem zum Lieferumfang gehörenden Zubehör (ohne Medienanschlüsse) unter Voraussetzung tragfähiger Bau-"}]
[null,null,null,{"$f":"gettext(\"C35\",Sprache!$D$1)","v":"körper fachgerecht zu montieren. Die ermittelten Montagezeiten sind Richtwerte und beinhalten nicht die Zeiten für"}]
[null,null,null,{"$f":"gettext(\"C36\",Sprache!$D$1)","v":"Baustelleneinrichtung, Transporte, Anreißen von Wandabmessungen sowie das Bohren in verschiedene"}]
[null,null,null,{"$f":"gettext(\"C37\",Sprache!$D$1)","v":"Baukörpermaterialien."}]
[]
[null,"-",{"$f":"gettext(\"C38\",Sprache!$D$1)","v":"Um korrekte Materialberechnungen zu gewährleisten ist die Eingabe von Elementen und Modulen in den Eingabemasken"}]
[null,null,{"$f":"gettext(\"C39\",Sprache!$D$1)","v":"der einzelnen Wandtypen erforderlich. "}]
[]
[null,"-",{"$f":"gettext(\"C40\",Sprache!$D$1)","v":"Das System prüft, wieviele Elemente bzw. Module sich bei einer bestimmten Wandbreite montieren lassen."}]
[null,null,{"$f":"gettext(\"C41\",Sprache!$D$1)","v":"Mindestbewegungsflächen sanitärer Objekte werden jedoch nicht berücksichtigt."}]
[]
[]
[null,null,{"$f":"gettext(\"C42\",Sprache!$D$1)","v":"Änderungen im Sinne technischer Weiterentwicklungen sind vorbehalten."}]

{"sheet":"Wandtypen_Walltypes","index":9,"n_rows":34,"n_cols":21,"rows_kept":34,"cut":false,"hidden":false,"merged":[[28,1,30,1],[11,1,13,1],[21,1,22,1],[0,4,0,5],[0,6,0,8],[1,4,1,5],[1,6,1,8],[8,5,8,7],[8,8,8,10],[7,4,7,10],[8,12,8,14],[8,18,8,20],[7,11,7,20],[18,5,18,7],[17,4,17,7],[8,15,8,17],[33,6,37,8],[25,5,25,7],[25,8,25,10],[25,12,25,14],[24,4,24,14]]}
[null,{"$f":"gettext(\"E1\",Sprache!$D$1)","v":"Angaben zum Bauvorhaben/ Projekt :"},null,null,{"$f":"gettext(\"E5\",Sprache!$D$1)","v":"Bauvorhaben / Projekt :"},null,null,null,null,null,{"$f":"gettext(\"E7\",Sprache!$D$1)","v":"Projekt-Nr. :"}]
[null,{"$f":"gettext(\"E2\",Sprache!$D$1)","v":"( *freiwillig )"},null,null,{"$f":"gettext(\"E6\",Sprache!$D$1)","v":"Sachbearbeiter :"},null,null,null,null,null,{"$f":"gettext(\"E8\",Sprache!$D$1)","v":"Datum :"}]
[]
[]
[]
[null,{"$f":"gettext(\"E3\",Sprache!$D$1)","v":"Auswahl der Wandtypen :"},{"$f":"gettext(\"E4\",Sprache!$D$1)","v":"(Auswahl durch Klick auf entsprechende Schaltfläche !)"}]
[]
[null,null,null,null,{"$f":"gettext(\"E10\",Sprache!$D$1)","v":"Halbhohe Wände:"},null,null,null,null,null,null,{"$f":"gettext(\"E11\",Sprache!$D$1)","v":"Raumhohe Wände"}]
[null,{"$f":"gettext(\"E9\",Sprache!$D$1)","v":"Wandtyp"},{"$f":"gettext(\"E12\",Sprache!$D$1)","v":"Bauhöhe ab OKFFB :"},null,"mm",{"$f":"gettext(\"E23\",Sprache!$D$1)","v":"bis 855"},null,null,{"$f":"gettext(\"E24\",Sprache!$D$1)","v":"bis 1155"},null,null,"mm",{"$f":"gettext(\"E25\",Sprache!$D$1)","v":"bis 2600"},null,null,{"$f":"gettext(\"E26\",Sprache!$D$1)","v":"bis 3300"},null,null,{"$f":"gettext(\"E27\",Sprache!$D$1)","v":"bis 3900"}]
[null,null,{"$f":"gettext(\"E13\",Sprache!$D$1)","v":"Wandtiefe :"},null,"mm","155 - 215","255 - 315","120 - 600","155 - 215","255 - 315","120 - 600","mm","155 - 215","255 - 315","120 - 600","155 - 215","255 - 315","120 - 600","155 - 215","255 - 315","120 - 600"]
[]
[null,{"$f":"gettext(\"E14\",Sprache!$D$1)","v":"Vorwand vor Massivwand "},{"$f":"gettext(\"E18\",Sprache!$D$1)","v":"zweiseitig befestigt"}]
[null,null,{"$f":"gettext(\"E19\",Sprache!$D$1)","v":"einseitig befestigt"}]
[null,null,{"$f":"gettext(\"E20\",Sprache!$D$1)","v":"ohne seitliche Befestigung"}]
[]
[null,{"$f":"gettext(\"E15\",Sprache!$D$1)","v":"Installationstrennwand"},{"$f":"gettext(\"E18\",Sprache!$D$1)","v":"zweiseitig befestigt"}]
[]
[null,null,null,null,{"$f":"gettext(\"E10\",Sprache!$D$1)","v":"Halbhohe Wände:"}]
[null,{"$f":"gettext(\"E9\",Sprache!$D$1)","v":"Wandtyp"},{"$f":"gettext(\"E12\",Sprache!$D$1)","v":"Bauhöhe ab OKFFB :"},null,"mm",{"$f":"gettext(\"E28\",Sprache!$D$1)","v":"855 bis 1155"}]
[null,null,{"$f":"gettext(\"E13\",Sprache!$D$1)","v":"Wandtiefe :"},null,"mm","200 - 215","255 - 315","316 - 600"]
[]
[null,{"$f":"gettext(\"E16\",Sprache!$D$1)","v":"Freistehende Wand"},{"$f":"gettext(\"E19\",Sprache!$D$1)","v":"einseitig befestigt"}]
[null,null,{"$f":"gettext(\"E20\",Sprache!$D$1)","v":"ohne seitliche Befestigung"}]
[]
[null,null,null,null,{"$f":"gettext(\"E17\",Sprache!$D$1)","v":"Schachtaufsatz"}]
[null,{"$f":"gettext(\"E9\",Sprache!$D$1)","v":"Wandtyp"},{"$f":"gettext(\"E12\",Sprache!$D$1)","v":"Bauhöhe ab OKFFB :"},null,"mm",{"$f":"gettext(\"E22\",Sprache!$D$1)","v":"bis 600"},null,null,{"$f":"gettext(\"E29\",Sprache!$D$1)","v":"bis 1445"},null,null,"mm",{"$f":"gettext(\"E30\",Sprache!$D$1)","v":"bis 2745"}]
[null,null,{"$f":"gettext(\"E13\",Sprache!$D$1)","v":"Wandtiefe :"},null,"mm","155 - 215","255 - 315","120 - 600","155 - 215","255 - 315","120 - 600","mm","155 - 215","255 - 315","120 - 600"]
[]
[null,{"$f":"gettext(\"E17\",Sprache!$D$1)","v":"Schachtaufsatz"},{"$f":"gettext(\"E18\",Sprache!$D$1)","v":"zweiseitig befestigt"}]
[null,null,{"$f":"gettext(\"E19\",Sprache!$D$1)","v":"einseitig befestigt"}]
[null,null,{"$f":"gettext(\"E20\",Sprache!$D$1)","v":"ohne seitliche Befestigung"}]
[]
[]
[null,null,null,null,null,null,{"$f":"gettext(\"E21\",Sprache!$D$1)","v":"Verwendung falls die Zuordnung der Elemente und Module auf einzelne Wände nicht bekannt ist."}]

{"sheet":"Preise_Prices","index":10,"n_rows":94,"n_cols":25,"rows_kept":94,"cut":false,"hidden":false,"merged":[[7,11,7,13],[7,16,7,18],[8,11,8,13],[8,16,8,18],[11,18,12,18],[85,11,86,12],[11,16,12,16],[11,1,12,1],[11,2,12,9],[11,11,12,11],[11,13,12,13]]}
[null,{"$f":"gettext(\"F1\",Sprache!$D$1)","v":"Auswahl der Artikelpreise und Stundensätze als Preisbasis für die Kalkulation"}]
[]
[null,null,{"$f":"gettext(\"F17\",Sprache!$D$1)","v":"ohne Preise kalkulieren"}]
[null,null,{"$f":"L8&\" - \"&L9","v":"Preise 1 - "},null,null,null,null,null,{"$f":"IF($Y$82>0,gettext(\"F12\",Sprache!$D$1),\"\")","v":""}]
[null,null,{"$f":"Q8&\" - \"&Q9","v":"Preise 2 - "},null,null,null,null,null,{"$f":"IF($Y$82>0,gettext(\"F13\",Sprache!$D$1),\"\")","v":""}]
[null,null,null,null,null,null,null,null,{"$f":"IF($Y$82>0,gettext(\"F14\",Sprache!$D$1),\"\")","v":""}]
[]
[null,null,null,null,null,null,null,null,null,null,null,{"$f":"gettext(\"F3\",Sprache!$D$1)","v":"Preise 1"},0,0,null,null,{"$f":"gettext(\"F4\",Sprache!$D$1)","v":"Preise 2"},0,0,null,null,null,null,"Gewählte Preisbasis:"]
[null,null,null,null,null,null,null,null,null,null,null,null,null,null,null,null,null,null,null,null,null,null,null,1]
[]
[]
[null,{"$f":"WT!B35","v":"Artikel-Nr."},{"$f":"WT!C35","v":"Bezeichnung"},"Artikel-Nr.","Artikel-Nr.","Artikel-Nr.","Artikel-Nr.","Artikel-Nr.","Artikel-Nr.","Artikel-Nr.",null,{"$f":"gettext(\"F5\",Sprache!$D$1)","v":"Preis"},{"$f":"gettext(\"F6\",Sprache!$D$1)","v":"Preis-"},{"$f":"gettext(\"F8\",Sprache!$D$1)","v":"Einheit"},null,null,{"$f":"gettext(\"F5\",Sprache!$D$1)","v":"Preis"},{"$f":"gettext(\"F6\",Sprache!$D$1)","v":"Preis-"},{"$f":"gettext(\"F8\",Sprache!$D$1)","v":"Einheit"},null,null,null,"ohne Preise","AP 1","AP 2"]
[null,"keine Elemente","keine Elemente","keine Elemente","keine Elemente","keine Elemente","keine Elemente","keine Elemente","keine Elemente","keine Elemente",null,"keine Elemente",{"$f":"gettext(\"F7\",Sprache!$D$1)","v":"einheit"},null,null,null,"keine Elemente",{"$f":"gettext(\"F7\",Sprache!$D$1)","v":"einheit"}]
[]
[null,{"$f":"Einbauten!A3","v":"WC-Elemente"}]
[null,{"$f":"Einbauten!A4","v":"90.745.00..T000"},{"$f":"gettext(B16,Sprache!$D$1)","v":"INEO FRONTOP WC-El., kl. RÖ, Betät. v.vorn/oben, BH 820 mm"},null,null,null,null,null,null,null,null,null,null,{"$f":"Einbauten!B4","v":"Stück"},{"$f":"IF(M16>0,L16/M16,0)","v":0},null,null,null,{"$f":"N16","v":"Stück"},{"$f":"IF(R16>0,Q16/R16,0)","v":0},null,null,true,{"$f":"IF($X$9=2,IF(Übersicht_Summary!$J52=0,TRUE,AND(L16>0,M16>0)),TRUE)","v":true},{"$f":"IF($X$9=3,IF(Übersicht_Summary!$J52=0,TRUE,AND(Q16>0,R16>0)),TRUE)","v":true}]
[null,{"$f":"Einbauten!A5","v":"90.738.00..T000"},{"$f":"gettext(B17,Sprache!$D$1)","v":"INEO FRONTOP WC-El., kl. RÖ, Betät. v.vorn/oben, BH 985 mm"},null,null,null,null,null,null,null,null,null,null,{"$f":"Einbauten!B5","v":"Stück"},{"$f":"IF(M17>0,L17/M17,0)","v":0},null,null,null,{"$f":"N17","v":"Stück"},{"$f":"IF(R17>0,Q17/R17,0)","v":0},null,null,true,{"$f":"IF($X$9=2,IF(Übersicht_Summary!$J53=0,TRUE,AND(L17>0,M17>0)),TRUE)","v":true},{"$f":"IF($X$9=3,IF(Übersicht_Summary!$J53=0,TRUE,AND(Q17>0,R17>0)),TRUE)","v":true}]
[null,{"$f":"Einbauten!A6","v":"90.743.00..T000"},{"$f":"gettext(B18,Sprache!$D$1)","v":"INEO PLUS WC-El., kl. RÖ, Betät. v. vorn, BH 1120 mm, Breite 450 mm o. Wandhalter"},null,null,null,null,null,null,null,null,null,null,{"$f":"Einbauten!B6","v":"Stück"},0,null,null,null,"Stück",0,null,null,true,{"$f":"IF($X$9=2,IF(Übersicht_Summary!$J54=0,TRUE,AND(L18>0,M18>0)),TRUE)","v":true},{"$f":"IF($X$9=3,IF(Übersicht_Summary!$J54=0,TRUE,AND(Q18>0,R18>0)),TRUE)","v":true}]
[null,{"$f":"Einbauten!A7","v":"90.735.00..T000"},{"$f":"gettext(B19,Sprache!$D$1)","v":"INEO WC-El. für Stand-/Kinder-WC, kl. RÖ, Betät. v. vorn, BH 1120 mm"},null,null,null,null,null,null,null,null,null,null,{"$f":"Einbauten!B7","v":"Stück"},0,null,null,null,"Stück",0,null,null,true,{"$f":"IF($X$9=2,IF(Übersicht_Summary!$J55=0,TRUE,AND(L19>0,M19>0)),TRUE)","v":true},{"$f":"IF($X$9=3,IF(Übersicht_Summary!$J55=0,TRUE,AND(Q19>0,R19>0)),TRUE)","v":true}]
[null,{"$f":"Einbauten!A8","v":"Waschtisch- und Ausgussbecken-Elemente"}]
[null,{"$f":"Einbauten!A9","v":"90.672.00..T000"},{"$f":"gettext(B21,Sprache!$D$1)","v":"INEO WT-Element für Einlocharmaturen, BH 820 mm"},null,null,null,null,null,null,null,null,null,null,{"$f":"Einbauten!B9","v":"Stück"},{"$f":"IF(M21>0,L21/M21,0)","v":0},null,null,null,{"$f":"N21","v":"Stück"},{"$f":"IF(R21>0,Q21/R21,0)","v":0},null,null,true,{"$f":"IF($X$9=2,IF(Übersicht_Summary!$J57=0,TRUE,AND(L21>0,M21>0)),TRUE)","v":true},{"$f":"IF($X$9=3,IF(Übersicht_Summary!$J57=0,TRUE,AND(Q21>0,R21>0)),TRUE)","v":true}]
[null,{"$f":"Einbauten!A10","v":"90.669.00..T000"},{"$f":"gettext(B22,Sprache!$D$1)","v":"INEO WT-Element für Einlocharmaturen, BH 985 mm"},null,null,null,null,null,null,null,null,null,null,{"$f":"Einbauten!B10","v":"Stück"},{"$f":"IF(M22>0,L22/M22,0)","v":0},null,null,null,{"$f":"N22","v":"Stück"},{"$f":"IF(R22>0,Q22/R22,0)","v":0},null,null,true,{"$f":"IF($X$9=2,IF(Übersicht_Summary!$J58=0,TRUE,AND(L22>0,M22>0)),TRUE)","v":true},{"$f":"IF($X$9=3,IF(Übersicht_Summary!$J58=0,TRUE,AND(Q22>0,R22>0)),TRUE)","v":true}]
[null,{"$f":"Einbauten!A11","v":"90.696.00..T000"},{"$f":"gettext(B23,Sprache!$D$1)","v":"INEO WT-Element für Einlocharmaturen, BH 1120 mm"},null,null,null,null,null,null,null,null,null,null,{"$f":"Einbauten!B11","v":"Stück"},0,null,null,null,"Stück",0,null,null,true,{"$f":"IF($X$9=2,IF(Übersicht_Summary!$J59=0,TRUE,AND(L23>0,M23>0)),TRUE)","v":true},{"$f":"IF($X$9=3,IF(Übersicht_Summary!$J59=0,TRUE,AND(Q23>0,R23>0)),TRUE)","v":true}]
[null,{"$f":"Einbauten!A12","v":"90.671.00..T000"},{"$f":"gettext(B24,Sprache!$D$1)","v":"INEO WT-Element für AP-Wandarmaturen, BH 1120 - 1185 mm"},null,null,null,null,null,null,null,null,null,null,{"$f":"Einbauten!B12","v":"Stück"},0,null,null,null,"Stück",0,null,null,true,{"$f":"IF($X$9=2,IF(Übersicht_Summary!$J60=0,TRUE,AND(L24>0,M24>0)),TRUE)","v":true},{"$f":"IF($X$9=3,IF(Übersicht_Summary!$J60=0,TRUE,AND(Q24>0,R24>0)),TRUE)","v":true}]
[null,{"$f":"Einbauten!A13","v":"90.677.00..T000"},{"$f":"gettext(B25,Sprache!$D$1)","v":"INEO Ausguss-Element für Wandarmaturen, BH 1120 - 1185 mm"},null,null,null,null,null,null,null,null,null,null,{"$f":"Einbauten!B13","v":"Stück"},0,null,null,null,"Stück",0,null,null,true,{"$f":"IF($X$9=2,IF(Übersicht_Summary!$J61=0,TRUE,AND(L25>0,M25>0)),TRUE)","v":true},{"$f":"IF($X$9=3,IF(Übersicht_Summary!$J61=0,TRUE,AND(Q25>0,R25>0)),TRUE)","v":true}]
[null,{"$f":"Einbauten!A14","v":"90.691.00..T000"},{"$f":"gettext(B26,Sprache!$D$1)","v":"INEO WT-El. für Einlocharmaturen mit 2 UP-Wasserzählerstrecken, BH 985 mm"},null,null,null,null,null,null,null,null,null,null,{"$f":"Einbauten!B14","v":"Stück"},0,null,null,null,"Stück",0,null,null,true,{"$f":"IF($X$9=2,IF(Übersicht_Summary!$J62=0,TRUE,AND(L26>0,M26>0)),TRUE)","v":true},{"$f":"IF($X$9=3,IF(Übersicht_Summary!$J62=0,TRUE,AND(Q26>0,R26>0)),TRUE)","v":true}]
[null,{"$f":"Einbauten!A15","v":"90.687.00..T000"},{"$f":"gettext(B27,Sprache!$D$1)","v":"INEO WT-El. für Einlocharmaturen mit 2 UP-Wasserzählerstrecken, BH 1120 mm"},null,null,null,null,null,null,null,null,null,null,{"$f":"Einbauten!B15","v":"Stück"},0,null,null,null,"Stück",0,null,null,true,{"$f":"IF($X$9=2,IF(Übersicht_Summary!$J63=0,TRUE,AND(L27>0,M27>0)),TRUE)","v":true},{"$f":"IF($X$9=3,IF(Übersicht_Summary!$J63=0,TRUE,AND(Q27>0,R27>0)),TRUE)","v":true}]
[null,{"$f":"Einbauten!A16","v":"90.689.00..T000"},{"$f":"gettext(B28,Sprache!$D$1)","v":"INEO WT-El. für Einlocharmaturen, UP-Montage v. Durchlauferhitzern, BH 1120 mm"},null,null,null,null,null,null,null,null,null,null,{"$f":"Einbauten!B16","v":"Stück"},0,null,null,null,"Stück",0,null,null,true,{"$f":"IF($X$9=2,IF(Übersicht_Summary!$J64=0,TRUE,AND(L28>0,M28>0)),TRUE)","v":true},{"$f":"IF($X$9=3,IF(Übersicht_Summary!$J64=0,TRUE,AND(Q28>0,R28>0)),TRUE)","v":true}]
[null,{"$f":"Einbauten!A17","v":"90.688.00..T000"},{"$f":"gettext(B29,Sprache!$D$1)","v":"INEO LINNUM  Leer-Element, BH 1120 mm"},null,null,null,null,null,null,null,null,null,null,{"$f":"Einbauten!B17","v":"Stück"},0,null,null,null,"Stück",0,null,null,true,{"$f":"IF($X$9=2,IF(Übersicht_Summary!$J65=0,TRUE,AND(L29>0,M29>0)),TRUE)","v":true},{"$f":"IF($X$9=3,IF(Übersicht_Summary!$J65=0,TRUE,AND(Q29>0,R29>0)),TRUE)","v":true}]
[null,{"$f":"Einbauten!A18","v":"90.659.00..0000"},{"$f":"gettext(B30,Sprache!$D$1)","v":"INEO-Fäkalausguss-El. für Ausguss \"Publica\", kl. RÖ, Betät. v. vorn, BH 1530 mm"},null,null,null,null,null,null,null,null,null,null,{"$f":"Einbauten!B18","v":"Stück"},0,null,null,null,"Stück",0,null,null,true,{"$f":"IF($X$9=2,IF(Übersicht_Summary!$J66=0,TRUE,AND(L30>0,M30>0)),TRUE)","v":true},{"$f":"IF($X$9=3,IF(Übersicht_Summary!$J66=0,TRUE,AND(Q30>0,R30>0)),TRUE)","v":true}]
[null,{"$f":"Einbauten!A19","v":"Bidet- und Urinal-Elemente"}]
[null,{"$f":"Einbauten!A20","v":"90.663.00..T000"},{"$f":"gettext(B32,Sprache!$D$1)","v":"INEO Bidet-Element, BH 820 mm"},null,null,null,null,null,null,null,null,null,null,{"$f":"Einbauten!B20","v":"Stück"},{"$f":"IF(M32>0,L32/M32,0)","v":0},null,null,null,{"$f":"N32","v":"Stück"},{"$f":"IF(R32>0,Q32/R32,0)","v":0},null,null,true,{"$f":"IF($X$9=2,IF(Übersicht_Summary!$J68=0,TRUE,AND(L32>0,M32>0)),TRUE)","v":true},{"$f":"IF($X$9=3,IF(Übersicht_Summary!$J68=0,TRUE,AND(Q32>0,R32>0)),TRUE)","v":true}]
[null,{"$f":"Einbauten!A21","v":"90.662.00..T000"},{"$f":"gettext(B33,Sprache!$D$1)","v":"INEO Bidet-Element, BH 985 mm"},null,null,null,null,null,null,null,null,null,null,{"$f":"Einbauten!B21","v":"Stück"},{"$f":"IF(M33>0,L33/M33,0)","v":0},null,null,null,{"$f":"N33","v":"Stück"},{"$f":"IF(R33>0,Q33/R33,0)","v":0},null,null,true,{"$f":"IF($X$9=2,IF(Übersicht_Summary!$J69=0,TRUE,AND(L33>0,M33>0)),TRUE)","v":true},{"$f":"IF($X$9=3,IF(Übersicht_Summary!$J69=0,TRUE,AND(Q33>0,R33>0)),TRUE)","v":true}]
[null,{"$f":"Einbauten!A22","v":"90.676.00..T000"},{"$f":"gettext(B34,Sprache!$D$1)","v":"INEO Bidet-Element, BH 1120 mm"},null,null,null,null,null,null,null,null,null,null,{"$f":"Einbauten!B22","v":"Stück"},0,null,null,null,"Stück",0,null,null,true,{"$f":"IF($X$9=2,IF(Übersicht_Summary!$J70=0,TRUE,AND(L34>0,M34>0)),TRUE)","v":true},{"$f":"IF($X$9=3,IF(Übersicht_Summary!$J70=0,TRUE,AND(Q34>0,R34>0)),TRUE)","v":true}]
[null,{"$f":"Einbauten!A23","v":"90.668.00..T000"},{"$f":"gettext(B35,Sprache!$D$1)","v":"INEO Urinal-Element, für Urinal-Kartuschenventiltechnik, BH 1120 - 1185 mm"},null,null,null,null,null,null,null,null,null,null,{"$f":"Einbauten!B23","v":"Stück"},0,null,null,null,"Stück",0,null,null,true,{"$f":"IF($X$9=2,IF(Übersicht_Summary!$J71=0,TRUE,AND(L35>0,M35>0)),TRUE)","v":true},{"$f":"IF($X$9=3,IF(Übersicht_Summary!$J71=0,TRUE,AND(Q35>0,R35>0)),TRUE)","v":true}]
[null,{"$f":"Einbauten!A24","v":"90.675.00..T000"},{"$f":"gettext(B36,Sprache!$D$1)","v":"INEO Urinal-Element für Aufputzdruckspüler, BH 1120 - 1185 mm"},null,null,null,null,null,null,null,null,null,null,{"$f":"Einbauten!B24","v":"Stück"},0,null,null,null,"Stück",0,null,null,true,{"$f":"IF($X$9=2,IF(Übersicht_Summary!$J72=0,TRUE,AND(L36>0,M36>0)),TRUE)","v":true},{"$f":"IF($X$9=3,IF(Übersicht_Summary!$J72=0,TRUE,AND(Q36>0,R36>0)),TRUE)","v":true}]
[null,{"$f":"Einbauten!A25","v":"Bade-und Brausewannen"}]
[null,{"$f":"Einbauten!A26","v":"90.681.00..T000"},{"$f":"gettext(B38,Sprache!$D$1)","v":"INEO BW-Element  für Aufputzwandarmaturen, BH 1120-1185 mm"},null,null,null,null,null,null,null,null,null,null,{"$f":"Einbauten!B26","v":"Stück"},{"$f":"IF(M38>0,L38/M38,0)","v":0},null,null,null,{"$f":"N38","v":"Stück"},{"$f":"IF(R38>0,Q38/R38,0)","v":0},null,null,true,{"$f":"IF($X$9=2,IF(Übersicht_Summary!$J74=0,TRUE,AND(L38>0,M38>0)),TRUE)","v":true},{"$f":"IF($X$9=3,IF(Übersicht_Summary!$J74=0,TRUE,AND(Q38>0,R38>0)),TRUE)","v":true}]
[null,{"$f":"Einbauten!A27","v":"90.682.00..T000"},{"$f":"gettext(B39,Sprache!$D$1)","v":"INEO BW-Element für UP-Armaturen, BH 1120-1185 mm"},null,null,null,null,null,null,null,null,null,null,{"$f":"Einbauten!B27","v":"Stück"},{"$f":"IF(M39>0,L39/M39,0)","v":0},null,null,null,{"$f":"N39","v":"Stück"},{"$f":"IF(R39>0,Q39/R39,0)","v":0},null,null,true,{"$f":"IF($X$9=2,IF(Übersicht_Summary!$J75=0,TRUE,AND(L39>0,M39>0)),TRUE)","v":true},{"$f":"IF($X$9=3,IF(Übersicht_Summary!$J75=0,TRUE,AND(Q39>0,R39>0)),TRUE)","v":true}]
[null,{"$f":"Einbauten!A28","v":"Waschtisch- und Urinal-Module (Sanitärfunktion ohne Trockenbaurahmen)"}]
[null,{"$f":"Einbauten!A29","v":"17.276.00..0000"},{"$f":"gettext(B41,Sprache!$D$1)","v":"WT-Modul für Einloch- und AP-Wandarmaturen"},null,null,null,null,null,null,null,null,null,null,{"$f":"Einbauten!B29","v":"Stück"},{"$f":"IF(M41>0,L41/M41,0)","v":0},null,null,null,{"$f":"N41","v":"Stück"},{"$f":"IF(R41>0,Q41/R41,0)","v":0},null,null,true,{"$f":"IF($X$9=2,IF(Übersicht_Summary!$J77=0,TRUE,AND(L41>0,M41>0)),TRUE)","v":true},{"$f":"IF($X$9=3,IF(Übersicht_Summary!$J77=0,TRUE,AND(Q41>0,R41>0)),TRUE)","v":true}]
[null,{"$f":"Einbauten!A30","v":"17.286.00..0000"},{"$f":"gettext(B42,Sprache!$D$1)","v":"Waschtisch-Modul für Einlocharmaturen"},null,null,null,null,null,null,null,null,null,null,{"$f":"Einbauten!B30","v":"Stück"},{"$f":"IF(M42>0,L42/M42,0)","v":0},null,null,null,{"$f":"N42","v":"Stück"},{"$f":"IF(R42>0,Q42/R42,0)","v":0},null,null,true,{"$f":"IF($X$9=2,IF(Übersicht_Summary!$J78=0,TRUE,AND(L42>0,M42>0)),TRUE)","v":true},{"$f":"IF($X$9=3,IF(Übersicht_Summary!$J78=0,TRUE,AND(Q42>0,R42>0)),TRUE)","v":true}]
[null,{"$f":"Einbauten!A31","v":"03.877.00..0000"},{"$f":"gettext(B43,Sprache!$D$1)","v":"Modul für Waschtisch und Ausgussbecken mit AP-Armatur"},null,null,null,null,null,null,null,null,null,null,{"$f":"Einbauten!B31","v":"Stück"},{"$f":"IF(M43>0,L43/M43,0)","v":0},null,null,null,{"$f":"N43","v":"Stück"},{"$f":"IF(R43>0,Q43/R43,0)","v":0},null,null,true,{"$f":"IF($X$9=2,IF(Übersicht_Summary!$J79=0,TRUE,AND(L43>0,M43>0)),TRUE)","v":true},{"$f":"IF($X$9=3,IF(Übersicht_Summary!$J79=0,TRUE,AND(Q43>0,R43>0)),TRUE)","v":true}]
[null,{"$f":"Einbauten!A32","v":"Weitere Module (Sanitärfunktion ohne Trockenbaurahmen) & Zubehör"}]
[null,{"$f":"Einbauten!A33","v":"17.268.00..0000"},{"$f":"gettext(B45,Sprache!$D$1)","v":"Modul für UP- oder AP-Armaturen"},null,null,null,null,null,null,null,null,null,null,{"$f":"Einbauten!B33","v":"Stück"},{"$f":"IF(M45>0,L45/M45,0)","v":0},null,null,null,{"$f":"N45","v":"Stück"},{"$f":"IF(R45>0,Q45/R45,0)","v":0},null,null,true,{"$f":"IF($X$9=2,IF(Übersicht_Summary!$J81=0,TRUE,AND(L45>0,M45>0)),TRUE)","v":true},{"$f":"IF($X$9=3,IF(Übersicht_Summary!$J81=0,TRUE,AND(Q45>0,R45>0)),TRUE)","v":true}]
[null,{"$f":"Einbauten!A34","v":"17.287.00..0000"},{"$f":"gettext(B46,Sprache!$D$1)","v":"Modul für UP- oder AP-Armaturen"},null,null,null,null,null,null,null,null,null,null,{"$f":"Einbauten!B34","v":"Stück"},{"$f":"IF(M46>0,L46/M46,0)","v":0},null,null,null,{"$f":"N46","v":"Stück"},{"$f":"IF(R46>0,Q46/R46,0)","v":0},null,null,true,{"$f":"IF($X$9=2,IF(Übersicht_Summary!$J82=0,TRUE,AND(L46>0,M46>0)),TRUE)","v":true},{"$f":"IF($X$9=3,IF(Übersicht_Summary!$J82=0,TRUE,AND(Q46>0,R46>0)),TRUE)","v":true}]
[null,{"$f":"Einbauten!A35","v":"17.275.00..0000"},{"$f":"gettext(B47,Sprache!$D$1)","v":"Modul für Aufputzwandbatterien"},null,null,null,null,null,null,null,null,null,null,{"$f":"Einbauten!B35","v":"Stück"},0,null,null,null,"Stück",0,null,null,true,{"$f":"IF($X$9=2,IF(Übersicht_Summary!$J83=0,TRUE,AND(L47>0,M47>0)),TRUE)","v":true},{"$f":"IF($X$9=3,IF(Übersicht_Summary!$J83=0,TRUE,AND(Q47>0,R47>0)),TRUE)","v":true}]
[null,{"$f":"Einbauten!A36","v":"17.282.00..0000"},{"$f":"gettext(B48,Sprache!$D$1)","v":"Modul für Waschmaschinenanschluss"},null,null,null,null,null,null,null,null,null,null,{"$f":"Einbauten!B36","v":"Stück"},0,null,null,null,"Stück",0,null,null,true,{"$f":"IF($X$9=2,IF(Übersicht_Summary!$J84=0,TRUE,AND(L48>0,M48>0)),TRUE)","v":true},{"$f":"IF($X$9=3,IF(Übersicht_Summary!$J84=0,TRUE,AND(Q48>0,R48>0)),TRUE)","v":true}]
[null,{"$f":"Einbauten!A37","v":"17.216.00..0000"},{"$f":"gettext(B49,Sprache!$D$1)","v":"Befestigungsmodul für schwere Gegenstände, Griffe u.ä."},null,null,null,null,null,null,null,null,null,null,{"$f":"Einbauten!B37","v":"Stück"},0,null,null,null,"Stück",0,null,null,true,{"$f":"IF($X$9=2,IF(Übersicht_Summary!$J85=0,TRUE,AND(L49>0,M49>0)),TRUE)","v":true},{"$f":"IF($X$9=3,IF(Übersicht_Summary!$J85=0,TRUE,AND(Q49>0,R49>0)),TRUE)","v":true}]
[null,{"$f":"Einbauten!A38","v":"17.280.00..0000"},{"$f":"gettext(B50,Sprache!$D$1)","v":"Befestigungsmodul für Küchenanschlüsse"},null,null,null,null,null,null,null,null,null,null,{"$f":"Einbauten!B38","v":"Stück"},0,null,null,null,"Stück",0,null,null,true,{"$f":"IF($X$9=2,IF(Übersicht_Summary!$J86=0,TRUE,AND(L50>0,M50>0)),TRUE)","v":true},{"$f":"IF($X$9=3,IF(Übersicht_Summary!$J86=0,TRUE,AND(Q50>0,R50>0)),TRUE)","v":true}]
[null,{"$f":"Einbauten!A39","v":"17.239.00..0000"},{"$f":"gettext(B51,Sprache!$D$1)","v":"Ergänzungsmodul für Sitzbefestigung"},null,null,null,null,null,null,null,null,null,null,{"$f":"Einbauten!B39","v":"Stück"},0,null,null,null,"Stück",0,null,null,true,{"$f":"IF($X$9=2,IF(Übersicht_Summary!$J87=0,TRUE,AND(L51>0,M51>0)),TRUE)","v":true},{"$f":"IF($X$9=3,IF(Übersicht_Summary!$J87=0,TRUE,AND(Q51>0,R51>0)),TRUE)","v":true}]
[null,{"$f":"Einbauten!A40","v":"17.281.00..0000"},{"$f":"gettext(B52,Sprache!$D$1)","v":"Modul für Wandscheiben"},null,null,null,null,null,null,null,null,null,null,{"$f":"Einbauten!B40","v":"Stück"},0,null,null,null,"Stück",0,null,null,true,{"$f":"IF($X$9=2,IF(Übersicht_Summary!$J88=0,TRUE,AND(L52>0,M52>0)),TRUE)","v":true},{"$f":"IF($X$9=3,IF(Übersicht_Summary!$J88=0,TRUE,AND(Q52>0,R52>0)),TRUE)","v":true}]
[null,{"$f":"Einbauten!A41","v":"05.132.00..0000"},{"$f":"gettext(B53,Sprache!$D$1)","v":"Dachschrägen-Anschluss"},null,null,null,null,null,null,null,null,null,null,{"$f":"Einbauten!B41","v":"Stück"},{"$f":"IF(M53>0,L53/M53,0)","v":0},null,null,null,{"$f":"N53","v":"Stück"},{"$f":"IF(R53>0,Q53/R53,0)","v":0},null,null,true,{"$f":"IF($X$9=2,IF(Übersicht_Summary!$J89=0,TRUE,AND(L53>0,M53>0)),TRUE)","v":true},{"$f":"IF($X$9=3,IF(Übersicht_Summary!$J89=0,TRUE,AND(Q53>0,R53>0)),TRUE)","v":true}]
[null,{"$f":"Einbauten!A42","v":"05.201.00..0000"},{"$f":"gettext(B54,Sprache!$D$1)","v":"Rohrschellenbefestigung"},null,null,null,null,null,null,null,null,null,null,{"$f":"Einbauten!B42","v":"Stück"},0,null,null,null,"Stück",0,null,null,true,{"$f":"IF($X$9=2,IF(Übersicht_Summary!$J90=0,TRUE,AND(L54>0,M54>0)),TRUE)","v":true},{"$f":"IF($X$9=3,IF(Übersicht_Summary!$J90=0,TRUE,AND(Q54>0,R54>0)),TRUE)","v":true}]
[null,{"$f":"Einbauten!A43","v":"barrierefreie Elemente und Module"}]
[null,{"$f":"Einbauten!A44","v":"90.685.00..T000"},{"$f":"gettext(B56,Sprache!$D$1)","v":"INEO WT-Element für Einlocharmaturen, behinderteng. BH 820 mm"},null,null,null,null,null,null,null,null,null,null,{"$f":"Einbauten!B44","v":"Stück"},{"$f":"IF(M56>0,L56/M56,0)","v":0},null,null,null,{"$f":"N56","v":"Stück"},{"$f":"IF(R56>0,Q56/R56,0)","v":0},null,null,true,{"$f":"IF($X$9=2,IF(Übersicht_Summary!$J92=0,TRUE,AND(L56>0,M56>0)),TRUE)","v":true},{"$f":"IF($X$9=3,IF(Übersicht_Summary!$J92=0,TRUE,AND(Q56>0,R56>0)),TRUE)","v":true}]
[null,{"$f":"Einbauten!A45","v":"90.673.00..T000"},{"$f":"gettext(B57,Sprache!$D$1)","v":"INEO WT-El. für Einloch- o. AP-Wandarmaturen, behinderteng., BH 1120 - 1185 mm"},null,null,null,null,null,null,null,null,null,null,{"$f":"Einbauten!B45","v":"Stück"},{"$f":"IF(M57>0,L57/M57,0)","v":0},null,null,null,{"$f":"N57","v":"Stück"},{"$f":"IF(R57>0,Q57/R57,0)","v":0},null,null,true,{"$f":"IF($X$9=2,IF(Übersicht_Summary!$J93=0,TRUE,AND(L57>0,M57>0)),TRUE)","v":true},{"$f":"IF($X$9=3,IF(Übersicht_Summary!$J93=0,TRUE,AND(Q57>0,R57>0)),TRUE)","v":true}]
[null,{"$f":"Einbauten!A46","v":"90.744.00..T000"},{"$f":"gettext(B58,Sprache!$D$1)","v":"INEO PLUS WC-El., kl. RÖ, Betät. v. vorn, behindertengerecht, BH 1120 mm"},null,null,null,null,null,null,null,null,null,null,{"$f":"Einbauten!B46","v":"Stück"},0,null,null,null,"Stück",0,null,null,true,{"$f":"IF($X$9=2,IF(Übersicht_Summary!$J94=0,TRUE,AND(L58>0,M58>0)),TRUE)","v":true},{"$f":"IF($X$9=3,IF(Übersicht_Summary!$J94=0,TRUE,AND(Q58>0,R58>0)),TRUE)","v":true}]
[null,{"$f":"Einbauten!A47","v":"90.680.00..TR00"},{"$f":"gettext(B59,Sprache!$D$1)","v":"Befest.-El. rechts für Griff- u. Haltesysteme, BH 1185 mm"},null,null,null,null,null,null,null,null,null,null,{"$f":"Einbauten!B47","v":"Stück"},0,null,null,null,"Stück",0,null,null,true,{"$f":"IF($X$9=2,IF(Übersicht_Summary!$J95=0,TRUE,AND(L59>0,M59>0)),TRUE)","v":true},{"$f":"IF($X$9=3,IF(Übersicht_Summary!$J95=0,TRUE,AND(Q59>0,R59>0)),TRUE)","v":true}]
[null,{"$f":"Einbauten!A48","v":"90.680.00..TL00"},{"$f":"gettext(B60,Sprache!$D$1)","v":"Befest.-El. links für Griff- u. Haltesysteme, BH 1185 mm"},null,null,null,null,null,null,null,null,null,null,{"$f":"Einbauten!B48","v":"Stück"},0,null,null,null,"Stück",0,null,null,true,{"$f":"IF($X$9=2,IF(Übersicht_Summary!$J96=0,TRUE,AND(L60>0,M60>0)),TRUE)","v":true},{"$f":"IF($X$9=3,IF(Übersicht_Summary!$J96=0,TRUE,AND(Q60>0,R60>0)),TRUE)","v":true}]
[null,{"$f":"Einbauten!A49","v":"17.288.00..0000"},{"$f":"gettext(B61,Sprache!$D$1)","v":"Waschtisch-Modul behindertengerecht"},null,null,null,null,null,null,null,null,null,null,{"$f":"Einbauten!B49","v":"Stück"},0,null,null,null,"Stück",0,null,null,true,{"$f":"IF($X$9=2,IF(Übersicht_Summary!$J97=0,TRUE,AND(L61>0,M61>0)),TRUE)","v":true},{"$f":"IF($X$9=3,IF(Übersicht_Summary!$J97=0,TRUE,AND(Q61>0,R61>0)),TRUE)","v":true}]
[null,{"$f":"Einbauten!A50","v":"17.279.00..0000"},{"$f":"gettext(B62,Sprache!$D$1)","v":"Befestigungsmodul für Griff- und Haltesysteme"},null,null,null,null,null,null,null,null,null,null,{"$f":"Einbauten!B50","v":"Stück"},0,null,null,null,"Stück",0,null,null,true,{"$f":"IF($X$9=2,IF(Übersicht_Summary!$J98=0,TRUE,AND(L62>0,M62>0)),TRUE)","v":true},{"$f":"IF($X$9=3,IF(Übersicht_Summary!$J98=0,TRUE,AND(Q62>0,R62>0)),TRUE)","v":true}]
[null,{"$f":"Einbauten!A51","v":"17.289.00..0000"},{"$f":"gettext(B63,Sprache!$D$1)","v":"Befestigungs-Modul für Griff- und Haltesysteme"},null,null,null,null,null,null,null,null,null,null,{"$f":"Einbauten!B51","v":"Stück"},0,null,null,null,"Stück",0,null,null,true,{"$f":"IF($X$9=2,IF(Übersicht_Summary!$J99=0,TRUE,AND(L63>0,M63>0)),TRUE)","v":true},{"$f":"IF($X$9=3,IF(Übersicht_Summary!$J99=0,TRUE,AND(Q63>0,R63>0)),TRUE)","v":true}]
[]
[]
[null,{"$f":"WT!B88","v":"Materialbedarf für Tragwerk und Beplankung"}]
[]
[null,{"$f":"Basismaterial!A3","v":"02.208.00..0000"},{"$f":"gettext(B68,Sprache!$D$1)","v":"Stab (5m)"},null,null,null,null,null,null,null,null,null,null,{"$f":"Basismaterial!B3","v":"m"},{"$f":"IF(M68>0,L68/M68,0)","v":0},null,null,null,{"$f":"N68","v":"m"},{"$f":"IF(R68>0,Q68/R68,0)","v":0},null,null,true,{"$f":"IF($X$9=2,IF(Übersicht_Summary!$J102=0,TRUE,AND(L68>0,M68>0)),TRUE)","v":true},{"$f":"IF($X$9=3,IF(Übersicht_Summary!$J102=0,TRUE,AND(Q68>0,R68>0)),TRUE)","v":true}]
[null,{"$f":"Basismaterial!A4","v":"02.596.00..0000"},{"$f":"gettext(B69,Sprache!$D$1)","v":"Universalspachtelmasse ( ca. 0,25 Kg/m2 )"},null,null,null,null,null,null,null,null,null,null,{"$f":"Basismaterial!B4","v":"Kg"},{"$f":"IF(M69>0,L69/M69,0)","v":0},null,null,null,{"$f":"N69","v":"Kg"},{"$f":"IF(R69>0,Q69/R69,0)","v":0},null,null,true,{"$f":"IF($X$9=2,IF(Übersicht_Summary!$J103=0,TRUE,AND(L69>0,M69>0)),TRUE)","v":true},{"$f":"IF($X$9=3,IF(Übersicht_Summary!$J103=0,TRUE,AND(Q69>0,R69>0)),TRUE)","v":true}]
[null,{"$f":"Basismaterial!A5","v":"02.597.00..0000"},{"$f":"gettext(B70,Sprache!$D$1)","v":"Senkkopf-Kreuzschlitzschraube zur Verkleidungsplatte"},null,null,null,null,null,null,null,null,null,null,{"$f":"Basismaterial!B5","v":"Stück"},0,null,null,null,"Stück",0,null,null,true,{"$f":"IF($X$9=2,IF(Übersicht_Summary!$J104=0,TRUE,AND(L70>0,M70>0)),TRUE)","v":true},{"$f":"IF($X$9=3,IF(Übersicht_Summary!$J104=0,TRUE,AND(Q70>0,R70>0)),TRUE)","v":true}]
[null,{"$f":"Basismaterial!A6","v":"03.332.00..0000"},{"$f":"gettext(B71,Sprache!$D$1)","v":"Eckverbinder"},null,null,null,null,null,null,null,null,null,null,{"$f":"Basismaterial!B6","v":"Stück"},0,null,null,null,"Stück",0,null,null,true,{"$f":"IF($X$9=2,IF(Übersicht_Summary!$J105=0,TRUE,AND(L71>0,M71>0)),TRUE)","v":true},{"$f":"IF($X$9=3,IF(Übersicht_Summary!$J105=0,TRUE,AND(Q71>0,R71>0)),TRUE)","v":true}]
[null,{"$f":"Basismaterial!A7","v":"03.333.00..0000"},{"$f":"gettext(B72,Sprache!$D$1)","v":"Modulverbinder"},null,null,null,null,null,null,null,null,null,null,{"$f":"Basismaterial!B7","v":"Stück"},0,null,null,null,"Stück",0,null,null,true,{"$f":"IF($X$9=2,IF(Übersicht_Summary!$J106=0,TRUE,AND(L72>0,M72>0)),TRUE)","v":true},{"$f":"IF($X$9=3,IF(Übersicht_Summary!$J106=0,TRUE,AND(Q72>0,R72>0)),TRUE)","v":true}]
[null,{"$f":"Basismaterial!A8","v":"03.346.00..0000"},{"$f":"gettext(B73,Sprache!$D$1)","v":"Trennstreifen für Putzanschluss 20m"},null,null,null,null,null,null,null,null,null,null,{"$f":"Basismaterial!B8","v":"m"},0,null,null,null,"m",0,null,null,true,{"$f":"IF($X$9=2,IF(Übersicht_Summary!$J107=0,TRUE,AND(L73>0,M73>0)),TRUE)","v":true},{"$f":"IF($X$9=3,IF(Übersicht_Summary!$J107=0,TRUE,AND(Q73>0,R73>0)),TRUE)","v":true}]
[null,{"$f":"Basismaterial!A9","v":"03.545.00..0000"},{"$f":"gettext(B74,Sprache!$D$1)","v":"Bauwerksanschluss"},null,null,null,null,null,null,null,null,null,null,{"$f":"Basismaterial!B9","v":"Stück"},0,null,null,null,"Stück",0,null,null,true,{"$f":"IF($X$9=2,IF(Übersicht_Summary!$J108=0,TRUE,AND(L74>0,M74>0)),TRUE)","v":true},{"$f":"IF($X$9=3,IF(Übersicht_Summary!$J108=0,TRUE,AND(Q74>0,R74>0)),TRUE)","v":true}]
[null,{"$f":"Basismaterial!A10","v":"03.723.00..0000"},{"$f":"gettext(B75,Sprache!$D$1)","v":"Multiverbinder (Tiefe 155-215 mm)"},null,null,null,null,null,null,null,null,null,null,{"$f":"Basismaterial!B10","v":"Stück"},0,null,null,null,"Stück",0,null,null,true,{"$f":"IF($X$9=2,IF(Übersicht_Summary!$J109=0,TRUE,AND(L75>0,M75>0)),TRUE)","v":true},{"$f":"IF($X$9=3,IF(Übersicht_Summary!$J109=0,TRUE,AND(Q75>0,R75>0)),TRUE)","v":true}]
[null,{"$f":"Basismaterial!A11","v":"03.723.00..S000"},{"$f":"gettext(B76,Sprache!$D$1)","v":"Multiverbinder (Tiefe 255-315 mm)"},null,null,null,null,null,null,null,null,null,null,{"$f":"Basismaterial!B11","v":"Stück"},0,null,null,null,"Stück",0,null,null,true,{"$f":"IF($X$9=2,IF(Übersicht_Summary!$J110=0,TRUE,AND(L76>0,M76>0)),TRUE)","v":true},{"$f":"IF($X$9=3,IF(Übersicht_Summary!$J110=0,TRUE,AND(Q76>0,R76>0)),TRUE)","v":true}]
[null,{"$f":"Basismaterial!A12","v":"03.754.00..0000"},{"$f":"gettext(B77,Sprache!$D$1)","v":"Verbindungsset für VW-Elemente"},null,null,null,null,null,null,null,null,null,null,{"$f":"Basismaterial!B12","v":"Stück"},0,null,null,null,"Stück",0,null,null,true,{"$f":"IF($X$9=2,IF(Übersicht_Summary!$J111=0,TRUE,AND(L77>0,M77>0)),TRUE)","v":true},{"$f":"IF($X$9=3,IF(Übersicht_Summary!$J111=0,TRUE,AND(Q77>0,R77>0)),TRUE)","v":true}]
[null,{"$f":"Basismaterial!A13","v":"04.070.00..0000"},{"$f":"gettext(B78,Sprache!$D$1)","v":"Stützfuß für freistehende Wände"},null,null,null,null,null,null,null,null,null,null,{"$f":"Basismaterial!B13","v":"Stück"},0,null,null,null,"Stück",0,null,null,true,{"$f":"IF($X$9=2,IF(Übersicht_Summary!$J112=0,TRUE,AND(L78>0,M78>0)),TRUE)","v":true},{"$f":"IF($X$9=3,IF(Übersicht_Summary!$J112=0,TRUE,AND(Q78>0,R78>0)),TRUE)","v":true}]
[null,{"$f":"Basismaterial!A14","v":"16.032.00..0000"},{"$f":"gettext(B79,Sprache!$D$1)","v":"Schallschutzset zu INEO plus, 996"},null,null,null,null,null,null,null,null,null,null,{"$f":"Basismaterial!B14","v":"Stück"},0,null,null,null,"Stück",0,null,null,true,{"$f":"IF($X$9=2,IF(Übersicht_Summary!$J113=0,TRUE,AND(L79>0,M79>0)),TRUE)","v":true},{"$f":"IF($X$9=3,IF(Übersicht_Summary!$J113=0,TRUE,AND(Q79>0,R79>0)),TRUE)","v":true}]
[null,{"$f":"Basismaterial!A15","v":"17.115.00..S000"},{"$f":"gettext(B80,Sprache!$D$1)","v":"GKBI-Universalverkleidungsplatte ( 1300x600x18 mm )"},null,null,null,null,null,null,null,null,null,null,{"$f":"Basismaterial!B15","v":"Stück"},0,null,null,null,"Stück",0,null,null,true,{"$f":"IF($X$9=2,IF(Übersicht_Summary!$J114=0,TRUE,AND(L80>0,M80>0)),TRUE)","v":true},{"$f":"IF($X$9=3,IF(Übersicht_Summary!$J114=0,TRUE,AND(Q80>0,R80>0)),TRUE)","v":true}]
[]
[null,null,null,null,null,null,null,null,null,null,null,null,null,null,null,null,null,null,null,null,null,null,null,null,{"$f":"COUNTIF($W$16:$Y$80,FALSE)","v":0}]
[]
[null,{"$f":"gettext(\"F9\",Sprache!$D$1)","v":"Stundensatz für Montagearbeiten"}]
[]
[null,null,null,null,null,null,null,null,null,null,null,{"$f":"gettext(\"F11\",Sprache!$D$1)","v":"Stundensatz"}]
[]
[]
[null,{"$f":"gettext(\"F9\",Sprache!$D$1)","v":"Stundensatz für Montagearbeiten"},null,null,null,null,null,null,null,null,null,null,"EUR/ h",null,null,null,null,null,null,null,null,null,false,{"$f":"IF(W89=TRUE,AND(L89>0,NOT(L89=\"\")),TRUE)","v":true},{"$f":"X89=TRUE","v":true}]
[]
[]
[null,{"$f":"IF(Preise_Prices!$Y$89=FALSE,gettext(\"F12\",Sprache!$D$1),\"\")","v":""}]
[null,{"$f":"IF(Preise_Prices!$Y$89=FALSE,gettext(\"F15\",Sprache!$D$1),\"\")","v":""}]
[null,{"$f":"IF(Preise_Prices!$Y$89=FALSE,gettext(\"F16\",Sprache!$D$1),\"\")","v":""}]

{"sheet":"Übersicht_Summary","index":11,"n_rows":114,"n_cols":43,"rows_kept":114,"cut":false,"hidden":false,"merged":[[43,2,46,2],[48,3,48,5],[33,2,34,2],[18,14,27,14],[18,11,27,11],[18,16,27,16],[18,15,27,15],[18,12,27,12],[18,13,27,13],[36,2,39,2],[18,22,27,22],[18,20,27,20],[18,17,27,17],[18,19,27,19],[18,18,27,18],[18,21,27,21],[12,2,12,3],[18,9,27,9],[14,2,14,3],[16,2,16,3],[12,4,12,7],[14,4,14,7],[18,2,18,3],[18,27,27,27],[18,28,27,28],[18,39,27,39],[18,23,27,23],[18,24,27,24],[18,25,27,25],[18,26,27,26],[18,29,27,29],[18,30,27,30],[18,31,27,31],[18,32,27,32],[18,40,27,40],[18,37,27,37],[18,38,27,38],[18,33,27,33],[18,34,27,34],[18,35,27,35],[18,36,27,36]]}
[null,null,null,null,null,null,null,null,null,null,null,1,2,3,4,5,6,7,8,9,10,11,12,13,14,15,16,17,18,19,20,21,22,23,24,25,26,27,28,29,30]
[null,null,null,13,null,null,null,null,null,null,null,{"$f":"getsheet(L1,\"T1=Projekt :\",$D$2)","v":"Not found"},{"$f":"getsheet(M1,\"T1=Projekt :\",$D$2)","v":"Not found"},"Not found","Not found","Not found","Not found","Not found","Not found","Not found","Not found","Not found","Not found","Not found","Not found","Not found","Not found","Not found","Not found","Not found","Not found","Not found","Not found","Not found","Not found","Not found","Not found","Not found","Not found","Not found","Not found"]
[]
[]
[null,"X28",null,null,"Fehlerhafte Wandtypen ?",null,null,null,null,{"$f":"COUNTIF($L$5:$AO$5,FALSE)","v":0},null,{"$f":"IF(L$2<>\"Not Found\",INDIRECT(CONCATENATE(\"'\",L$2,\"'\",\"!\",$B5)),0)","v":0},{"$f":"IF(M$2<>\"Not Found\",INDIRECT(CONCATENATE(\"'\",M$2,\"'\",\"!\",$B5)),0)","v":0},0,0,0,0,0,0,0,0,0,0,0,0,0,0,0,0,0,0,0,0,0,0,0,0,0,0,0,0]
[null,"W111",null,null,"Verzicht auf Beplankung ?",null,null,null,null,{"$f":"COUNTIF($L$6:$AO$6,TRUE)","v":0},null,{"$f":"IF(L$2<>\"Not Found\",INDIRECT(CONCATENATE(\"'\",L$2,\"'\",\"!\",$B6)),0)","v":0},0,0,0,0,0,0,0,0,0,0,0,0,0,0,0,0,0,0,0,0,0,0,0,0,0,0,0,0,0]
[null,null,{"$f":"IF(OR(Preise_Prices!$Y$82>0,Preise_Prices!$Y$89=FALSE,J5>0),gettext(\"F12\",Sprache!$D$1),\"\")","v":""}]
[null,null,{"$f":"IF($J$5>0,gettext(\"H19\",Sprache!$D$1),IF(Preise_Prices!$Y$82>0,gettext(\"F13\",Sprache!$D$1),IF(Preise_Prices!$Y$89=FALSE,gettext(\"F15\",Sprache!$D$1),\"\")))","v":""}]
[null,null,{"$f":"IF($J$5>0,gettext(\"H20\",Sprache!$D$1),IF(Preise_Prices!$Y$82>0,gettext(\"F14\",Sprache!$D$1),IF(Preise_Prices!$Y$89=FALSE,gettext(\"F16\",Sprache!$D$1),\"\")))","v":""}]
[null,null,{"$f":"gettext(\"H21\",Sprache!$D$1)","v":"Für Ausdrucke bitte die Anzahl der benötigten Seiten eingeben (Anzeige über das Menü  Datei > Seitenansicht möglich, Druck über das Menü Datei > Drucken > Druckbereich)."}]
[null,null,{"$f":"gettext(\"H22\",Sprache!$D$1)","v":"Ansonsten werden alle Seiten ausgedruckt (max. 6 Seiten) !"}]
[]
[null,null,{"$f":"Wandtypen_Walltypes!E1","v":"Bauvorhaben / Projekt :"},null,{"$f":"Wandtypen_Walltypes!G1","v":0}]
[]
[null,null,{"$f":"Wandtypen_Walltypes!E2","v":"Sachbearbeiter :"},null,{"$f":"Wandtypen_Walltypes!G2","v":0}]
[]
[null,null,{"$f":"Wandtypen_Walltypes!K1","v":"Projekt-Nr. :"},null,{"$f":"Wandtypen_Walltypes!L1","v":0},null,null,null,null,null,null,{"$f":"IF(L5=FALSE,L2,\"\")","v":""},{"$f":"IF(M5=FALSE,M2,\"\")","v":""},{"$f":"IF(N5=FALSE,N2,\"\")","v":""},"","","","","","","","","","","","","","","","","","","","","","","","","","",""]
[]
[null,null,{"$f":"Wandtypen_Walltypes!K2","v":"Datum :"},null,{"$f":"Wandtypen_Walltypes!L2","v":"00:00:00"},null,null,null,null,{"$f":"gettext(\"H1\",Sprache!$D$1)","v":"Projekt insgesamt"},null,{"$f":"IF(L$2<>\"Not Found\",INDIRECT(CONCATENATE(\"'\",L$2,\"'\",\"!\",$B28)),0)","v":0},{"$f":"IF(M$2<>\"Not Found\",INDIRECT(CONCATENATE(\"'\",M$2,\"'\",\"!\",$B28)),0)","v":0},0,0,0,0,0,0,0,0,0,0,0,0,0,0,0,0,0,0,0,0,0,0,0,0,0,0,0,0]
[null,null,null,null,null,null,null,null,null,{"$f":"gettext(86,Sprache!$D$1)","v":"Not Found"}]
[null,null,{"$f":"IF($J$6>0,gettext(\"H23\",Sprache!$D$1),\"\")","v":""},null,null,null,null,null,null,{"$f":"gettext(86,Sprache!$D$1)","v":"Not Found"}]
[null,null,{"$f":"IF($J$6>0,gettext(\"H24\",Sprache!$D$1),\"\")","v":""},null,null,null,null,null,null,{"$f":"gettext(86,Sprache!$D$1)","v":"Not Found"}]
[null,null,{"$f":"IF($J$6>0,gettext(\"H25\",Sprache!$D$1),\"\")","v":""},null,null,null,null,null,null,{"$f":"gettext(86,Sprache!$D$1)","v":"Not Found"}]
[null,null,{"$f":"IF($J$6>0,gettext(\"H26\",Sprache!$D$1),\"\")","v":""},null,null,null,null,null,null,{"$f":"gettext(86,Sprache!$D$1)","v":"Not Found"}]
[null,null,{"$f":"IF($J$6>0,gettext(\"H27\",Sprache!$D$1),\"\")","v":""},null,null,null,null,null,null,{"$f":"gettext(86,Sprache!$D$1)","v":"Not Found"}]
[null,null,{"$f":"IF($J$6>0,gettext(\"H28\",Sprache!$D$1),\"\")","v":""},null,null,null,null,null,null,{"$f":"gettext(86,Sprache!$D$1)","v":"Not Found"}]
[null,null,{"$f":"IF($J$6>0,gettext(\"H29\",Sprache!$D$1),\"\")","v":""},null,null,null,null,null,null,{"$f":"gettext(86,Sprache!$D$1)","v":"Not Found"}]
[null,"D6",{"$f":"IF($J$6>0,gettext(\"H30\",Sprache!$D$1),\"\")","v":""},null,null,null,null,null,null,{"$f":"gettext(86,Sprache!$D$1)","v":"Not Found"}]
[]
[null,"V1",{"$f":"gettext(\"H2\",Sprache!$D$1)","v":"Wandtyp"},null,null,null,null,null,null,null,null,{"$f":"IF(L$2<>\"Not Found\",INDIRECT(CONCATENATE(\"'\",L$2,\"'\",\"!\",$B30)),0)","v":0},0,0,0,0,0,0,0,0,0,0,0,0,0,0,0,0,0,0,0,0,0,0,0,0,0,0,0,0,0]
[]
[null,"D8",{"$f":"gettext(\"H31\",Sprache!$D$1)","v":"Anzahl der Wände :"},null,null,null,null,null,null,{"$f":"SUM(L32:AO32)","v":0},null,{"$f":"IF(L$2<>\"Not Found\",INDIRECT(CONCATENATE(\"'\",L$2,\"'\",\"!\",$B32)),0)","v":0},0,0,0,0,0,0,0,0,0,0,0,0,0,0,0,0,0,0,0,0,0,0,0,0,0,0,0,0,0]
[]
[null,"D10",{"$f":"gettext(\"H3\",Sprache!$D$1)","v":"Abmessungen der Wand"},{"$f":"gettext(\"H4\",Sprache!$D$1)","v":"Bauhöhe ab OKFFB (mm) / Schachthöhe"},null,null,null,null,null,null,null,{"$f":"IF(L$2<>\"Not Found\",INDIRECT(CONCATENATE(\"'\",L$2,\"'\",\"!\",$B34)),0)","v":0},0,0,0,0,0,0,0,0,0,0,0,0,0,0,0,0,0,0,0,0,0,0,0,0,0,0,0,0,0]
[null,"D11",null,{"$f":"gettext(\"H5\",Sprache!$D$1)","v":"Wandbreite (mm) / Schachtbreite"},null,null,null,null,null,null,null,{"$f":"IF(L$2<>\"Not Found\",INDIRECT(CONCATENATE(\"'\",L$2,\"'\",\"!\",$B35)),0)","v":0},0,0,0,0,0,0,0,0,0,0,0,0,0,0,0,0,0,0,0,0,0,0,0,0,0,0,0,0,0]
[]
[null,"K109",{"$f":"gettext(\"H6\",Sprache!$D$1)","v":"Montagezeit"},{"$f":"gettext(\"H7\",Sprache!$D$1)","v":"Tragwerk (min)"},null,null,null,null,null,{"$f":"SUM(L37:AO37)","v":0},null,{"$f":"IF(L$2<>\"Not Found\",INDIRECT(CONCATENATE(\"'\",L$2,\"'\",\"!\",$B37)),0)","v":0},{"$f":"IF(M$2<>\"Not Found\",INDIRECT(CONCATENATE(\"'\",M$2,\"'\",\"!\",$B37)),0)","v":0},0,0,0,0,0,0,0,0,0,0,0,0,0,0,0,0,0,0,0,0,0,0,0,0,0,0,0,0]
[null,"K110",null,{"$f":"gettext(\"H8\",Sprache!$D$1)","v":"Elemente und Module (min.)"},null,null,null,null,null,{"$f":"SUM(L38:AO38)","v":0},null,{"$f":"IF(L$2<>\"Not Found\",INDIRECT(CONCATENATE(\"'\",L$2,\"'\",\"!\",$B38)),0)","v":0},0,0,0,0,0,0,0,0,0,0,0,0,0,0,0,0,0,0,0,0,0,0,0,0,0,0,0,0,0]
[null,"K111",null,{"$f":"gettext(\"H9\",Sprache!$D$1)","v":"Beplankung (min)"},null,null,null,null,null,{"$f":"SUM(L39:AO39)","v":0},null,{"$f":"IF(L$2<>\"Not Found\",INDIRECT(CONCATENATE(\"'\",L$2,\"'\",\"!\",$B39)),0)","v":0},0,0,0,0,0,0,0,0,0,0,0,0,0,0,0,0,0,0,0,0,0,0,0,0,0,0,0,0,0]
[null,null,null,{"$f":"gettext(\"H10\",Sprache!$D$1)","v":"Gesamt (min)"},null,null,null,null,null,{"$f":"SUM(J37:J39)","v":0},null,{"$f":"SUM(L37:L39)","v":0},{"$f":"SUM(M37:M39)","v":0},0,0,0,0,0,0,0,0,0,0,0,0,0,0,0,0,0,0,0,0,0,0,0,0,0,0,0,0]
[]
[null,"W118",{"$f":"gettext(\"H11\",Sprache!$D$1)","v":"Montagekosten"},{"$f":"CONCATENATE(gettext(\"H12\",Sprache!$D$1),Preise_Prices!L89,gettext(\"H13\",Sprache!$D$1))","v":"( Stundensatz = Euro/ h )"},null,null,null,null,null,{"$f":"SUM(L42:AO42)","v":0},null,{"$f":"IF(L$2<>\"Not Found\",INDIRECT(CONCATENATE(\"'\",L$2,\"'\",\"!\",$B42)),0)","v":0},0,0,0,0,0,0,0,0,0,0,0,0,0,0,0,0,0,0,0,0,0,0,0,0,0,0,0,0,0]
[]
[null,"K116",{"$f":"gettext(\"H14\",Sprache!$D$1)","v":"Materialkosten"},{"$f":"gettext(\"H15\",Sprache!$D$1)","v":"Tragwerk"},null,null,null,null,null,{"$f":"SUM(L44:AO44)","v":0},null,{"$f":"IF(L$2<>\"Not Found\",INDIRECT(CONCATENATE(\"'\",L$2,\"'\",\"!\",$B44)),0)","v":0},0,0,0,0,0,0,0,0,0,0,0,0,0,0,0,0,0,0,0,0,0,0,0,0,0,0,0,0,0]
[null,"K117",null,{"$f":"gettext(\"H16\",Sprache!$D$1)","v":"Elemente und Module"},null,null,null,null,null,{"$f":"SUM(L45:AO45)","v":0},null,{"$f":"IF(L$2<>\"Not Found\",INDIRECT(CONCATENATE(\"'\",L$2,\"'\",\"!\",$B45)),0)","v":0},0,0,0,0,0,0,0,0,0,0,0,0,0,0,0,0,0,0,0,0,0,0,0,0,0,0,0,0,0]
[null,"K118",null,{"$f":"gettext(\"H17\",Sprache!$D$1)","v":"Beplankung"},null,null,null,null,null,{"$f":"SUM(L46:AO46)","v":0},null,{"$f":"IF(L$2<>\"Not Found\",INDIRECT(CONCATENATE(\"'\",L$2,\"'\",\"!\",$B46)),0)","v":0},0,0,0,0,0,0,0,0,0,0,0,0,0,0,0,0,0,0,0,0,0,0,0,0,0,0,0,0,0]
[null,null,null,{"$f":"gettext(\"H18\",Sprache!$D$1)","v":"Gesamt"},null,null,null,null,null,{"$f":"SUM(J44:J46)","v":0},null,{"$f":"SUM(L44:L46)","v":0},{"$f":"SUM(M44:M46)","v":0},0,0,0,0,0,0,0,0,0,0,0,0,0,0,0,0,0,0,0,0,0,0,0,0,0,0,0,0]
[null,null,{"$f":"gettext(\"G55\",Sprache!$D$1)&CHOOSE(Preise_Prices!$X$9,Preise_Prices!C3,Preise_Prices!C4,Preise_Prices!C5)&gettext(\"G56\",Sprache!$D$1)","v":"* Kosten auf Basis ohne Preise kalkulieren, siehe \"Preise_Prices\""}]
[null,null,{"$f":"WT!B35","v":"Artikel-Nr."},{"$f":"WT!C35","v":"Bezeichnung"}]
[]
[null,"K37",{"$f":"WT!B37","v":"WC-Elemente"}]
[null,"K38",{"$f":"WT!B38","v":"90.745.00..T000"},{"$f":"gettext(CONCATENATE(C52,\"_1\"),Sprache!$D$1)","v":"INEO FRONTOP WC, kl. RÖ, v./o., BH 820"},null,null,null,{"$f":"WT!L38","v":"Stück"},null,{"$f":"SUM(L52:AO52)","v":0},null,{"$f":"IF(L$2<>\"Not Found\",INDIRECT(CONCATENATE(\"'\",L$2,\"'\",\"!\",$B52)),0)","v":0},0,0,0,0,0,0,0,0,0,0,0,0,0,0,0,{"$f":"IF(AB$2<>\"Not Found\",INDIRECT(CONCATENATE(\"'\",AB$2,\"'\",\"!\",$B52)),0)","v":0},0,0,0,0,0,0,0,0,0,0,0,0,0,null,{"$f":"J52","v":0}]
[null,"K39",{"$f":"WT!B39","v":"90.738.00..T000"},{"$f":"gettext(CONCATENATE(C53,\"_1\"),Sprache!$D$1)","v":"INEO FRONTOP WC, kl. RÖ, v./o., BH 985"},null,null,null,{"$f":"WT!L39","v":"Stück"},null,{"$f":"SUM(L53:AO53)","v":0},null,0,0,0,0,0,0,0,0,0,0,0,0,0,0,0,0,0,0,0,0,0,0,0,0,0,0,0,0,0,0,null,{"$f":"J53","v":0}]
[null,"K40",{"$f":"WT!B40","v":"90.743.00..T000"},{"$f":"gettext(CONCATENATE(C54,\"_1\"),Sprache!$D$1)","v":"INEO PLUS WC-El., BH 1120 , B=450"},null,null,null,{"$f":"WT!L40","v":"Stück"},null,0,null,0,0,0,0,0,0,0,0,0,0,0,0,0,0,0,0,0,0,0,0,0,0,0,0,0,0,0,0,0,0,null,0]
[null,"K41",{"$f":"WT!B41","v":"90.735.00..T000"},{"$f":"gettext(CONCATENATE(C55,\"_1\"),Sprache!$D$1)","v":"INEO WC-El.,  f. Stand-/Kinder-WC, BH 1185"},null,null,null,{"$f":"WT!L41","v":"Stück"},null,0,null,0,0,0,0,0,0,0,0,0,0,0,0,0,0,0,0,{"$f":"IF(AB$2<>\"Not Found\",INDIRECT(CONCATENATE(\"'\",AB$2,\"'\",\"!\",$B55)),0)","v":0},{"$f":"IF(AC$2<>\"Not Found\",INDIRECT(CONCATENATE(\"'\",AC$2,\"'\",\"!\",$B55)),0)","v":0},0,0,0,0,0,0,0,0,0,0,0,0,null,0]
[null,"K42",{"$f":"WT!B42","v":"Waschtisch- und Ausgussbecken-Elemente"}]
[null,"K43",{"$f":"WT!B43","v":"90.672.00..T000"},{"$f":"gettext(CONCATENATE(C57,\"_1\"),Sprache!$D$1)","v":"INEO WT f. Einlocharm., BH 820"},null,null,null,{"$f":"WT!L43","v":"Stück"},null,{"$f":"SUM(L57:AO57)","v":0},null,{"$f":"IF(L$2<>\"Not Found\",INDIRECT(CONCATENATE(\"'\",L$2,\"'\",\"!\",$B57)),0)","v":0},{"$f":"IF(M$2<>\"Not Found\",INDIRECT(CONCATENATE(\"'\",M$2,\"'\",\"!\",$B57)),0)","v":0},0,0,0,0,0,0,0,0,0,0,0,0,0,0,{"$f":"IF(AB$2<>\"Not Found\",INDIRECT(CONCATENATE(\"'\",AB$2,\"'\",\"!\",$B57)),0)","v":0},0,0,0,0,0,0,0,0,0,0,0,0,0,null,{"$f":"J57","v":0}]
[null,"K44",{"$f":"WT!B44","v":"90.669.00..T000"},{"$f":"gettext(CONCATENATE(C58,\"_1\"),Sprache!$D$1)","v":"INEO WT f. Einlocharm, BH 985"},null,null,null,{"$f":"WT!L44","v":"Stück"},null,{"$f":"SUM(L58:AO58)","v":0},null,0,0,0,0,0,0,0,0,0,0,0,0,0,0,0,0,0,0,0,0,0,0,0,0,0,0,0,0,0,0,null,{"$f":"J58","v":0}]
[null,"K45",{"$f":"WT!B45","v":"90.696.00..T000"},{"$f":"gettext(CONCATENATE(C59,\"_1\"),Sprache!$D$1)","v":"INEO WT f. Einlocharm, BH 1120"},null,null,null,{"$f":"WT!L45","v":"Stück"},null,0,null,0,0,0,0,0,0,0,0,0,0,0,0,0,0,0,0,0,0,0,0,0,0,0,0,0,0,0,0,0,0,null,0]
[null,"K46",{"$f":"WT!B46","v":"90.671.00..T000"},{"$f":"gettext(CONCATENATE(C60,\"_1\"),Sprache!$D$1)","v":"INEO WT f. AP-Wandarm., BH 1120 - 1185"},null,null,null,{"$f":"WT!L46","v":"Stück"},null,0,null,0,0,0,0,0,0,0,0,0,0,0,0,0,0,0,0,0,0,0,0,0,0,0,0,0,0,0,0,0,0,null,0]
[null,"K47",{"$f":"WT!B47","v":"90.677.00..T000"},{"$f":"gettext(CONCATENATE(C61,\"_1\"),Sprache!$D$1)","v":"INEO Ausg.-El. für Wandarm., BH 1120-1185"},null,null,null,{"$f":"WT!L47","v":"Stück"},null,0,null,0,0,0,0,0,0,0,0,0,0,0,0,0,0,0,0,0,0,0,0,0,0,0,0,0,0,0,0,0,0,null,0]
[null,"K48",{"$f":"WT!B48","v":"90.691.00..T000"},{"$f":"gettext(CONCATENATE(C62,\"_1\"),Sprache!$D$1)","v":"INEO WT f.Einlocharm., Wasserz., BH 985"},null,null,null,{"$f":"WT!L48","v":"Stück"},null,0,null,0,0,0,0,0,0,0,0,0,0,0,0,0,0,0,0,0,0,0,0,0,0,0,0,0,0,0,0,0,0,null,0]
[null,"K49",{"$f":"WT!B49","v":"90.687.00..T000"},{"$f":"gettext(CONCATENATE(C63,\"_1\"),Sprache!$D$1)","v":"INEO WT f.Einlocharm., Wasserz., BH 1120"},null,null,null,{"$f":"WT!L49","v":"Stück"},null,0,null,0,0,0,0,0,0,0,0,0,0,0,0,0,0,0,0,0,0,0,0,0,0,0,0,0,0,0,0,0,0,null,0]
[null,"K50",{"$f":"WT!B50","v":"90.689.00..T000"},{"$f":"gettext(CONCATENATE(C64,\"_1\"),Sprache!$D$1)","v":"INEO WT f. Einlocharm., Durchlauferh., BH 1120"},null,null,null,{"$f":"WT!L50","v":"Stück"},null,0,null,0,0,0,0,0,0,0,0,0,0,0,0,0,0,0,0,0,0,0,0,0,0,0,0,0,0,0,0,0,0,null,0]
[null,"K51",{"$f":"WT!B51","v":"90.688.00..T000"},{"$f":"gettext(CONCATENATE(C65,\"_1\"),Sprache!$D$1)","v":"INEO LINNUM  Leer-Element, BH 1120"},null,null,null,{"$f":"WT!L51","v":"Stück"},null,0,null,0,0,0,0,0,0,0,0,0,0,0,0,0,0,0,0,0,0,0,0,0,0,0,0,0,0,0,0,0,0,null,0]
[null,"K52",{"$f":"WT!B52","v":"90.659.00..0000"},{"$f":"gettext(CONCATENATE(C66,\"_1\"),Sprache!$D$1)","v":"INEO-El. für Ausguss \"Publica\", BH 1530"},null,null,null,{"$f":"WT!L52","v":"Stück"},null,0,null,0,{"$f":"IF(M$2<>\"Not Found\",INDIRECT(CONCATENATE(\"'\",M$2,\"'\",\"!\",$B66)),0)","v":0},0,0,0,0,0,0,0,0,0,0,0,0,0,0,0,0,0,0,0,0,0,0,0,0,0,0,0,0,null,0]
[null,"K53",{"$f":"WT!B53","v":"Bidet- und Urinal-Elemente"}]
[null,"K54",{"$f":"WT!B54","v":"90.663.00..T000"},{"$f":"gettext(CONCATENATE(C68,\"_1\"),Sprache!$D$1)","v":"INEO Bidet, BH 820"},null,null,null,{"$f":"WT!L54","v":"Stück"},null,{"$f":"SUM(L68:AO68)","v":0},null,{"$f":"IF(L$2<>\"Not Found\",INDIRECT(CONCATENATE(\"'\",L$2,\"'\",\"!\",$B68)),0)","v":0},{"$f":"IF(M$2<>\"Not Found\",INDIRECT(CONCATENATE(\"'\",M$2,\"'\",\"!\",$B68)),0)","v":0},0,0,0,0,0,0,0,0,0,0,0,0,0,0,0,0,0,0,0,0,0,0,0,0,0,0,0,0,null,{"$f":"J68","v":0}]
[null,"K55",{"$f":"WT!B55","v":"90.662.00..T000"},{"$f":"gettext(CONCATENATE(C69,\"_1\"),Sprache!$D$1)","v":"INEO Bidget, BH 985"},null,null,null,{"$f":"WT!L55","v":"Stück"},null,{"$f":"SUM(L69:AO69)","v":0},null,0,0,0,0,0,0,0,0,0,0,0,0,0,0,0,0,0,0,0,0,0,0,0,0,0,0,0,0,0,0,null,{"$f":"J69","v":0}]
[null,"K56",{"$f":"WT!B56","v":"90.676.00..T000"},{"$f":"gettext(CONCATENATE(C70,\"_1\"),Sprache!$D$1)","v":"INEO Bidet, BH 1120"},null,null,null,{"$f":"WT!L56","v":"Stück"},null,0,null,0,0,0,0,0,0,0,0,0,0,0,0,0,0,0,0,0,0,0,0,0,0,0,0,0,0,0,0,0,0,null,0]
[null,"K57",{"$f":"WT!B57","v":"90.668.00..T000"},{"$f":"gettext(CONCATENATE(C71,\"_1\"),Sprache!$D$1)","v":"INEO Urinal, BH 1120 - 1185"},null,null,null,{"$f":"WT!L57","v":"Stück"},null,0,null,0,0,0,0,0,0,0,{"$f":"IF(S$2<>\"Not Found\",INDIRECT(CONCATENATE(\"'\",S$2,\"'\",\"!\",$B71)),0)","v":0},0,0,0,0,0,0,0,0,0,0,0,0,0,0,0,{"$f":"IF(AI$2<>\"Not Found\",INDIRECT(CONCATENATE(\"'\",AI$2,\"'\",\"!\",$B71)),0)","v":0},0,0,0,0,0,0,null,0]
[null,"K58",{"$f":"WT!B58","v":"90.675.00..T000"},{"$f":"gettext(CONCATENATE(C72,\"_1\"),Sprache!$D$1)","v":"INEO Urinal AP-Druckspül. BH 1120-1185"},null,null,null,{"$f":"WT!L58","v":"Stück"},null,0,null,0,0,0,0,0,0,0,0,0,0,0,0,0,0,0,0,0,0,0,0,0,0,0,0,0,0,0,0,0,0,null,0]
[null,"K59",{"$f":"WT!B59","v":"Bade-und Brausewannen"},null,null,null,null,null,null,0,null,0,0,0,0,0,0,0,0,0,0,0,0,0,0,0,0,0,0,0,0,0,0,0,0,0,0,0,0,0,0,null,0]
[null,"K60",{"$f":"WT!B60","v":"90.681.00..T000"},{"$f":"gettext(CONCATENATE(C74,\"_1\"),Sprache!$D$1)","v":"INEO BW-Element AP"},null,null,null,{"$f":"WT!L60","v":"Stück"},null,0,null,0,0,0,0,0,0,0,0,0,0,0,0,0,0,0,0,0,0,0,0,0,0,0,0,0,0,0,0,0,0,null,0]
[null,"K61",{"$f":"WT!B61","v":"90.682.00..T000"},{"$f":"gettext(CONCATENATE(C75,\"_1\"),Sprache!$D$1)","v":"INEO BW-Element UP"},null,null,null,{"$f":"WT!L61","v":"Stück"},null,0,null,0,0,0,0,0,0,0,0,0,0,0,0,0,0,0,0,0,0,0,0,0,0,0,0,0,0,0,0,0,0,null,0]
[null,"K62",{"$f":"WT!B62","v":"Waschtisch- und Urinal-Module (Sanitärfunktion ohne Trockenbaurahmen)"}]
[null,"K63",{"$f":"WT!B63","v":"17.276.00..0000"},{"$f":"gettext(CONCATENATE(C77,\"_1\"),Sprache!$D$1)","v":"WT für Einloch- und AP-Wandarmaturen"},null,null,null,{"$f":"WT!L63","v":"Stück"},null,{"$f":"SUM(L77:AO77)","v":0},null,{"$f":"IF(L$2<>\"Not Found\",INDIRECT(CONCATENATE(\"'\",L$2,\"'\",\"!\",$B77)),0)","v":0},0,0,0,0,0,0,0,0,0,0,0,0,0,0,0,{"$f":"IF(AB$2<>\"Not Found\",INDIRECT(CONCATENATE(\"'\",AB$2,\"'\",\"!\",$B77)),0)","v":0},0,0,0,0,0,0,0,0,0,0,0,0,0,null,{"$f":"J77","v":0}]
[null,"K64",{"$f":"WT!B64","v":"17.286.00..0000"},{"$f":"gettext(CONCATENATE(C78,\"_1\"),Sprache!$D$1)","v":"Waschtisch-Modul für Einlocharmaturen"},null,null,null,{"$f":"WT!L64","v":"Stück"},null,{"$f":"SUM(L78:AO78)","v":0},null,{"$f":"IF(L$2<>\"Not Found\",INDIRECT(CONCATENATE(\"'\",L$2,\"'\",\"!\",$B78)),0)","v":0},0,0,0,0,0,0,0,0,0,0,0,0,0,0,0,0,0,0,0,0,0,0,0,0,0,0,0,0,0,null,{"$f":"J78","v":0}]
[null,"K65",{"$f":"WT!B65","v":"03.877.00..0000"},{"$f":"gettext(CONCATENATE(C79,\"_1\"),Sprache!$D$1)","v":"Modul für WT und Ausgussb. mit AP-Armatur"},null,null,null,{"$f":"WT!L65","v":"Stück"},null,{"$f":"SUM(L79:AO79)","v":0},null,{"$f":"IF(L$2<>\"Not Found\",INDIRECT(CONCATENATE(\"'\",L$2,\"'\",\"!\",$B79)),0)","v":0},0,0,0,0,0,0,0,0,0,0,0,0,0,0,0,0,0,0,0,0,0,0,0,0,0,0,0,0,0,null,{"$f":"J79","v":0}]
[null,"K66",{"$f":"WT!B66","v":"Weitere Module (Sanitärfunktion ohne Trockenbaurahmen) & Zubehör"}]
[null,"K67",{"$f":"WT!B67","v":"17.268.00..0000"},{"$f":"gettext(CONCATENATE(C81,\"_1\"),Sprache!$D$1)","v":"Modul für UP- oder AP-Armaturen"},null,null,null,{"$f":"WT!L67","v":"Stück"},null,{"$f":"SUM(L81:AO81)","v":0},null,{"$f":"IF(L$2<>\"Not Found\",INDIRECT(CONCATENATE(\"'\",L$2,\"'\",\"!\",$B81)),0)","v":0},0,0,0,0,0,0,0,0,0,0,0,0,0,0,0,{"$f":"IF(AB$2<>\"Not Found\",INDIRECT(CONCATENATE(\"'\",AB$2,\"'\",\"!\",$B81)),0)","v":0},0,0,0,0,0,0,0,0,0,0,0,0,0,null,{"$f":"J81","v":0}]
[null,"K68",{"$f":"WT!B68","v":"17.287.00..0000"},{"$f":"gettext(CONCATENATE(C82,\"_1\"),Sprache!$D$1)","v":"Modul für UP- oder AP-Armaturen"},null,null,null,{"$f":"WT!L68","v":"Stück"},null,{"$f":"SUM(L82:AO82)","v":0},null,0,0,0,0,0,0,0,0,0,0,0,0,0,0,0,0,0,0,0,0,0,0,0,0,0,0,0,0,0,0,null,{"$f":"J82","v":0}]
[null,"K69",{"$f":"WT!B69","v":"17.275.00..0000"},{"$f":"gettext(CONCATENATE(C83,\"_1\"),Sprache!$D$1)","v":"Modul für Aufputzwandbatterien"},null,null,null,{"$f":"WT!L69","v":"Stück"},null,0,null,0,0,0,0,0,0,0,0,0,0,0,0,0,0,0,0,0,0,0,0,0,0,0,0,0,0,0,0,0,0,null,0]
[null,"K70",{"$f":"WT!B70","v":"17.282.00..0000"},{"$f":"gettext(CONCATENATE(C84,\"_1\"),Sprache!$D$1)","v":"Modul für Waschmaschinenanschluss"},null,null,null,{"$f":"WT!L70","v":"Stück"},null,0,null,0,0,0,0,0,0,0,0,0,0,0,0,0,0,0,0,0,0,0,0,0,0,0,0,0,0,0,0,0,0,null,0]
[null,"K71",{"$f":"WT!B71","v":"17.216.00..0000"},{"$f":"gettext(CONCATENATE(C85,\"_1\"),Sprache!$D$1)","v":"Befestigungsmodul f. schwere Gegenstände"},null,null,null,{"$f":"WT!L71","v":"Stück"},null,0,null,0,0,0,0,0,0,0,0,0,0,0,0,0,0,0,0,0,0,0,0,0,0,0,0,0,0,0,0,0,0,null,0]
[null,"K72",{"$f":"WT!B72","v":"17.280.00..0000"},{"$f":"gettext(CONCATENATE(C86,\"_1\"),Sprache!$D$1)","v":"Befestigungsmodul für Küchenanschlüsse"},null,null,null,{"$f":"WT!L72","v":"Stück"},null,0,null,0,0,0,0,0,0,0,0,0,0,0,0,0,0,0,0,0,0,0,0,0,0,0,0,0,0,0,0,0,0,null,0]
[null,"K73",{"$f":"WT!B73","v":"17.239.00..0000"},{"$f":"gettext(CONCATENATE(C87,\"_1\"),Sprache!$D$1)","v":"Modul für Sitzbefestigung"},null,null,null,{"$f":"WT!L73","v":"Stück"},null,0,null,0,0,0,0,0,0,0,0,0,0,0,0,0,0,0,0,0,0,0,0,0,0,0,0,0,0,0,0,0,0,null,0]
[null,"K74",{"$f":"WT!B74","v":"17.281.00..0000"},{"$f":"gettext(CONCATENATE(C88,\"_1\"),Sprache!$D$1)","v":"Modul für Wandscheiben"},null,null,null,{"$f":"WT!L74","v":"Stück"},null,0,null,0,0,0,0,0,0,0,0,0,0,0,0,0,0,0,0,0,0,0,0,0,0,0,0,0,0,0,0,{"$f":"IF(AN$2<>\"Not Found\",INDIRECT(CONCATENATE(\"'\",AN$2,\"'\",\"!\",$B88)),0)","v":0},0,null,0]
[null,"K75",{"$f":"WT!B75","v":"05.132.00..0000"},{"$f":"gettext(CONCATENATE(C89,\"_1\"),Sprache!$D$1)","v":"Dachschrägen-Anschluss"},null,null,null,{"$f":"WT!L75","v":"Stück"},null,{"$f":"SUM(L89:AO89)","v":0},null,0,0,0,0,0,0,0,0,0,0,0,0,0,0,0,0,0,0,0,0,0,0,0,0,0,0,0,0,0,0,null,{"$f":"J89","v":0}]
[null,"K76",{"$f":"WT!B76","v":"05.201.00..0000"},{"$f":"gettext(CONCATENATE(C90,\"_1\"),Sprache!$D$1)","v":"Rohrschellenbefestigung"},null,null,null,{"$f":"WT!L76","v":"Stück"},null,0,null,0,0,0,0,0,0,0,0,0,0,0,0,0,0,0,0,0,0,0,0,0,0,0,0,0,0,0,0,0,0,null,0]
[null,"K77",{"$f":"WT!B77","v":"barrierefreie Elemente und Module"}]
[null,"K78",{"$f":"WT!B78","v":"90.685.00..T000"},{"$f":"gettext(CONCATENATE(C92,\"_1\"),Sprache!$D$1)","v":"INEO WT f. Einlocharm., behinderteng. BH 820"},null,null,null,{"$f":"WT!L78","v":"Stück"},null,{"$f":"SUM(L92:AO92)","v":0},null,{"$f":"IF(L$2<>\"Not Found\",INDIRECT(CONCATENATE(\"'\",L$2,\"'\",\"!\",$B92)),0)","v":0},0,0,0,0,0,0,0,0,0,0,0,0,0,0,0,0,0,0,0,0,0,0,0,0,0,0,0,0,0,null,{"$f":"J92","v":0}]
[null,"K79",{"$f":"WT!B79","v":"90.673.00..T000"},{"$f":"gettext(CONCATENATE(C93,\"_1\"),Sprache!$D$1)","v":"INEO WT f. Einlocharm, behindg. BH 1120 - 1185"},null,null,null,{"$f":"WT!L79","v":"Stück"},null,{"$f":"SUM(L93:AO93)","v":0},null,0,0,0,0,0,0,0,0,0,0,0,0,0,0,0,0,0,0,0,0,0,0,0,0,0,0,0,0,0,0,null,{"$f":"J93","v":0}]
[null,"K80",{"$f":"WT!B80","v":"90.744.00..T000"},{"$f":"gettext(CONCATENATE(C94,\"_1\"),Sprache!$D$1)","v":"INEO PLUS WC-El., behindg., BH 1120"},null,null,null,{"$f":"WT!L80","v":"Stück"},null,0,null,0,0,0,0,0,0,0,0,0,0,0,0,0,0,0,0,0,0,0,0,0,0,0,0,0,0,0,0,0,0,null,0]
[null,"K81",{"$f":"WT!B81","v":"90.680.00..TR00"},{"$f":"gettext(CONCATENATE(C95,\"_1\"),Sprache!$D$1)","v":"Befestigung. rechts"},null,null,null,{"$f":"WT!L81","v":"Stück"},null,0,null,0,0,0,0,0,0,0,0,0,0,0,0,0,0,0,0,0,0,0,0,0,0,0,0,0,0,0,0,0,0,null,0]
[null,"K82",{"$f":"WT!B82","v":"90.680.00..TL00"},{"$f":"gettext(CONCATENATE(C96,\"_1\"),Sprache!$D$1)","v":"Befestigung. links"},null,null,null,{"$f":"WT!L82","v":"Stück"},null,0,null,0,0,0,0,0,0,0,0,0,0,0,0,0,0,0,0,0,0,0,0,0,0,0,0,0,0,0,0,0,0,null,0]
[null,"K83",{"$f":"WT!B83","v":"17.288.00..0000"},{"$f":"gettext(CONCATENATE(C97,\"_1\"),Sprache!$D$1)","v":"Waschtisch-Modul behindertengerecht"},null,null,null,{"$f":"WT!L83","v":"Stück"},null,0,null,0,0,0,0,0,0,0,0,0,0,0,0,0,0,0,0,0,0,0,0,0,0,0,0,0,0,0,0,0,0,null,0]
[null,"K84",{"$f":"WT!B84","v":"17.279.00..0000"},{"$f":"gettext(CONCATENATE(C98,\"_1\"),Sprache!$D$1)","v":"Befestigungsmodul für Griffe"},null,null,null,{"$f":"WT!L84","v":"Stück"},null,0,null,0,0,0,0,0,0,0,0,0,0,0,0,0,0,0,0,0,0,0,0,0,0,0,0,0,0,0,0,0,0,null,0]
[null,"K85",{"$f":"WT!B85","v":"17.289.00..0000"},{"$f":"gettext(CONCATENATE(C99,\"_1\"),Sprache!$D$1)","v":"Befestigungsmodul für Griff- und Haltesysteme"},null,null,null,{"$f":"WT!L85","v":"Stück"},null,0,null,0,0,0,0,0,0,0,0,0,0,0,0,0,0,0,0,0,0,0,0,0,0,0,0,0,0,0,0,0,0,null,0]
[null,null,null,null,null,null,null,null,null,null,null,null,null,null,null,null,null,null,null,null,null,null,null,null,null,null,null,null,null,null,null,null,null,null,null,null,null,null,null,null,null,null,{"$f":"AQ101","v":0}]
[null,"K88",{"$f":"WT!B88","v":"Materialbedarf für Tragwerk und Beplankung"},null,null,null,null,null,null,null,null,null,null,null,null,null,null,null,null,null,null,null,null,null,null,null,null,null,null,null,null,null,null,null,null,null,null,null,null,null,null,null,{"$f":"SUM(AQ102:AQ114)","v":0}]
[null,"K90",{"$f":"WT!B90","v":"02.208.00..0000"},{"$f":"gettext(CONCATENATE(C102,\"_1\"),Sprache!$D$1)","v":"Stab (5m)"},null,null,null,{"$f":"WT!L90","v":"m"},null,{"$f":"SUM(L102:AO102)","v":0},null,{"$f":"IF(L$2<>\"Not Found\",INDIRECT(CONCATENATE(\"'\",L$2,\"'\",\"!\",$B102)),0)","v":0},0,0,0,0,0,0,0,0,0,0,0,0,0,0,0,0,0,0,0,0,0,0,0,0,0,0,0,0,0,null,{"$f":"J102","v":0}]
[null,"K91",{"$f":"WT!B91","v":"02.596.00..0000"},{"$f":"gettext(CONCATENATE(C103,\"_1\"),Sprache!$D$1)","v":"Universalspachtelmasse"},null,null,null,{"$f":"WT!L91","v":"Kg"},null,{"$f":"SUM(L103:AO103)","v":0},null,0,0,0,0,0,0,0,0,0,0,0,0,0,0,0,0,0,0,0,0,0,0,0,0,0,0,0,0,0,0,null,{"$f":"J103","v":0}]
[null,"K92",{"$f":"WT!B92","v":"02.597.00..0000"},{"$f":"gettext(CONCATENATE(C104,\"_1\"),Sprache!$D$1)","v":"Senkkopf-Kreuzschlitzschr."},null,null,null,{"$f":"WT!L92","v":"Stück"},null,0,null,0,0,0,0,0,0,0,0,0,0,0,0,0,0,0,0,0,0,0,0,0,0,0,0,0,0,0,0,0,0,null,0]
[null,"K93",{"$f":"WT!B93","v":"03.332.00..0000"},{"$f":"gettext(CONCATENATE(C105,\"_1\"),Sprache!$D$1)","v":"Eckverbinder"},null,null,null,{"$f":"WT!L93","v":"Stück"},null,0,null,0,0,0,0,0,0,0,0,0,0,0,0,0,0,0,0,0,0,0,0,0,0,0,0,0,0,0,0,0,0,null,0]
[null,"K94",{"$f":"WT!B94","v":"03.333.00..0000"},{"$f":"gettext(CONCATENATE(C106,\"_1\"),Sprache!$D$1)","v":"Modulverbinder"},null,null,null,{"$f":"WT!L94","v":"Stück"},null,0,null,0,0,0,0,0,0,0,0,0,0,0,0,0,0,0,0,0,0,0,0,0,0,0,0,0,0,0,0,0,0,null,0]
[null,"K95",{"$f":"WT!B95","v":"03.346.00..0000"},{"$f":"gettext(CONCATENATE(C107,\"_1\"),Sprache!$D$1)","v":"Trennstreifen"},null,null,null,{"$f":"WT!L95","v":"m"},null,0,null,0,0,0,0,0,0,0,0,0,0,0,0,0,0,0,0,0,0,0,0,0,0,0,0,0,0,0,0,0,0,null,0]
[null,"K96",{"$f":"WT!B96","v":"03.545.00..0000"},{"$f":"gettext(CONCATENATE(C108,\"_1\"),Sprache!$D$1)","v":"Bauwerksanschluss"},null,null,null,{"$f":"WT!L96","v":"Stück"},null,0,null,0,0,0,0,0,0,0,0,0,0,0,0,0,0,0,0,0,0,0,0,0,0,0,0,0,0,0,0,0,0,null,0]
[null,"K97",{"$f":"WT!B97","v":"03.723.00..0000"},{"$f":"gettext(CONCATENATE(C109,\"_1\"),Sprache!$D$1)","v":"Multiverbinder (Tiefe 155-215 mm)"},null,null,null,{"$f":"WT!L97","v":"Stück"},null,0,null,0,0,0,0,0,0,0,0,0,0,0,0,0,0,0,0,0,0,0,0,0,0,0,0,0,0,0,0,0,0,null,0]
[null,"K98",{"$f":"WT!B98","v":"03.723.00..S000"},{"$f":"gettext(CONCATENATE(C110,\"_1\"),Sprache!$D$1)","v":"Multiverbinder (Tiefe 255-315 mm)"},null,null,null,{"$f":"WT!L98","v":"Stück"},null,0,null,0,0,0,0,0,0,0,0,0,0,0,0,0,0,0,{"$f":"IF(AA$2<>\"Not Found\",INDIRECT(CONCATENATE(\"'\",AA$2,\"'\",\"!\",$B110)),0)","v":0},0,0,0,0,0,0,0,0,0,0,0,0,0,0,null,0]
[null,"K99",{"$f":"WT!B99","v":"03.754.00..0000"},{"$f":"gettext(CONCATENATE(C111,\"_1\"),Sprache!$D$1)","v":"Verbindungsset"},null,null,null,{"$f":"WT!L99","v":"Stück"},null,0,null,{"$f":"IF(L$2<>\"Not Found\",INDIRECT(CONCATENATE(\"'\",L$2,\"'\",\"!\",$B111)),0)","v":0},0,0,0,0,0,0,0,0,0,0,0,0,0,0,0,0,0,0,0,0,0,0,0,0,0,0,0,0,0,null,0]
[null,"K100",{"$f":"WT!B100","v":"04.070.00..0000"},{"$f":"gettext(CONCATENATE(C112,\"_1\"),Sprache!$D$1)","v":"Stützfuß"},null,null,null,{"$f":"WT!L100","v":"Stück"},null,0,null,0,0,0,0,0,0,0,0,0,0,0,0,0,0,0,0,0,0,0,0,0,0,0,0,0,0,0,0,0,0,null,0]
[null,"K101",{"$f":"WT!B101","v":"16.032.00..0000"},{"$f":"gettext(CONCATENATE(C113,\"_1\"),Sprache!$D$1)","v":"Schallschutzset zu INEO plus, 996"},null,null,null,{"$f":"WT!L101","v":"Stück"},null,0,null,0,0,0,0,0,0,0,0,0,0,0,0,0,0,0,0,0,0,0,0,0,0,0,0,0,0,0,0,0,0,null,0]
[null,"K102",{"$f":"WT!B102","v":"17.115.00..S000"},{"$f":"gettext(CONCATENATE(C114,\"_1\"),Sprache!$D$1)","v":"GKBI-Universalverkleidungsplatte"},null,null,null,{"$f":"WT!L102","v":"Stück"},null,0,null,0,0,0,0,0,0,0,0,0,0,0,0,0,0,0,0,0,0,0,0,0,0,0,0,0,0,0,0,0,0,null,0]

{"sheet":"Bestellung_Order","index":12,"n_rows":101,"n_cols":17,"rows_kept":101,"cut":false,"hidden":false,"merged":[[13,8,13,11],[8,1,8,3],[8,5,8,6],[9,1,9,3],[10,1,10,3],[5,1,5,3],[5,5,5,6],[6,1,6,3],[7,1,7,3],[31,2,32,9],[10,8,10,11],[11,1,11,3],[11,5,11,6],[11,8,11,11],[17,5,17,6],[26,5,26,6],[20,1,20,3],[20,5,20,6],[12,8,12,11],[31,10,32,10],[14,1,14,3],[14,5,14,6],[31,11,32,11],[21,1,21,3],[22,1,22,3],[23,1,23,3],[23,5,23,6],[24,1,24,3],[31,1,32,1]]}
[null,{"$f":"IF(Übersicht_Summary!$J$5>0,gettext(\"I17\",Sprache!$D$1),\"\")","v":""}]
[null,{"$f":"gettext(\"I1\",Sprache!$D$1)","v":"Bestellung für SANIT Schienensystem 996 für Trockenbau"}]
[]
[]
[null,{"$f":"gettext(\"I2\",Sprache!$D$1)","v":"Firma :"},null,null,null,{"$f":"gettext(\"I3\",Sprache!$D$1)","v":"Kundennummer :"}]
[]
[null,null,null,null,null,null,null,null,{"$f":"gettext(\"I13\",Sprache!$D$1)","v":"*Bitte wenden Sie sich mit Ihrer Bestellung"}]
[null,null,null,null,null,{"$f":"gettext(\"I4\",Sprache!$D$1)","v":"Besteller / Ansprechpartner :"},null,null,{"$f":"gettext(\"I14\",Sprache!$D$1)","v":" an ihren Großhandelspartner !"}]
[]
[null,null,null,null,null,null,null,null,{"$f":"gettext(\"I15\",Sprache!$D$1)","v":"Ihr Großhandelspartner:"}]
[null,null,null,null,null,{"$f":"gettext(\"I5\",Sprache!$D$1)","v":"Telefon :"}]
[]
[]
[null,{"$f":"Wandtypen_Walltypes!E1","v":"Bauvorhaben / Projekt :"},null,null,null,{"$f":"gettext(\"I6\",Sprache!$D$1)","v":"Fax :"}]
[null,{"$f":"Wandtypen_Walltypes!G1","v":0}]
[]
[null,{"$f":"gettext(\"I11\",Sprache!$D$1)","v":"Kommission :"},null,null,null,{"$f":"gettext(\"I7\",Sprache!$D$1)","v":"e-mail :"}]
[]
[]
[null,{"$f":"gettext(\"I12\",Sprache!$D$1)","v":"Lieferanschrift :"},null,null,null,{"$f":"gettext(\"I8\",Sprache!$D$1)","v":"Bestellnummer :"}]
[]
[]
[null,null,null,null,null,{"$f":"gettext(\"I9\",Sprache!$D$1)","v":"Bestelldatum :"}]
[]
[]
[null,null,null,null,null,{"$f":"gettext(\"I10\",Sprache!$D$1)","v":"Terminwunsch Lieferung :"}]
[]
[]
[null,{"$f":"gettext(\"I18\",Sprache!$D$1)","v":"* abweichend von den in dieser Bestellung exakt ausgewiesenen Mengen erfolgt die Auslieferung nur in kompletten Verpackungseinheiten !"}]
[]
[]
[null,{"$f":"WT!B35","v":"Artikel-Nr."},{"$f":"WT!C35","v":"Bezeichnung"},"Artikel-Nr.","Artikel-Nr.","Artikel-Nr.","Artikel-Nr.","Artikel-Nr.","Artikel-Nr.",null,{"$f":"WT!J35","v":"Anzahl"},{"$f":"WT!L35","v":"Einheit"},null,null,"Menge kalkuliert","Mengeneinheit Angebot","Vielfaches Kalk/Angebot"]
[null,"keine Elemente","keine Elemente","keine Elemente","keine Elemente","keine Elemente","keine Elemente","keine Elemente","keine Elemente",null,"Anzahl"]
[null,{"$f":"Einbauten!A3","v":"WC-Elemente"},null,null,null,null,null,null,null,null,null,null,null,null,null,null,0]
[null,{"$f":"Einbauten!A4","v":"90.745.00..T000"},{"$f":"gettext(B35,Sprache!$D$1)","v":"INEO FRONTOP WC-El., kl. RÖ, Betät. v.vorn/oben, BH 820 mm"},null,null,null,null,null,null,null,{"$f":"Q35","v":0},{"$f":"Einbauten!B4","v":"Stück"},null,null,{"$f":"Übersicht_Summary!J52","v":0},1,{"$f":"ROUNDUP(O35/P35,0)","v":0}]
[null,{"$f":"Einbauten!A5","v":"90.738.00..T000"},{"$f":"gettext(B36,Sprache!$D$1)","v":"INEO FRONTOP WC-El., kl. RÖ, Betät. v.vorn/oben, BH 985 mm"},null,null,null,null,null,null,null,{"$f":"Q36","v":0},{"$f":"Einbauten!B5","v":"Stück"},null,null,{"$f":"Übersicht_Summary!J53","v":0},1,{"$f":"ROUNDUP(O36/P36,0)","v":0}]
[null,{"$f":"Einbauten!A6","v":"90.743.00..T000"},{"$f":"gettext(B37,Sprache!$D$1)","v":"INEO PLUS WC-El., kl. RÖ, Betät. v. vorn, BH 1120 mm, Breite 450 mm o. Wandhalter"},null,null,null,null,null,null,null,0,{"$f":"Einbauten!B6","v":"Stück"},null,null,{"$f":"Übersicht_Summary!J54","v":0},1,0]
[null,{"$f":"Einbauten!A7","v":"90.735.00..T000"},{"$f":"gettext(B38,Sprache!$D$1)","v":"INEO WC-El. für Stand-/Kinder-WC, kl. RÖ, Betät. v. vorn, BH 1120 mm"},null,null,null,null,null,null,null,0,{"$f":"Einbauten!B7","v":"Stück"},null,null,{"$f":"Übersicht_Summary!J55","v":0},1,0]
[null,{"$f":"Einbauten!A8","v":"Waschtisch- und Ausgussbecken-Elemente"},null,null,null,null,null,null,null,null,null,null,null,null,null,null,0]
[null,{"$f":"Einbauten!A9","v":"90.672.00..T000"},{"$f":"gettext(B40,Sprache!$D$1)","v":"INEO WT-Element für Einlocharmaturen, BH 820 mm"},null,null,null,null,null,null,null,{"$f":"Q40","v":0},{"$f":"Einbauten!B9","v":"Stück"},null,null,{"$f":"Übersicht_Summary!J57","v":0},1,{"$f":"ROUNDUP(O40/P40,0)","v":0}]
[null,{"$f":"Einbauten!A10","v":"90.669.00..T000"},{"$f":"gettext(B41,Sprache!$D$1)","v":"INEO WT-Element für Einlocharmaturen, BH 985 mm"},null,null,null,null,null,null,null,0,{"$f":"Einbauten!B10","v":"Stück"},null,null,{"$f":"Übersicht_Summary!J58","v":0},1,0]
[null,{"$f":"Einbauten!A11","v":"90.696.00..T000"},{"$f":"gettext(B42,Sprache!$D$1)","v":"INEO WT-Element für Einlocharmaturen, BH 1120 mm"},null,null,null,null,null,null,null,0,{"$f":"Einbauten!B11","v":"Stück"},null,null,{"$f":"Übersicht_Summary!J59","v":0},1,0]
[null,{"$f":"Einbauten!A12","v":"90.671.00..T000"},{"$f":"gettext(B43,Sprache!$D$1)","v":"INEO WT-Element für AP-Wandarmaturen, BH 1120 - 1185 mm"},null,null,null,null,null,null,null,0,{"$f":"Einbauten!B12","v":"Stück"},null,null,{"$f":"Übersicht_Summary!J60","v":0},1,0]
[null,{"$f":"Einbauten!A13","v":"90.677.00..T000"},{"$f":"gettext(B44,Sprache!$D$1)","v":"INEO Ausguss-Element für Wandarmaturen, BH 1120 - 1185 mm"},null,null,null,null,null,null,null,0,{"$f":"Einbauten!B13","v":"Stück"},null,null,{"$f":"Übersicht_Summary!J61","v":0},1,0]
[null,{"$f":"Einbauten!A14","v":"90.691.00..T000"},{"$f":"gettext(B45,Sprache!$D$1)","v":"INEO WT-El. für Einlocharmaturen mit 2 UP-Wasserzählerstrecken, BH 985 mm"},null,null,null,null,null,null,null,0,{"$f":"Einbauten!B14","v":"Stück"},null,null,{"$f":"Übersicht_Summary!J62","v":0},1,0]
[null,{"$f":"Einbauten!A15","v":"90.687.00..T000"},{"$f":"gettext(B46,Sprache!$D$1)","v":"INEO WT-El. für Einlocharmaturen mit 2 UP-Wasserzählerstrecken, BH 1120 mm"},null,null,null,null,null,null,null,0,{"$f":"Einbauten!B15","v":"Stück"},null,null,{"$f":"Übersicht_Summary!J63","v":0},1,0]
[null,{"$f":"Einbauten!A16","v":"90.689.00..T000"},{"$f":"gettext(B47,Sprache!$D$1)","v":"INEO WT-El. für Einlocharmaturen, UP-Montage v. Durchlauferhitzern, BH 1120 mm"},null,null,null,null,null,null,null,0,{"$f":"Einbauten!B16","v":"Stück"},null,null,{"$f":"Übersicht_Summary!J64","v":0},1,0]
[null,{"$f":"Einbauten!A17","v":"90.688.00..T000"},{"$f":"gettext(B48,Sprache!$D$1)","v":"INEO LINNUM  Leer-Element, BH 1120 mm"},null,null,null,null,null,null,null,0,{"$f":"Einbauten!B17","v":"Stück"},null,null,{"$f":"Übersicht_Summary!J65","v":0},1,0]
[null,{"$f":"Einbauten!A18","v":"90.659.00..0000"},{"$f":"gettext(B49,Sprache!$D$1)","v":"INEO-Fäkalausguss-El. für Ausguss \"Publica\", kl. RÖ, Betät. v. vorn, BH 1530 mm"},null,null,null,null,null,null,null,0,{"$f":"Einbauten!B18","v":"Stück"},null,null,{"$f":"Übersicht_Summary!J66","v":0},1,0]
[null,{"$f":"Einbauten!A19","v":"Bidet- und Urinal-Elemente"},null,null,null,null,null,null,null,null,null,null,null,null,null,null,0]
[null,{"$f":"Einbauten!A20","v":"90.663.00..T000"},{"$f":"gettext(B51,Sprache!$D$1)","v":"INEO Bidet-Element, BH 820 mm"},null,null,null,null,null,null,null,{"$f":"Q51","v":0},{"$f":"Einbauten!B20","v":"Stück"},null,null,{"$f":"Übersicht_Summary!J68","v":0},1,{"$f":"ROUNDUP(O51/P51,0)","v":0}]
[null,{"$f":"Einbauten!A21","v":"90.662.00..T000"},{"$f":"gettext(B52,Sprache!$D$1)","v":"INEO Bidet-Element, BH 985 mm"},null,null,null,null,null,null,null,0,{"$f":"Einbauten!B21","v":"Stück"},null,null,{"$f":"Übersicht_Summary!J69","v":0},1,0]
[null,{"$f":"Einbauten!A22","v":"90.676.00..T000"},{"$f":"gettext(B53,Sprache!$D$1)","v":"INEO Bidet-Element, BH 1120 mm"},null,null,null,null,null,null,null,0,{"$f":"Einbauten!B22","v":"Stück"},null,null,{"$f":"Übersicht_Summary!J70","v":0},1,0]
[null,{"$f":"Einbauten!A23","v":"90.668.00..T000"},{"$f":"gettext(B54,Sprache!$D$1)","v":"INEO Urinal-Element, für Urinal-Kartuschenventiltechnik, BH 1120 - 1185 mm"},null,null,null,null,null,null,null,0,{"$f":"Einbauten!B23","v":"Stück"},null,null,{"$f":"Übersicht_Summary!J71","v":0},1,0]
[null,{"$f":"Einbauten!A24","v":"90.675.00..T000"},{"$f":"gettext(B55,Sprache!$D$1)","v":"INEO Urinal-Element für Aufputzdruckspüler, BH 1120 - 1185 mm"},null,null,null,null,null,null,null,0,{"$f":"Einbauten!B24","v":"Stück"},null,null,{"$f":"Übersicht_Summary!J72","v":0},1,0]
[null,{"$f":"Einbauten!A25","v":"Bade-und Brausewannen"},null,null,null,null,null,null,null,null,null,null,null,null,null,null,0]
[null,{"$f":"Einbauten!A26","v":"90.681.00..T000"},{"$f":"gettext(B57,Sprache!$D$1)","v":"INEO BW-Element  für Aufputzwandarmaturen, BH 1120-1185 mm"},null,null,null,null,null,null,null,{"$f":"Q57","v":0},{"$f":"Einbauten!B26","v":"Stück"},null,null,{"$f":"Übersicht_Summary!J74","v":0},1,{"$f":"ROUNDUP(O57/P57,0)","v":0}]
[null,{"$f":"Einbauten!A27","v":"90.682.00..T000"},{"$f":"gettext(B58,Sprache!$D$1)","v":"INEO BW-Element für UP-Armaturen, BH 1120-1185 mm"},null,null,null,null,null,null,null,0,{"$f":"Einbauten!B27","v":"Stück"},null,null,{"$f":"Übersicht_Summary!J75","v":0},1,0]
[null,{"$f":"Einbauten!A28","v":"Waschtisch- und Urinal-Module (Sanitärfunktion ohne Trockenbaurahmen)"},null,null,null,null,null,null,null,null,null,null,null,null,null,null,0]
[null,{"$f":"Einbauten!A29","v":"17.276.00..0000"},{"$f":"gettext(B60,Sprache!$D$1)","v":"WT-Modul für Einloch- und AP-Wandarmaturen"},null,null,null,null,null,null,null,{"$f":"Q60","v":0},{"$f":"Einbauten!B29","v":"Stück"},null,null,{"$f":"Übersicht_Summary!J77","v":0},1,{"$f":"ROUNDUP(O60/P60,0)","v":0}]
[null,{"$f":"Einbauten!A30","v":"17.286.00..0000"},{"$f":"gettext(B61,Sprache!$D$1)","v":"Waschtisch-Modul für Einlocharmaturen"},null,null,null,null,null,null,null,0,{"$f":"Einbauten!B30","v":"Stück"},null,null,{"$f":"Übersicht_Summary!J78","v":0},1,0]
[null,{"$f":"Einbauten!A31","v":"03.877.00..0000"},{"$f":"gettext(B62,Sprache!$D$1)","v":"Modul für Waschtisch und Ausgussbecken mit AP-Armatur"},null,null,null,null,null,null,null,0,{"$f":"Einbauten!B31","v":"Stück"},null,null,{"$f":"Übersicht_Summary!J79","v":0},1,0]
[null,{"$f":"Einbauten!A32","v":"Weitere Module (Sanitärfunktion ohne Trockenbaurahmen) & Zubehör"},null,null,null,null,null,null,null,null,null,null,null,null,null,null,0]
[null,{"$f":"Einbauten!A33","v":"17.268.00..0000"},{"$f":"gettext(B64,Sprache!$D$1)","v":"Modul für UP- oder AP-Armaturen"},null,null,null,null,null,null,null,{"$f":"Q64","v":0},{"$f":"Einbauten!B33","v":"Stück"},null,null,{"$f":"Übersicht_Summary!J81","v":0},1,{"$f":"ROUNDUP(O64/P64,0)","v":0}]
[null,{"$f":"Einbauten!A34","v":"17.287.00..0000"},{"$f":"gettext(B65,Sprache!$D$1)","v":"Modul für UP- oder AP-Armaturen"},null,null,null,null,null,null,null,0,{"$f":"Einbauten!B34","v":"Stück"},null,null,{"$f":"Übersicht_Summary!J82","v":0},1,0]
[null,{"$f":"Einbauten!A35","v":"17.275.00..0000"},{"$f":"gettext(B66,Sprache!$D$1)","v":"Modul für Aufputzwandbatterien"},null,null,null,null,null,null,null,0,{"$f":"Einbauten!B35","v":"Stück"},null,null,{"$f":"Übersicht_Summary!J83","v":0},1,0]
[null,{"$f":"Einbauten!A36","v":"17.282.00..0000"},{"$f":"gettext(B67,Sprache!$D$1)","v":"Modul für Waschmaschinenanschluss"},null,null,null,null,null,null,null,0,{"$f":"Einbauten!B36","v":"Stück"},null,null,{"$f":"Übersicht_Summary!J84","v":0},1,0]
[null,{"$f":"Einbauten!A37","v":"17.216.00..0000"},{"$f":"gettext(B68,Sprache!$D$1)","v":"Befestigungsmodul für schwere Gegenstände, Griffe u.ä."},null,null,null,null,null,null,null,0,{"$f":"Einbauten!B37","v":"Stück"},null,null,{"$f":"Übersicht_Summary!J85","v":0},1,0]
[null,{"$f":"Einbauten!A38","v":"17.280.00..0000"},{"$f":"gettext(B69,Sprache!$D$1)","v":"Befestigungsmodul für Küchenanschlüsse"},null,null,null,null,null,null,null,0,{"$f":"Einbauten!B38","v":"Stück"},null,null,{"$f":"Übersicht_Summary!J86","v":0},1,0]
[null,{"$f":"Einbauten!A39","v":"17.239.00..0000"},{"$f":"gettext(B70,Sprache!$D$1)","v":"Ergänzungsmodul für Sitzbefestigung"},null,null,null,null,null,null,null,0,{"$f":"Einbauten!B39","v":"Stück"},null,null,{"$f":"Übersicht_Summary!J87","v":0},1,0]
[null,{"$f":"Einbauten!A40","v":"17.281.00..0000"},{"$f":"gettext(B71,Sprache!$D$1)","v":"Modul für Wandscheiben"},null,null,null,null,null,null,null,0,{"$f":"Einbauten!B40","v":"Stück"},null,null,{"$f":"Übersicht_Summary!J88","v":0},1,0]
[null,{"$f":"Einbauten!A41","v":"05.132.00..0000"},{"$f":"gettext(B72,Sprache!$D$1)","v":"Dachschrägen-Anschluss"},null,null,null,null,null,null,null,{"$f":"Q72","v":0},{"$f":"Einbauten!B41","v":"Stück"},null,null,{"$f":"Übersicht_Summary!J89","v":0},1,{"$f":"ROUNDUP(O72/P72,0)","v":0}]
[null,{"$f":"Einbauten!A42","v":"05.201.00..0000"},{"$f":"gettext(B73,Sprache!$D$1)","v":"Rohrschellenbefestigung"},null,null,null,null,null,null,null,0,{"$f":"Einbauten!B42","v":"Stück"},null,null,{"$f":"Übersicht_Summary!J90","v":0},1,0]
[null,{"$f":"Einbauten!A43","v":"barrierefreie Elemente und Module"},null,null,null,null,null,null,null,null,null,null,null,null,null,null,0]
[null,{"$f":"Einbauten!A44","v":"90.685.00..T000"},{"$f":"gettext(B75,Sprache!$D$1)","v":"INEO WT-Element für Einlocharmaturen, behinderteng. BH 820 mm"},null,null,null,null,null,null,null,{"$f":"Q75","v":0},{"$f":"Einbauten!B44","v":"Stück"},null,null,{"$f":"Übersicht_Summary!J92","v":0},1,{"$f":"ROUNDUP(O75/P75,0)","v":0}]
[null,{"$f":"Einbauten!A45","v":"90.673.00..T000"},{"$f":"gettext(B76,Sprache!$D$1)","v":"INEO WT-El. für Einloch- o. AP-Wandarmaturen, behinderteng., BH 1120 - 1185 mm"},null,null,null,null,null,null,null,0,{"$f":"Einbauten!B45","v":"Stück"},null,null,{"$f":"Übersicht_Summary!J93","v":0},1,0]
[null,{"$f":"Einbauten!A46","v":"90.744.00..T000"},{"$f":"gettext(B77,Sprache!$D$1)","v":"INEO PLUS WC-El., kl. RÖ, Betät. v. vorn, behindertengerecht, BH 1120 mm"},null,null,null,null,null,null,null,0,{"$f":"Einbauten!B46","v":"Stück"},null,null,{"$f":"Übersicht_Summary!J94","v":0},1,0]
[null,{"$f":"Einbauten!A47","v":"90.680.00..TR00"},{"$f":"gettext(B78,Sprache!$D$1)","v":"Befest.-El. rechts für Griff- u. Haltesysteme, BH 1185 mm"},null,null,null,null,null,null,null,0,{"$f":"Einbauten!B47","v":"Stück"},null,null,{"$f":"Übersicht_Summary!J95","v":0},1,0]
[null,{"$f":"Einbauten!A48","v":"90.680.00..TL00"},{"$f":"gettext(B79,Sprache!$D$1)","v":"Befest.-El. links für Griff- u. Haltesysteme, BH 1185 mm"},null,null,null,null,null,null,null,0,{"$f":"Einbauten!B48","v":"Stück"},null,null,{"$f":"Übersicht_Summary!J96","v":0},1,0]
[null,{"$f":"Einbauten!A49","v":"17.288.00..0000"},{"$f":"gettext(B80,Sprache!$D$1)","v":"Waschtisch-Modul behindertengerecht"},null,null,null,null,null,null,null,0,{"$f":"Einbauten!B49","v":"Stück"},null,null,{"$f":"Übersicht_Summary!J97","v":0},1,0]
[null,{"$f":"Einbauten!A50","v":"17.279.00..0000"},{"$f":"gettext(B81,Sprache!$D$1)","v":"Befestigungsmodul für Griff- und Haltesysteme"},null,null,null,null,null,null,null,0,{"$f":"Einbauten!B50","v":"Stück"},null,null,{"$f":"Übersicht_Summary!J98","v":0},1,0]
[null,{"$f":"Einbauten!A51","v":"17.289.00..0000"},{"$f":"gettext(B82,Sprache!$D$1)","v":"Befestigungs-Modul für Griff- und Haltesysteme"},null,null,null,null,null,null,null,0,{"$f":"Einbauten!B51","v":"Stück"},null,null,{"$f":"Übersicht_Summary!J99","v":0},1,0]
[]
[null,null,null,null,null,null,null,null,null,null,null,null,null,null,null,null,{"$f":"SUM(Q87:Q99)","v":0}]
[null,{"$f":"gettext(\"G28\",Sprache!$D$1)","v":"Materialbedarf für Tragwerk und Beplankung"},null,null,null,null,null,null,null,null,null,null,null,null,null,null,{"$f":"SUM(Q87:Q99)","v":0}]
[null,null,null,null,null,null,null,null,null,null,null,null,null,null,null,null,{"$f":"SUM(Q87:Q99)","v":0}]
[null,{"$f":"Basismaterial!A3","v":"02.208.00..0000"},{"$f":"gettext(B87,Sprache!$D$1)","v":"Stab (5m)"},null,null,null,null,null,null,null,{"$f":"Q87","v":0},{"$f":"Basismaterial!C3","v":"m"},null,null,{"$f":"Übersicht_Summary!J102","v":0},1,{"$f":"ROUNDUP(O87/P87,0)","v":0}]
[null,{"$f":"Basismaterial!A4","v":"02.596.00..0000"},{"$f":"gettext(B88,Sprache!$D$1)","v":"Universalspachtelmasse ( ca. 0,25 Kg/m2 )"},null,null,null,null,null,null,null,{"$f":"Q88","v":0},{"$f":"Basismaterial!C4","v":"Kg"},null,null,{"$f":"Übersicht_Summary!J103","v":0},1,{"$f":"ROUNDUP(O88/P88,0)","v":0}]
[null,{"$f":"Basismaterial!A5","v":"02.597.00..0000"},{"$f":"gettext(B89,Sprache!$D$1)","v":"Senkkopf-Kreuzschlitzschraube zur Verkleidungsplatte"},null,null,null,null,null,null,null,0,{"$f":"Basismaterial!C5","v":"Stück"},null,null,{"$f":"Übersicht_Summary!J104","v":0},1,0]
[null,{"$f":"Basismaterial!A6","v":"03.332.00..0000"},{"$f":"gettext(B90,Sprache!$D$1)","v":"Eckverbinder"},null,null,null,null,null,null,null,0,{"$f":"Basismaterial!C6","v":"Stück"},null,null,{"$f":"Übersicht_Summary!J105","v":0},1,0]
[null,{"$f":"Basismaterial!A7","v":"03.333.00..0000"},{"$f":"gettext(B91,Sprache!$D$1)","v":"Modulverbinder"},null,null,null,null,null,null,null,0,{"$f":"Basismaterial!C7","v":"Stück"},null,null,{"$f":"Übersicht_Summary!J106","v":0},1,0]
[null,{"$f":"Basismaterial!A8","v":"03.346.00..0000"},{"$f":"gettext(B92,Sprache!$D$1)","v":"Trennstreifen für Putzanschluss 20m"},null,null,null,null,null,null,null,0,{"$f":"Basismaterial!C8","v":"m"},null,null,{"$f":"Übersicht_Summary!J107","v":0},1,0]
[null,{"$f":"Basismaterial!A9","v":"03.545.00..0000"},{"$f":"gettext(B93,Sprache!$D$1)","v":"Bauwerksanschluss"},null,null,null,null,null,null,null,0,{"$f":"Basismaterial!C9","v":"Stück"},null,null,{"$f":"Übersicht_Summary!J108","v":0},1,0]
[null,{"$f":"Basismaterial!A10","v":"03.723.00..0000"},{"$f":"gettext(B94,Sprache!$D$1)","v":"Multiverbinder (Tiefe 155-215 mm)"},null,null,null,null,null,null,null,0,{"$f":"Basismaterial!C10","v":"Stück"},null,null,{"$f":"Übersicht_Summary!J109","v":0},1,0]
[null,{"$f":"Basismaterial!A11","v":"03.723.00..S000"},{"$f":"gettext(B95,Sprache!$D$1)","v":"Multiverbinder (Tiefe 255-315 mm)"},null,null,null,null,null,null,null,0,{"$f":"Basismaterial!C11","v":"Stück"},null,null,{"$f":"Übersicht_Summary!J110","v":0},1,0]
[null,{"$f":"Basismaterial!A12","v":"03.754.00..0000"},{"$f":"gettext(B96,Sprache!$D$1)","v":"Verbindungsset für VW-Elemente"},null,null,null,null,null,null,null,0,{"$f":"Basismaterial!C12","v":"Stück"},null,null,{"$f":"Übersicht_Summary!J111","v":0},1,0]
[null,{"$f":"Basismaterial!A13","v":"04.070.00..0000"},{"$f":"gettext(B97,Sprache!$D$1)","v":"Stützfuß für freistehende Wände"},null,null,null,null,null,null,null,0,{"$f":"Basismaterial!C13","v":"Stück"},null,null,{"$f":"Übersicht_Summary!J112","v":0},1,0]
[null,{"$f":"Basismaterial!A14","v":"16.032.00..0000"},{"$f":"gettext(B98,Sprache!$D$1)","v":"Schallschutzset zu INEO plus, 996"},null,null,null,null,null,null,null,0,{"$f":"Basismaterial!C14","v":"Stück"},null,null,{"$f":"Übersicht_Summary!J113","v":0},1,0]
[null,{"$f":"Basismaterial!A15","v":"17.115.00..S000"},{"$f":"gettext(B99,Sprache!$D$1)","v":"GKBI-Universalverkleidungsplatte ( 1300x600x18 mm )"},null,null,null,null,null,null,null,0,{"$f":"Basismaterial!C15","v":"Stück"},null,null,{"$f":"Übersicht_Summary!J114","v":0},1,0]
[]
[null,{"$f":"gettext(\"I16\",Sprache!$D$1)","v":"Zusätze ( z.B. Betätigungsplatten, WC-und Urinal-Steuerungen, etc. ):"}]